{"text_format":"1","workbook":"xlsx","n_sheets":9,"sheets":["OB1 - etapa K20","OB1 - etapa K80","OB1 - etapa K90","celkem","OB1 - etapa K20 - harmonogram","OB1 - etapa K80 - harmonogram","OB1 - etapa K90 - harmonogram","časový harmonogram","finanční plnění - harmonogram"],"not_rendered":{"charts":0,"images":1,"macros":1,"external_links":0,"defined_names":0,"comments":0,"pivot_tables":0},"unopened":[],"bounds":{"document_bytes":16777216,"sheet_cells":100000,"rows_first":2000,"rows_last":500,"rows_between":2000,"halvings":0,"cell_chars":16384,"cell_head_chars":4096},"cells_cut":0,"cells_raw":0,"read":"whole","date_system":"1900"}

{"sheet":"OB1 - etapa K20","index":0,"n_rows":101,"n_cols":8,"rows_kept":101,"cut":false,"hidden":false,"merged":[[74,0,85,0],[95,0,97,7],[1,0,1,7],[10,0,19,0],[33,0,38,0],[26,0,32,0],[20,0,25,0],[62,0,73,0],[3,7,4,7],[3,0,3,1],[39,0,49,0],[50,0,61,0]]}
[]
["Příloha K zadávací dokumentace - cenová nabídka a časový harmonogram"]
[]
["Nabídková cena na dílo OB 1",null,"Množství","Jednotková cena","Cena dodávka ","Cena montáže ","Cena položky","Poznámka"]
["Milníky","Položka","(KS, m, m2)","(EUR / ks bez DPH)","(EUR bez DPH)","(EUR bez DPH)","(EUR bez DPH)"]
["Závazné technické parametry pro OB 6",null,"-","-",null,"-",{"$f":"E6","v":0}]
["Závazné technické parametry pro OB 2",null,"-","-",null,"-",{"$f":"E7","v":0}]
["Závazné technické parametry pro ostatní OB",null,"-","-",null,"-",0]
["Prováděcí dokumentace pro OB 1",null,"-","-",null,"-",{"$f":"E9","v":0}]
[null,"Mezisoučet","-","-",{"$f":"SUM(E6:E9)","v":0},"-",{"$f":"SUM(G6:G9)","v":0}]
["SO 101,SO 106 - Objekt třídírny a rozvodny (dle příloh A1-13)","PS 101 - Příjem dřevní štěpky železnice",null,null,{"$f":"C11*D11","v":0},null,{"$f":"E11+F11","v":0}]
[null,"PS 102 - Příjem dřevní štěpky autodoprava",null,null,{"$f":"C12*D12","v":0},null,{"$f":"E12+F12","v":0}]
[null,"PS 103 - Třídění a úprava dřevní štěpky",null,null,0,null,{"$f":"E13+F13","v":0}]
[null,"PS 104 - Pásová doprava dřevní štěpky",null,null,{"$f":"C14*D14","v":0},null,{"$f":"E14+F14","v":0}]
[null,"PS 106 - Vzduchotechnika hospodářství DŠ, odprášení",null,null,0,null,0]
[null,"PS 107 - Část elektro, hospodářství DŠ",null,null,0,null,0]
[null,"PS 108 - ASŘTP, hospodářství DŠ",null,null,0,null,0]
[null,"Systém automatizovaného vzorkování DŠ - kompletní dodávka",null,null,0,null,0]
[null,"Ostatní",null,null,{"$f":"C19*D19","v":0},null,{"$f":"E19+F19","v":0}]
[null,"Mezisoučet","-","-",{"$f":"SUM(E11:E19)","v":0},{"$f":"SUM(F11:F19)","v":0},{"$f":"SUM(G11:G19)","v":0}]
["SO 103 - Doprava dřevní štěpky z SO 101 do SO 102 (dle příloh A1-13)","PS 104 - Pásová doprava dřevní štěpky",null,null,{"$f":"C21*D21","v":0},null,{"$f":"E21+F21","v":0}]
[null,"PS 106 - Vzduchotechnika hospodářství DŠ, odprášení",null,null,0,null,0]
[null,"PS 107 - Část elektro, hospodářství DŠ",null,null,0,null,0]
[null,"PS 108 - ASŘTP, hospodářství DŠ",null,null,{"$f":"C24*D24","v":0},null,{"$f":"E24+F24","v":0}]
[null,"Ostatní",null,null,0,null,0]
[null,"Mezisoučet","-","-",{"$f":"SUM(E21:E25)","v":0},{"$f":"SUM(F21:F25)","v":0},{"$f":"SUM(G21:G25)","v":0}]
["SO 102 - Technologie skladu DŠ (dle příloh A1-13)","PS 104 - Pásová doprava dřevní štěpky",null,null,0,null,0]
[null,"PS 105 - Technologie skladu dřevní štěpky",null,null,0,null,0]
[null,"PS 106 - Vzduchotechnika hospodářství DŠ, odprášení",null,null,{"$f":"C29*D29","v":0},null,{"$f":"E29+F29","v":0}]
[null,"PS 107 - Část elektro, hospodářství DŠ",null,null,{"$f":"C30*D30","v":0},null,{"$f":"E30+F30","v":0}]
[null,"PS 108 - ASŘTP, hospodářství DŠ",null,null,0,null,0]
[null,"Ostatní",null,null,0,null,0]
[null,"Mezisoučet","-","-",{"$f":"SUM(E27:E32)","v":0},0,{"$f":"SUM(G27:G32)","v":0}]
["SO 104 - Doprava dřevní štěpky do kotelen (K20) (dle příloh A1-13)","PS 104 - Pásová doprava dřevní štěpky",null,null,{"$f":"C34*D34","v":0},null,{"$f":"E34+F34","v":0}]
[null,"PS 106 - Vzduchotechnika hospodářství DŠ, odprášení",null,null,0,null,0]
[null,"PS 107 - Část elektro, hospodářství DŠ",null,null,0,null,0]
[null,"PS 108 - ASŘTP, hospodářství DŠ",null,null,0,null,0]
[null,"Ostatní",null,null,0,null,0]
[null,"Mezisoučet","-","-",{"$f":"SUM(E34:E38)","v":0},{"$f":"SUM(F34:F38)","v":0},{"$f":"SUM(G34:G38)","v":0}]
["SO 101, SO 106 - A4.4 Stavební část","Opláštění. ",null,null,0,null,0]
[null,"Střešní plášť včetně odvodnění střechy. ",null,null,0,null,0]
[null,"Vnitřní nenosné konstrukce, podlahy, povrchové úpravy, výplně otvorů.",null,null,{"$f":"C42*D42","v":0},null,{"$f":"E42+F42","v":0}]
[null,"Schodiště, žebříky, obslužné plošiny, zábradlí, pomocné ocelové konstrukce. ",null,null,0,null,0]
[null,"Hydroizolace, teplené a akustické izolace, izolace proti vibracím. ",null,null,0,null,0]
[null,"Vnitřní rozvody stavebních instalací TZB (zdravotní technika, UTCH, VZT, elektro).",null,null,0,null,0]
[null,"Technologické ocelové konstrukce, přístupy, lávky, schodiště",null,null,0,null,0]
[null,"Stavební provizória",null,null,0,null,0]
[null,"Zdvihací zařízení",null,null,0,null,0]
[null,"Ostatní",null,null,0,null,0]
[null,"Mezisoučet","-","-",{"$f":"SUM(E40:E49)","v":0},0,{"$f":"SUM(G40:G49)","v":0}]
["SO 102.1 - A4.4 Stavební část","Opláštění. ",null,null,0,null,0]
[null,"Střešní plášť včetně odvodnění střechy. ",null,null,0,null,0]
[null,"Vnitřní nenosné konstrukce, podlahy, povrchové úpravy, výplně otvorů.",null,null,0,null,0]
[null,"Schodiště, žebříky, obslužné plošiny, zábradlí, pomocné ocelové konstrukce, záchytné prvky na střešní konstrukci.",null,null,0,null,0]
[null,"Hydroizolace, teplené a akustické izolace, izolace proti vibracím. ",null,null,0,null,0]
[null,"Vnitřní rozvody stavebních instalací TZB (zdravotní technika, UTCH, VZT, elektro).",null,null,0,null,0]
[null,"Technologické ocelové konstrukce, přístupy, lávky, schodiště",null,null,0,null,0]
[null,"Stavební provizória",null,null,{"$f":"C58*D58","v":0},null,{"$f":"E58+F58","v":0}]
[null,"Zdvihací zařízení, výtah",null,null,{"$f":"C59*D59","v":0},null,{"$f":"E59+F59","v":0}]
[null,"Ostatní",null,null,{"$f":"C60*D60","v":0},null,{"$f":"E60+F60","v":0}]
[null,null,null,null,0,null,0]
[null,"Mezisoučet","-","-",{"$f":"SUM(E51:E61)","v":0},{"$f":"SUM(F51:F61)","v":0},0]
["SO 103.1 - A4.4 Stavební část","Opláštění. ",null,null,0,null,0]
[null,"Střešní plášť včetně odvodnění střechy. ",null,null,{"$f":"C64*D64","v":0},null,{"$f":"E64+F64","v":0}]
[null,"Vnitřní nenosné konstrukce, podlahy, povrchové úpravy, výplně otvorů.",null,null,0,null,0]
[null,"Schodiště, žebříky, obslužné plošiny, zábradlí, pomocné ocelové konstrukce. ",null,null,0,null,0]
[null,"Hydroizolace, teplené a akustické izolace, izolace proti vibracím. ",null,null,0,null,0]
[null,"Vnitřní rozvody stavebních instalací TZB (zdravotní technika, UTCH, VZT, elektro).",null,null,0,null,0]
[null,"Technologické ocelové konstrukce, přístupy, lávky, schodiště",null,null,0,null,0]
[null,"Stavební provizória",null,null,{"$f":"C70*D70","v":0},null,{"$f":"E70+F70","v":0}]
[null,"Zdvihací zařízení",null,null,{"$f":"C71*D71","v":0},null,{"$f":"E71+F71","v":0}]
[null,"Ostatní",null,null,0,null,0]
[null,null,null,null,0,null,0]
[null,"Mezisoučet","-","-",{"$f":"SUM(E63:E73)","v":0},{"$f":"SUM(F63:F73)","v":0},{"$f":"SUM(G63:G73)","v":0}]
["SO 104.1 - A4.4 Stavební část","Opláštění. ",null,null,{"$f":"C75*D75","v":0},null,{"$f":"E75+F75","v":0}]
[null,"Střešní plášť včetně odvodnění střechy. ",null,null,0,null,0]
[null,"Vnitřní nenosné konstrukce, podlahy, povrchové úpravy, výplně otvorů.",null,null,0,null,0]
[null,"Schodiště, žebříky, obslužné plošiny, zábradlí, pomocné ocelové konstrukce. ",null,null,0,null,0]
[null,"Hydroizolace, teplené a akustické izolace, izolace proti vibracím. ",null,null,0,null,0]
[null,"Vnitřní rozvody stavebních instalací TZB (zdravotní technika, UTCH, VZT, elektro).",null,null,0,null,0]
[null,"Technologické ocelové konstrukce, přístupy, lávky, schodiště",null,null,0,null,0]
[null,"Stavební provizória",null,null,0,null,0]
[null,"Zdvihací zařízení",null,null,0,null,0]
[null,"Ostatní",null,null,0,null,0]
[null,null,null,null,0,null,0]
[null,"Mezisoučet","-","-",{"$f":"SUM(E75:E85)","v":0},{"$f":"SUM(F75:F85)","v":0},{"$f":"SUM(G75:G85)","v":0}]
["Školení zaměstnanců provozu",null,"-","-",null,"-",{"$f":"E87","v":0}]
["Komplexní vyzkoušení",null,"-","-",null,"-",{"$f":"E88","v":0}]
["Zkušební provoz",null,"-","-",null,"-",0]
["Garamční test A",null,"-","-",null,"-",0]
["Předběžné převzetí díla PAC",null,"-","-",null,"-",0]
["Finální převzetí díla FAC",null,"-","-",null,"-",0]
["Celkem *",null,null,null,{"$f":"E10+E20+E26+E33+E39+E50+E62+E74+E86+E87+E88+E89+E90+E91+E92","v":0},{"$f":"F20+F26+F33+F39+F50+F62+F74+F86","v":0},{"$f":"G10+G20+G26+G33+G39+G50+G62+G74+G86+G87+G88+G89+G90+G91+G92","v":0}]
[]
["Poznámka:"]
["* Položka \"celkem\" je vždy uvažována jako kompletní za funční celek a zahrnuje ceny veškerých plnění poskytnutých zhotovitelem na základě smlouvy, popřípadě těch, které mají být podle smlouvy poskytnuty k dosažení účelu smlouvy, aniž by taková plnění byla výslovně zde nebo ve smlouvě uvedena. Položky neuvedené, ale potřebné pro funkční celek musí být součástí položky \"Ostatní\"."]
[]
[]
[]
["Hodnoty buněk \"E93\", \"F93\" a \"G93\" jsou přenášeny na list \"celkem\""]
["Zhotovitel vyplňuje ve sloupcích \"C\", \"D\" a \"F\" pouze nepodbarvené buňky"]

{"sheet":"OB1 - etapa K80","index":1,"n_rows":36,"n_cols":8,"rows_kept":36,"cut":false,"hidden":false,"merged":[[3,0,3,1],[1,0,1,7],[30,0,32,7],[11,0,21,0],[5,0,10,0]]}
[]
["Příloha K zadávací dokumentace - cenová nabídka a časový harmonogram"]
[]
["Nabídková cena OB1 - etapa K80",null,"Množství","Jednotková cena","Cena dodávka ","Cena montáže ","Cena položky","Poznámka"]
["Milníky","Položka","(KS, m, m2)","(EUR / ks bez DPH)","(EUR bez DPH)","(EUR bez DPH)","(EUR bez DPH)"]
["SO 104 - Technická část A1-13 (bez A4.4)","PS 104 - Pásová doprava dřevní štěpky",null,null,{"$f":"C6*D6","v":0},null,{"$f":"E6+F6","v":0}]
[null,"PS 106 - Vzduchotechnika hospodářství DŠ, odprášení",null,null,0,null,0]
[null,"PS 107 - Část elektro, hospodářství DŠ",null,null,0,null,0]
[null,"PS 108 - ASŘTP, hospodářství DŠ",null,null,0,null,0]
[null,"Ostatní",null,null,0,null,0]
[null,"Mezisoučet","-","-",{"$f":"SUM(E6:E10)","v":0},{"$f":"SUM(F6:F10)","v":0},{"$f":"SUM(G6:G10)","v":0}]
["SO 104.1 - A4.4 Stavební část","Opláštění. ",null,null,{"$f":"C12*D12","v":0},null,{"$f":"E12+F12","v":0}]
[null,"Střešní plášť včetně odvodnění střechy. ",null,null,0,null,0]
[null,"Vnitřní nenosné konstrukce, podlahy, povrchové úpravy, výplně otvorů.",null,null,0,null,0]
[null,"Schodiště, žebříky, obslužné plošiny, zábradlí, pomocné ocelové konstrukce. ",null,null,0,null,0]
[null,"Hydroizolace, teplené a akustické izolace, izolace proti vibracím. ",null,null,0,null,0]
[null,"Vnitřní rozvody stavebních instalací TZB (zdravotní technika, UTCH, VZT, elektro).",null,null,0,null,0]
[null,"Technologické ocelové konstrukce, přístupy, lávky, schodiště",null,null,{"$f":"C18*D18","v":0},null,{"$f":"E18+F18","v":0}]
[null,"Stavební a technická provizória, demontáže",null,null,0,null,0]
[null,"Zdvihací zařízení",null,null,0,null,0]
[null,"Ostatní",null,null,0,null,0]
[null,"Mezisoučet","-","-",{"$f":"SUM(E12:E21)","v":0},0,{"$f":"SUM(G12:G21)","v":0}]
["Komplexní vyzkoušení",null,"-","-",null,"-",{"$f":"E23","v":0}]
["Zkušební provoz",null,"-","-",null,"-",0]
["Garančmí test A",null,"-","-",null,"-",0]
["Předběžné převzetí díla PAC",null,"-","-",null,"-",0]
["Finální převzetí díla FAC",null,"-","-",null,"-",0]
["Celkem *",null,null,null,{"$f":"E11+E22+E23+E24+E25+E26+E27","v":0},{"$f":"F11+F22","v":0},{"$f":"G11+G22+G23+G24+G25+G26+G27","v":0}]
[]
["Poznámka:"]
["* Položka \"celkem\" je vždy uvažována jako kompletní za funční celek a zahrnuje ceny veškerých plnění poskytnutých zhotovitelem na základě smlouvy, popřípadě těch, které mají být podle smlouvy poskytnuty k dosažení účelu smlouvy, aniž by taková plnění byla výslovně zde nebo ve smlouvě uvedena. Položky neuvedené, ale potřebné pro funkční celek musí být součástí položky \"Ostatní\"."]
[]
[]
[]
["Hodnoty buněk \"E28\", \"F28\" a \"G28\" jsou přenášeny na list \"celkem\""]
["Zhotovitel vyplňuje ve sloupcích \"C\", \"D\" a \"F\" pouze nepodbarvené buňky"]

{"sheet":"OB1 - etapa K90","index":2,"n_rows":36,"n_cols":8,"rows_kept":36,"cut":false,"hidden":false,"merged":[[1,0,1,7],[3,0,3,1],[3,7,4,7],[30,0,33,7],[27,0,27,1],[5,0,10,0],[11,0,21,0]]}
[]
["Příloha K zadávací dokumentace - cenová nabídka a časový harmonogram"]
[]
["Nabídková cena OB1 - etapa K90",null,"Množství","Jednotková cena","Cena dodávka ","Cena montáže ","Cena položky","Poznámka"]
["Milníky","Položka","(KS, m, m2)","(EUR / ks bez DPH)","(EUR bez DPH)","(EUR bez DPH)","(EUR bez DPH)"]
["SO 104 - Technická část A1-13 (bez A4.4)","PS 104 - Pásová doprava dřevní štěpky",null,null,{"$f":"C6*D6","v":0},null,{"$f":"E6+F6","v":0}]
[null,"PS 106 - Vzduchotechnika hospodářství DŠ, odprášení",null,null,0,null,0]
[null,"PS 107 - Část elektro, hospodářství DŠ",null,null,0,null,0]
[null,"PS 108 - ASŘTP, hospodářství DŠ",null,null,0,null,0]
[null,"Ostatní",null,null,0,null,0]
[null,"Mezisoučet","-","-",{"$f":"SUM(E6:E10)","v":0},{"$f":"SUM(F6:F10)","v":0},{"$f":"SUM(G6:G10)","v":0}]
["SO 104.1 - A4.4 Stavební část","Opláštění. ",null,null,{"$f":"C12*D12","v":0},null,{"$f":"E12+F12","v":0}]
[null,"Střešní plášť včetně odvodnění střechy. ",null,null,0,null,0]
[null,"Vnitřní nenosné konstrukce, podlahy, povrchové úpravy, výplně otvorů.",null,null,0,null,0]
[null,"Schodiště, žebříky, obslužné plošiny, zábradlí, pomocné ocelové konstrukce. ",null,null,0,null,0]
[null,"Hydroizolace, teplené a akustické izolace, izolace proti vibracím. ",null,null,0,null,0]
[null,"Vnitřní rozvody stavebních instalací TZB (zdravotní technika, UTCH, VZT, elektro).",null,null,0,null,0]
[null,"Technologické ocelové konstrukce, přístupy, lávky, schodiště",null,null,0,null,0]
[null,"Stavební a technická provizória a demontáže",null,null,0,null,0]
[null,"Zdvihací zařízení",null,null,0,null,0]
[null,"Ostatní",null,null,0,null,0]
[null,"Mezisoučet","-","-",{"$f":"SUM(E12:E21)","v":0},0,{"$f":"SUM(G12:G21)","v":0}]
["Komplexní vyzkoušení",null,"-","-",null,"-",{"$f":"E23","v":0}]
["Zkušební provoz",null,"-","-",null,"-",0]
["Garančmí test A",null,"-","-",null,"-",0]
["Předběžné převzetí díla PAC",null,"-","-",null,"-",0]
["Finální převzetí díla FAC",null,"-","-",null,"-",0]
["Celkem *",null,null,null,{"$f":"E11+E22+E23+E24+E25+E26+E27","v":0},{"$f":"F11+F22","v":0},{"$f":"G11+G22+G23+G24+G25+G26+G27","v":0}]
[]
["Poznámka:"]
["* Položka \"celkem\" je vždy uvažována jako kompletní za funční celek a zahrnuje ceny veškerých plnění poskytnutých zhotovitelem na základě smlouvy, popřípadě těch, které mají být podle smlouvy poskytnuty k dosažení účelu smlouvy, aniž by taková plnění byla výslovně zde nebo ve smlouvě uvedena. Položky neuvedené, ale potřebné pro funkční celek musí být součástí položky \"Ostatní\"."]
[]
[]
[]
["Hodnoty buněk \"E28\", \"F28\" a \"G28\" jsou přenášeny na list \"celkem\""]
["Zhotovitel vyplňuje ve sloupcích \"C\", \"D\" a \"F\" pouze nepodbarvené buňky"]

{"sheet":"celkem","index":3,"n_rows":14,"n_cols":4,"rows_kept":14,"cut":false,"hidden":false,"merged":[[3,0,3,3],[1,0,1,7]]}
[]
["Příloha K zadávací dokumentace - cenová nabídka a časový harmonogram"]
[]
["Souhrn - Celková nabídková cena"]
["Etapa","Cena dodávky (EUR)","Cena montáže (EUR)","Cena položky celkem (EUR)"]
["OB1 - etapa K20",{"$f":"'OB1 - etapa K20'!E93","v":0},{"$f":"'OB1 - etapa K20'!F93","v":0},{"$f":"'OB1 - etapa K20'!G93","v":0}]
["OB1 - etapa K80",{"$f":"'OB1 - etapa K80'!E28","v":0},{"$f":"'OB1 - etapa K80'!F28","v":0},{"$f":"'OB1 - etapa K80'!G28","v":0}]
["OB1 - etapa K90",{"$f":"'OB1 - etapa K90'!E28","v":0},{"$f":"'OB1 - etapa K90'!F28","v":0},{"$f":"'OB1 - etapa K90'!G28","v":0}]
["Cena celkem (bez DPH)",{"$f":"SUM(B6:B8)","v":0},{"$f":"SUM(C6:C8)","v":0},{"$f":"SUM(D6:D8)","v":0}]
[]
["Poznámka:"]
[" - na tomto listu se žádné hodnoty nevyplňují"]
[" - veškeré hodnoty cen jsou přenášeny do tabulky z listů \"OB1 - etapa K20\", \"OB1 - etapa K80\" a \"OB1 - etapa K90\""]
["*časový harmonogram je nutné vyplnit až po dokončení cenových tabulek"]

{"sheet":"OB1 - etapa K20 - harmonogram","index":4,"n_rows":76,"n_cols":64,"rows_kept":76,"cut":false,"hidden":false,"merged":[[4,0,5,0],[9,7,10,7],[11,7,12,7],[13,7,14,7],[15,7,16,7],[18,7,19,7],[20,7,21,7],[22,7,23,7],[24,7,25,7],[9,6,10,6],[11,6,12,6],[13,6,14,6],[15,6,16,6],[18,6,19,6],[20,6,21,6],[22,6,23,6],[24,6,25,6],[11,3,12,3],[15,2,16,2],[4,9,4,63],[4,8,5,8],[4,6,5,6],[4,5,5,5],[4,4,5,4],[4,3,5,3],[4,2,5,2],[4,1,5,1],[26,7,27,7],[9,1,10,1],[20,1,21,1],[22,1,23,1],[22,2,23,2],[24,1,25,1],[24,2,25,2],[26,1,27,1],[13,1,14,1],[13,2,14,2],[15,1,16,1],[26,3,27,3],[11,1,12,1],[11,2,12,2],[9,4,10,4],[11,4,12,4],[13,4,14,4],[15,4,16,4],[24,4,25,4],[26,4,27,4],[32,3,33,3],[32,1,33,1],[32,2,33,2],[30,1,31,1],[13,3,14,3],[15,3,16,3],[18,3,19,3],[20,3,21,3],[22,3,23,3],[24,3,25,3],[18,1,19,1],[18,2,19,2],[20,2,21,2],[32,6,33,6],[26,6,27,6],[28,6,29,6],[30,6,31,6],[42,2,43,2],[36,1,37,1],[36,2,37,2],[28,1,29,1],[28,2,29,2],[30,2,31,2],[42,7,43,7],[46,3,47,3],[28,4,29,4],[30,4,31,4],[9,5,10,5],[11,5,12,5],[13,5,14,5],[15,5,16,5],[18,5,19,5],[20,5,21,5],[22,5,23,5],[24,5,25,5],[26,5,27,5],[28,3,29,3],[30,3,31,3],[26,2,27,2],[9,3,10,3],[9,2,10,2],[28,7,29,7],[30,7,31,7],[32,7,33,7],[36,7,37,7],[38,7,39,7],[40,7,41,7],[49,1,49,8],[50,1,50,8],[36,3,37,3],[38,3,39,3],[40,3,41,3],[42,3,43,3],[36,6,37,6],[38,6,39,6],[40,6,41,6],[42,6,43,6],[44,6,45,6],[46,6,47,6],[44,1,45,1],[44,2,45,2],[46,5,47,5],[46,1,47,1],[46,2,47,2],[38,1,39,1],[38,2,39,2],[40,1,41,1],[40,2,41,2],[42,1,43,1],[44,7,45,7],[46,7,47,7],[50,9,50,63],[18,0,21,0],[22,0,25,0],[26,0,29,0],[30,0,33,0],[44,3,45,3],[32,4,33,4],[36,4,37,4],[38,4,39,4],[40,4,41,4],[42,4,43,4],[18,4,19,4],[20,4,21,4],[22,4,23,4],[44,4,45,4],[46,4,47,4],[28,5,29,5],[30,5,31,5],[32,5,33,5],[36,5,37,5],[38,5,39,5],[40,5,41,5],[42,5,43,5],[44,5,45,5]]}
[]
[null,"Příloha K zadávací dokumentace - cenová nabídka a časový harmonogram"]
[]
[]
["Technologické a stavební celky","Milníky","Etapa","Komentář","Začátek nejdříve (měsíc)","Konec nejpozději (měsíc)","Cena za položku bez DPH (EUR)",null,"Termín / cena bez DPH (EUR)","Období"]
[null,null,null,null,null,null,null,null,null,"2024-06-01","2024-07-02","2024-08-02","2024-09-02","2024-10-03","2024-11-03","2024-12-04","2025-01-04","2025-02-04","2025-03-07","2025-04-07","2025-05-08","2025-06-08","2025-07-09","2025-08-09","2025-09-09","2025-10-10","2025-11-10","2025-12-11","2026-01-11","2026-02-11","2026-03-14","2026-04-14","2026-05-15","2026-06-15","2026-07-16","2026-08-16","2026-09-16","2026-10-17","2026-11-17","2026-12-18","2027-01-18","2027-02-18","2027-03-21","2027-04-21","2027-05-22","2027-06-22","2027-07-23","2027-08-23","2027-09-23","2027-10-24","2027-11-24","2027-12-25","2028-01-25","2028-02-25","2028-03-27","2028-04-27","2028-05-28","2028-06-28","2028-07-29","2028-08-29","2028-09-29","2028-10-30","2028-11-30","2028-12-31"]
[null,1,1,20,null,null,null,null,null,1,2,3,4,5,6,7,8,9,10,11,12,13,14,15,16,17,18,19,20,21,22,23,24,25,26,27,28,29,30,31,32,33,34,35,36,37,38,39,40,41,42,43,44,45,46,47,48,49,50,51,52,53,54,55]
[null,"Podpis smlouvy","K20/K80/K90",null,null,null,null,null,"termín"]
[null,"Vstupní technická jednání ","K20",null,null,null,null,null,"termín"]
[null,"Závazné technické parametry pro OB 6 (Stavba) ","K20","např. zatížení pro horní stavbu sil",1,4,{"$f":"SUM(J11:BL11)","v":0},null,"termín"]
[null,null,null,null,null,null,null,null,"cena"]
[null,"Závazné technické parametry pro OB 2 (Kotle) ","K20","např. spotřeba a kvalita stlačeného vzduchu",1,4,{"$f":"SUM(J13:BL13)","v":0},null,"termín"]
[null,null,null,null,null,null,null,null,"cena"]
[null,"Závazné technické parametry pro ostatní OB, pro ostatní dodavatele technologických celků","K20",null,1,4,{"$f":"SUM(J15:BL15)","v":0},null,"termín"]
[null,null,null,null,null,null,null,null,"cena"]
[null,"Odsouhlasená prováděcí dokumentace OB1 - Palivové hospodářství","K20",null,1,12,{"$f":"SUM(J17:BL17)","v":0},null,"termín"]
[null,null,null,null,null,null,null,null,"cena"]
[null,"Předání a převzetí staveniště","K20",null,1,12,null,null,"termín"]
["SO 101,SO 106 - Objekt třídírny a rozvodny","A1-A13 - Technologická část (PS 101,PS 102, PS 103, PS 104, PS 106, PS 107, PS 108)","K20",null,11,19,{"$f":"SUM(J20:BL20)","v":0},null,"termín"]
[null,null,null,null,null,null,null,null,"cena"]
[null,"A4.4 - Stavební část (SO 101, SO 106)","K20",null,11,19,{"$f":"SUM(J22:BL22)","v":0},null,"termín"]
[null,null,null,null,null,null,null,null,"cena"]
["SO 103 - Doprava dřevní štěpky","A1-A13 - Technologická část (PS 103, PS 104, PS 106, PS 107, PS 108)","K20",null,11,29,{"$f":"SUM(J24:BL24)","v":0},null,"termín"]
[null,null,null,null,null,null,null,null,"cena"]
[null,"A4.4 - Stavební část (SO 103)","K20",null,11,29,{"$f":"SUM(J26:BL26)","v":0},null,"termín"]
[null,null,null,null,null,null,null,null,"cena"]
["SO 102 - Technologie skladu DŠ","A1-A13 - Technologická část (PS 105, PS 106, PS 107, PS 108)","K20",null,20,29,{"$f":"SUM(J28:BL28)","v":0},null,"termín"]
[null,null,null,null,null,null,null,null,"cena"]
[null,"A4.4 - Stavební část (SO 102)","K20",null,20,29,{"$f":"SUM(J30:BL30)","v":0},null,"termín"]
[null,null,null,null,null,null,null,null,"cena"]
["SO 104 - Doprava dřevní štěpky do kotelny K20","A1-A13 - Technologická část (PS 104, PS 106, PS 107, PS 108)","K20",null,11,29,{"$f":"SUM(J32:BL32)","v":0},null,"termín"]
[null,null,null,null,null,null,null,null,"cena"]
[null,"A4.4 - Stavební část (SO 104)","K20",null,11,29,{"$f":"SUM(J34:BL34)","v":0},null,"termín"]
[null,null,null,null,null,null,null,null,"cena"]
[null,"OB1 - etapa K20 - dokončení stavebních prací","K20","včetně vrácení zařízení staveniště",1,31,null,null,"termín"]
[null,"OB1 - etapa K20 - ukončení montážních prací","K20","včetně vrácení zařízení staveniště",1,31,null,null,"termín"]
[null,"OB1 - etapa K20 - školení zaměstnanců provozu","K20",null,1,43,{"$f":"SUM(J38:BL38)","v":0},null,"termín"]
[null,null,null,null,null,null,null,null,"cena"]
[null,"OB1 - etapa K20 - komplexní vyzkoušení","K20",null,28,31,{"$f":"SUM(J40:BL40)","v":0},null,"termín"]
[null,null,null,null,null,null,null,null,"cena"]
[null,"OB1 - etapa K20 - zkušební provoz","K20",null,28,31,{"$f":"SUM(J42:BL42)","v":0},null,"termín"]
[null,null,null,null,null,null,null,null,"cena"]
[null,"OB1 - etapa K20 - garanční test A","K20",null,28,31,{"$f":"SUM(J44:BL44)","v":0},null,"termín"]
[null,null,null,null,null,null,null,null,"cena"]
[null,"OB1 - etapa K20 - předběžné převzetí díla PAC","K20",null,28,32,{"$f":"SUM(J46:BL46)","v":0},null,"termín"]
[null,null,null,null,null,null,null,null,"cena"]
[null,"OB1 - etapa K20 - finální převzetí díla FAC","K20",null,31,56,{"$f":"SUM(J48:BL48)","v":0},null,"termín"]
[null,null,null,null,null,null,null,null,"cena"]
[]
[null,"Dílčí ceny po měsících  ",null,null,null,null,null,null,null,{"$f":"SUM(J8:J48)","v":0},0,0,0,0,0,0,0,0,0,0,0,0,0,0,0,0,0,0,0,0,0,0,0,0,0,0,0,0,0,0,0,0,0,0,0,0,0,0,0,0,0,0,0,0,0,0,0,0,0,0,0,0,0,0]
[null,"Cena celkem",null,null,null,null,null,null,null,{"$f":"SUM(J50:BL50)","v":0}]
[]
[null,"Poznámka:"]
[null,"Zhotovitel vyplňuje pouze číselné hodnoty \"předpoklad začátku (týden)\" a \"předpoklad ukončení (týden)\" v oknech, která se otevřou po rozkliknutí \"vyplnit\"",null,null,null,null,null,null,null,null,null,null,"Podpis smlouvy"]
[null,null,null,null,null,null,null,null,null,null,null,null,"Vstupní technická jednání "]
[null,null,null,null,null,null,null,null,null,null,null,null,"Závazné technické parametry pro OB 6 (Stavba) "]
[null,null,null,null,null,null,null,null,null,null,null,null,"Závazné technické parametry pro OB 2 (Kotle) "]
[null,null,null,null,null,null,null,null,null,null,null,null,"Závazné technické parametry pro ostatní OB, pro ostatní dodavatele technologických celků"]
[null,null,null,null,null,null,null,null,null,null,null,null,"Odsouhlasená prováděcí dokumentace OB1 - Palivové hospodářství"]
[null,null,null,null,null,null,null,null,null,null,null,null,"Předání a převzetí staveniště pro OB1"]
[null,null,null,null,null,null,null,null,null,null,null,null,"A1-A13 - Technologická část (PS 101,PS 102, PS 103, PS 104, PS 106, PS 107, PS 108)"]
[null,null,null,null,null,null,null,null,null,null,null,null,"A4.4 - Stavební část (SO 101, SO106)"]
[null,null,null,null,null,null,null,null,null,null,null,null,"A1-A13 - Technologická část (PS 103, PS 104, PS 106, PS 107, PS 108)"]
[null,null,null,null,null,null,null,null,null,null,null,null,"A4.4 - Stavební část (SO 103)"]
[null,null,null,null,null,null,null,null,null,null,null,null,"A1-A13 - Technologická část (PS 105, PS 106, PS 107, PS 108)"]
[null,null,null,null,null,null,null,null,null,null,null,null,"A4.4 - Stavební část (SO 102)"]
[null,"Údaje o cenách se do tabulky přenášejí z předcházejících listů",null,null,null,null,null,null,null,null,null,null,"A1-A13 - Technologická část (PS 104, PS 106, PS 107, PS 108)"]
[null,null,null,null,null,null,null,null,null,null,null,null,"A4.4 - Stavební část (SO 104)"]
[null,null,null,null,null,null,null,null,null,null,null,null,"OB1 - etapa K20 - dokončení stavebních prací"]
[null,null,null,null,null,null,null,null,null,null,null,null,"OB1 - etapa K20 - ukončení montážních prací"]
[null,null,null,null,null,null,null,null,null,null,null,null,"OB1 - etapa K20 - školení zaměstnanců provozu"]
[null,null,null,null,null,null,null,null,null,null,null,null,"OB1 - etapa K20 - komplexní vyzkoušení"]
[null,null,null,null,null,null,null,null,null,null,null,null,"OB1 - etapa K20 - zkušební provoz"]
[null,null,null,null,null,null,null,null,null,null,null,null,"OB1 - etapa K20 - garanční test A"]
[null,null,null,null,null,null,null,null,null,null,null,null,"OB1 - etapa K20 - předběžné převzetí díla PAC"]
[null,null,null,null,null,null,null,null,null,null,null,null,"OB1 - etapa K20 - finální převzetí díla FAC"]

{"sheet":"OB1 - etapa K80 - harmonogram","index":5,"n_rows":41,"n_cols":64,"rows_kept":41,"cut":false,"hidden":false,"merged":[[14,2,15,2],[18,3,19,3],[20,1,21,1],[20,2,21,2],[4,0,5,0],[4,1,5,1],[4,2,5,2],[4,5,5,5],[4,6,5,6],[4,8,5,8],[8,0,11,0],[8,6,9,6],[10,6,11,6],[4,3,5,3],[4,4,5,4],[8,4,9,4],[8,5,9,5],[8,7,9,7],[10,7,11,7],[4,9,4,63],[24,1,24,8],[8,1,9,1],[8,2,9,2],[8,3,9,3],[10,1,11,1],[10,2,11,2],[10,3,11,3],[23,1,23,8],[12,1,13,1],[12,2,13,2],[14,1,15,1],[16,1,17,1],[16,2,17,2],[18,1,19,1],[18,2,19,2],[10,5,11,5],[12,5,13,5],[14,5,15,5],[16,5,17,5],[20,3,21,3],[14,3,15,3],[16,3,17,3],[18,5,19,5],[20,5,21,5],[10,4,11,4],[12,4,13,4],[14,4,15,4],[16,4,17,4],[18,4,19,4],[12,7,13,7],[12,6,13,6],[14,7,15,7],[24,9,24,63],[12,3,13,3],[20,4,21,4],[16,7,17,7],[18,7,19,7],[20,7,21,7],[14,6,15,6],[16,6,17,6],[18,6,19,6],[20,6,21,6]]}
[]
[null,"Příloha K zadávací dokumentace - cenová nabídka a časový harmonogram"]
[]
[]
["Technologické a stavební celky","Milníky","Etapa","Komentář","Začátek nejdříve (měsíc)","Konec nejpozději (měsíc)","Cena za položku bez DPH (EUR)",null,"Termín / cena bez DPH (EUR)","Období"]
[null,null,null,null,null,null,null,null,null,"2024-06-01","2024-07-02","2024-08-02","2024-09-02","2024-10-03","2024-11-03","2024-12-04","2025-01-04","2025-02-04","2025-03-07","2025-04-07","2025-05-08","2025-06-08","2025-07-09","2025-08-09","2025-09-09","2025-10-10","2025-11-10","2025-12-11","2026-01-11","2026-02-11","2026-03-14","2026-04-14","2026-05-15","2026-06-15","2026-07-16","2026-08-16","2026-09-16","2026-10-17","2026-11-17","2026-12-18","2027-01-18","2027-02-18","2027-03-21","2027-04-21","2027-05-22","2027-06-22","2027-07-23","2027-08-23","2027-09-23","2027-10-24","2027-11-24","2027-12-25","2028-01-25","2028-02-25","2028-03-27","2028-04-27","2028-05-28","2028-06-28","2028-07-29","2028-08-29","2028-09-29","2028-10-30","2028-11-30","2028-12-31"]
[null,1,1,80,null,null,null,null,null,1,2,3,4,5,6,7,8,9,10,11,12,13,14,15,16,17,18,19,20,21,22,23,24,25,26,27,28,29,30,31,32,33,34,35,36,37,38,39,40,41,42,43,44,45,46,47,48,49,50,51,52,53,54,55]
[null,"Předání a převzetí staveniště","K80",null,1,12,null,null,"termín"]
["SO 104 - Doprava dřevní štěpky do kotelny K80","A1-A13 - Technologická část (PS 104, PS 106, PS 107, PS 108)","K80",null,11,29,{"$f":"SUM(J10:BL10)","v":0},null,"termín"]
[null,null,null,null,null,null,null,null,"cena"]
[null,"A4.4 - Stavební část (SO 104)","K80",null,11,29,{"$f":"SUM(J12:BL12)","v":0},null,"termín"]
[null,null,null,null,null,null,null,null,"cena"]
[null,"OB1 - etapa K80 - komplexní vyzkoušení","K80",null,28,42,{"$f":"SUM(J14:BL14)","v":0},null,"termín"]
[null,null,null,null,null,null,null,null,"cena"]
[null,"OB1 - etapa K80 - zkušební provoz","K80",null,28,42,{"$f":"SUM(J16:BL16)","v":0},null,"termín"]
[null,null,null,null,null,null,null,null,"cena"]
[null,"OB1 - etapa K80 - garanční test A","K80",null,28,42,{"$f":"SUM(J18:BL18)","v":0},null,"termín"]
[null,null,null,null,null,null,null,null,"cena"]
[null,"OB1 - etapa K80 - předběžné převzetí díla PAC","K80",null,28,42,{"$f":"SUM(J20:BL20)","v":0},null,"termín"]
[null,null,null,null,null,null,null,null,"cena"]
[null,"OB1 - etapa K80 - finální převzetí díla FAC","K80",null,42,66,{"$f":"SUM(J22:BL22)","v":0},null,"termín"]
[null,null,null,null,null,null,null,null,"cena"]
[]
[null,"Dílčí ceny po měsících  ",null,null,null,null,null,null,null,{"$f":"SUM(J9:J22)","v":0},0,0,0,0,0,0,0,0,0,0,0,0,0,0,0,0,0,0,0,0,0,0,0,0,0,0,0,0,0,0,0,0,0,0,0,0,0,0,0,0,0,0,0,0,0,0,0,0,0,0,0,0,0,0]
[null,"Cena celkem",null,null,null,null,null,null,null,{"$f":"SUM(J24:BL24)","v":0}]
[]
[null,"Poznámka:"]
[null,"Zhotovitel vyplňuje pouze číselné hodnoty \"předpoklad začátku (týden)\" a \"předpoklad ukončení (týden)\" v oknech, která se otevřou po rozkliknutí \"vyplnit\"",null,null,null,null,null,null,null,null,null,null,"Předání a převzetí staveniště"]
[null,null,null,null,null,null,null,null,null,null,null,null,"A1-A13 - Technologická část (PS 104, PS 106, PS 107, PS 108)"]
[null,null,null,null,null,null,null,null,null,null,null,null,"A4.4 - Stavební část (SO 104)"]
[null,null,null,null,null,null,null,null,null,null,null,null,"OB1 - etapa K80 - komplexní vyzkoušení"]
[null,null,null,null,null,null,null,null,null,null,null,null,"OB1 - etapa K80 - zkušební provoz"]
[null,null,null,null,null,null,null,null,null,null,null,null,"OB1 - etapa K80 - garanční test A"]
[null,null,null,null,null,null,null,null,null,null,null,null,"OB1 - etapa K80 - předběžné převzetí díla PAC"]
[null,null,null,null,null,null,null,null,null,null,null,null,"OB1 - etapa K80 - finální převzetí díla FAC"]
[]
[]
[]
[]
[]
[null,"Údaje o cenách se do tabulky přenášejí z předcházejících listů"]

{"sheet":"OB1 - etapa K90 - harmonogram","index":6,"n_rows":49,"n_cols":64,"rows_kept":49,"cut":false,"hidden":false,"merged":[[4,5,5,5],[4,6,5,6],[4,8,5,8],[8,0,11,0],[10,6,11,6],[8,2,9,2],[8,3,9,3],[8,6,9,6],[8,7,9,7],[10,7,11,7],[4,0,5,0],[4,1,5,1],[4,2,5,2],[4,3,5,3],[4,4,5,4],[8,1,9,1],[20,6,21,6],[16,7,17,7],[18,7,19,7],[20,7,21,7],[4,9,4,63],[12,7,13,7],[14,7,15,7],[14,6,15,6],[24,1,24,8],[12,3,13,3],[14,3,15,3],[16,3,17,3],[20,3,21,3],[12,1,13,1],[12,2,13,2],[20,1,21,1],[20,2,21,2],[23,1,23,8],[18,1,19,1],[18,2,19,2],[18,3,19,3],[18,6,19,6],[12,6,13,6],[16,6,17,6],[14,1,15,1],[14,2,15,2],[16,1,17,1],[16,2,17,2],[10,1,11,1],[10,2,11,2],[10,3,11,3],[24,9,24,63],[8,4,9,4],[10,4,11,4],[12,4,13,4],[14,4,15,4],[16,4,17,4],[18,4,19,4],[20,4,21,4],[8,5,9,5],[10,5,11,5],[12,5,13,5],[14,5,15,5],[16,5,17,5],[18,5,19,5],[20,5,21,5]]}
[]
[null,"Příloha K zadávací dokumentace - cenová nabídka a časový harmonogram"]
[]
[]
["Technologické a stavební celky","Milníky","Etapa","Komentář","Začátek nejdříve (měsíc)","Konec nejpozději (měsíc)","Cena za položku bez DPH (EUR)",null,"Termín / cena bez DPH (EUR)","Období"]
[null,null,null,null,null,null,null,null,null,"2024-06-01","2024-07-02","2024-08-02","2024-09-02","2024-10-03","2024-11-03","2024-12-04","2025-01-04","2025-02-04","2025-03-07","2025-04-07","2025-05-08","2025-06-08","2025-07-09","2025-08-09","2025-09-09","2025-10-10","2025-11-10","2025-12-11","2026-01-11","2026-02-11","2026-03-14","2026-04-14","2026-05-15","2026-06-15","2026-07-16","2026-08-16","2026-09-16","2026-10-17","2026-11-17","2026-12-18","2027-01-18","2027-02-18","2027-03-21","2027-04-21","2027-05-22","2027-06-22","2027-07-23","2027-08-23","2027-09-23","2027-10-24","2027-11-24","2027-12-25","2028-01-25","2028-02-25","2028-03-27","2028-04-27","2028-05-28","2028-06-28","2028-07-29","2028-08-29","2028-09-29","2028-10-30","2028-11-30","2028-12-31"]
[null,0,0,90,null,null,null,null,null,1,2,3,4,5,6,7,8,9,10,11,12,13,14,15,16,17,18,19,20,21,22,23,24,25,26,27,28,29,30,31,32,33,34,35,36,37,38,39,40,41,42,43,44,45,46,47,48,49,50,51,52,53,54,55]
[null,"Předání a převzetí staveniště","K90",null,1,12,null,null,"termín"]
["SO 104 - Doprava dřevní štěpky do kotelny K80","A1-A13 - Technologická část (PS 104, PS 106, PS 107, PS 108)","K90",null,11,29,{"$f":"SUM(J9:BL9)","v":0},null,"termín"]
[null,null,null,null,null,null,{"$f":"SUM(J11:BL11)","v":0},null,"cena"]
[null,"A4.4 - Stavební část (SO 104)","K90",null,11,29,{"$f":"SUM(J11:BL11)","v":0},null,"termín"]
[null,null,null,null,null,null,{"$f":"SUM(#REF!)","v":{"$error":"#REF!"}},null,"cena"]
[null,"OB1 - etapa K90 - komplexní vyzkoušení","K90",null,28,42,{"$f":"SUM(J14:BL14)","v":0},null,"termín"]
[null,null,null,null,null,null,null,null,"cena"]
[null,"OB1 - etapa K90 - zkušební provoz","K90",null,28,42,{"$f":"SUM(J16:BL16)","v":0},null,"termín"]
[null,null,null,null,null,null,null,null,"cena"]
[null,"OB1 - etapa K90 - garanční test A","K90",null,28,42,{"$f":"SUM(J18:BL18)","v":0},null,"termín"]
[null,null,null,null,null,null,null,null,"cena"]
[null,"OB1 - etapa K90 - předběžné převzetí díla PAC","K90",null,28,42,{"$f":"SUM(J20:BL20)","v":0},null,"termín"]
[null,null,null,null,null,null,null,null,"cena"]
[null,"OB1 - etapa K90 - finální převzetí díla FAC","K90",null,42,66,{"$f":"SUM(J22:BL22)","v":0},null,"termín"]
[null,null,null,null,null,null,null,null,"cena"]
[]
[null,"Dílčí ceny po měsících  ",null,null,null,null,null,null,null,{"$f":"SUM(J9:J22)","v":0},0,0,0,0,0,0,0,0,0,0,0,0,0,0,0,0,0,0,0,0,0,0,0,0,0,0,0,0,0,0,0,0,0,0,0,0,0,0,0,0,0,0,0,0,0,0,0,0,0,0,0,0,0,0]
[null,"Cena celkem",null,null,null,null,null,null,null,{"$f":"SUM(J24:BL24)","v":0}]
[]
[null,"Poznámka:"]
[null,"Zhotovitel vyplňuje pouze číselné hodnoty \"předpoklad začátku (týden)\" a \"předpoklad ukončení (týden)\" v oknech, která se otevřou po rozkliknutí \"vyplnit\"",null,null,null,null,null,null,null,null,"Podpis smlouvy",null,"Předání a převzetí staveniště"]
[null,null,null,null,null,null,null,null,null,null,"Vstupní technická jednání ",null,"A1-A13 - Technologická část (PS 104, PS 106, PS 107, PS 108)"]
[null,null,null,null,null,null,null,null,null,null,"Závazné technické parametry pro OB 6 (Stavba) ",null,"A4.4 - Stavební část (SO 104)"]
[null,"Údaje o cenách se do tabulky přenášejí z předcházejících listů",null,null,null,null,null,null,null,null,"OB1 - etapa K90 - ekonomizér",null,"OB1 - etapa K90 - komplexní vyzkoušení"]
[null,null,null,null,null,null,null,null,null,null,"OB1 - etapa K90 - vyzdívky",null,"OB1 - etapa K90 - zkušební provoz"]
[null,null,null,null,null,null,null,null,null,null,"OB1 - etapa K90 - dno spalovací komory",null,"OB1 - etapa K90 - garanční test A"]
[null,null,null,null,null,null,null,null,null,null,"OB1 - etapa K90 - spalinovody včetně tkaninového filtru",null,"OB1 - etapa K90 - předběžné převzetí díla PAC"]
[null,null,null,null,null,null,null,null,null,null,"OB1 - etapa K90 - elektroinstalace",null,"OB1 - etapa K90 - finální převzetí díla FAC"]
[null,null,null,null,null,null,null,null,null,null,"OB1 - etapa K90 - úprava ASŘ"]
[null,null,null,null,null,null,null,null,null,null,"OB1 - etapa K90 - stavební konstrukce"]
[null,null,null,null,null,null,null,null,null,null,"OB1 - etapa K90 - popelové hospodářství (dopravní rozvody, sila)"]
[null,null,null,null,null,null,null,null,null,null,"OB1 - etapa K90 - další výše nevyjmenované položky"]
[null,null,null,null,null,null,null,null,null,null,"OB1 - etapa K90 - dokončení stavebních prací"]
[null,null,null,null,null,null,null,null,null,null,"OB1 - etapa K90 - ukončení montážních prací"]
[null,null,null,null,null,null,null,null,null,null,"OB1 - etapa K90 - školení zaměstnanců provozu"]
[null,null,null,null,null,null,null,null,null,null,"OB1 - etapa K90 - příprava ke kompexnímu vyzkoušení"]
[null,null,null,null,null,null,null,null,null,null,"OB1 - etapa K90 - komplexní vyzkoušení"]
[null,null,null,null,null,null,null,null,null,null,"OB1 - etapa K90 - zkušební provoz"]
[null,null,null,null,null,null,null,null,null,null,"OB1 - etapa K90 - garanční test A"]
[null,null,null,null,null,null,null,null,null,null,"OB1 - etapa K90 - předběžné převzetí díla PAC"]
[null,null,null,null,null,null,null,null,null,null,"OB1 - etapa K90 - garanční test B"]
[null,null,null,null,null,null,null,null,null,null,"OB1 - etapa K90 - finální převzetí díla FAC"]

{"sheet":"časový harmonogram","index":7,"n_rows":74,"n_cols":58,"rows_kept":74,"cut":false,"hidden":true,"merged":[[3,0,4,0],[37,0,39,0],[29,0,31,0],[3,3,3,57],[3,2,4,2],[3,1,4,1],[17,0,18,0],[19,0,20,0],[13,0,14,0],[15,0,16,0]]}
[]
[null,"Příloha K zadávací dokumentace - cenová nabídka a časový harmonogram"]
[]
["Technologické a stavební celky","Milníky","Etapa","Období"]
[null,null,null,"2024-06-01","2024-07-02","2024-08-02","2024-09-02","2024-10-03","2024-11-03","2024-12-04","2025-01-04","2025-02-04","2025-03-07","2025-04-07","2025-05-08","2025-06-08","2025-07-09","2025-08-09","2025-09-09","2025-10-10","2025-11-10","2025-12-11","2026-01-11","2026-02-11","2026-03-14","2026-04-14","2026-05-15","2026-06-15","2026-07-16","2026-08-16","2026-09-16","2026-10-17","2026-11-17","2026-12-18","2027-01-18","2027-02-18","2027-03-21","2027-04-21","2027-05-22","2027-06-22","2027-07-23","2027-08-23","2027-09-23","2027-10-24","2027-11-24","2027-12-25","2028-01-25","2028-02-25","2028-03-27","2028-04-27","2028-05-28","2028-06-28","2028-07-29","2028-08-29","2028-09-29","2028-10-30","2028-11-30","2028-12-31"]
[null,1,1,1,2,3,4,5,6,7,8,9,10,11,12,13,14,15,16,17,18,19,20,21,22,23,24,25,26,27,28,29,30,31,32,33,34,35,36,37,38,39,40,41,42,43,44,45,46,47,48,49,50,51,52,53,54,55]
[null,"Podpis smlouvy","K20/K80/K90",{"$f":"'OB1 - etapa K20 - harmonogram'!J8","v":0},{"$f":"'OB1 - etapa K20 - harmonogram'!K8","v":0},{"$f":"'OB1 - etapa K20 - harmonogram'!L8","v":0},{"$f":"'OB1 - etapa K20 - harmonogram'!M8","v":0},{"$f":"'OB1 - etapa K20 - harmonogram'!N8","v":0},{"$f":"'OB1 - etapa K20 - harmonogram'!O8","v":0},{"$f":"'OB1 - etapa K20 - harmonogram'!P8","v":0},{"$f":"'OB1 - etapa K20 - harmonogram'!Q8","v":0},{"$f":"'OB1 - etapa K20 - harmonogram'!R8","v":0},{"$f":"'OB1 - etapa K20 - harmonogram'!S8","v":0},{"$f":"'OB1 - etapa K20 - harmonogram'!T8","v":0},{"$f":"'OB1 - etapa K20 - harmonogram'!U8","v":0},{"$f":"'OB1 - etapa K20 - harmonogram'!V8","v":0},{"$f":"'OB1 - etapa K20 - harmonogram'!W8","v":0},{"$f":"'OB1 - etapa K20 - harmonogram'!X8","v":0},{"$f":"'OB1 - etapa K20 - harmonogram'!Y8","v":0},{"$f":"'OB1 - etapa K20 - harmonogram'!Z8","v":0},{"$f":"'OB1 - etapa K20 - harmonogram'!AA8","v":0},{"$f":"'OB1 - etapa K20 - harmonogram'!AB8","v":0},{"$f":"'OB1 - etapa K20 - harmonogram'!AC8","v":0},{"$f":"'OB1 - etapa K20 - harmonogram'!AD8","v":0},{"$f":"'OB1 - etapa K20 - harmonogram'!AE8","v":0},{"$f":"'OB1 - etapa K20 - harmonogram'!AF8","v":0},{"$f":"'OB1 - etapa K20 - harmonogram'!AG8","v":0},{"$f":"'OB1 - etapa K20 - harmonogram'!AH8","v":0},{"$f":"'OB1 - etapa K20 - harmonogram'!AI8","v":0},{"$f":"'OB1 - etapa K20 - harmonogram'!AJ8","v":0},{"$f":"'OB1 - etapa K20 - harmonogram'!AK8","v":0},{"$f":"'OB1 - etapa K20 - harmonogram'!AL8","v":0},{"$f":"'OB1 - etapa K20 - harmonogram'!AM8","v":0},{"$f":"'OB1 - etapa K20 - harmonogram'!AN8","v":0},{"$f":"'OB1 - etapa K20 - harmonogram'!AO8","v":0},{"$f":"'OB1 - etapa K20 - harmonogram'!AP8","v":0},{"$f":"'OB1 - etapa K20 - harmonogram'!AQ8","v":0},{"$f":"'OB1 - etapa K20 - harmonogram'!AR8","v":0},{"$f":"'OB1 - etapa K20 - harmonogram'!AS8","v":0},{"$f":"'OB1 - etapa K20 - harmonogram'!AT8","v":0},{"$f":"'OB1 - etapa K20 - harmonogram'!AU8","v":0},{"$f":"'OB1 - etapa K20 - harmonogram'!AV8","v":0},{"$f":"'OB1 - etapa K20 - harmonogram'!AW8","v":0},{"$f":"'OB1 - etapa K20 - harmonogram'!AX8","v":0},{"$f":"'OB1 - etapa K20 - harmonogram'!AY8","v":0},{"$f":"'OB1 - etapa K20 - harmonogram'!AZ8","v":0},{"$f":"'OB1 - etapa K20 - harmonogram'!BA8","v":0},{"$f":"'OB1 - etapa K20 - harmonogram'!BB8","v":0},{"$f":"'OB1 - etapa K20 - harmonogram'!BC8","v":0},{"$f":"'OB1 - etapa K20 - harmonogram'!BD8","v":0},{"$f":"'OB1 - etapa K20 - harmonogram'!BE8","v":0},{"$f":"'OB1 - etapa K20 - harmonogram'!BF8","v":0},{"$f":"'OB1 - etapa K20 - harmonogram'!BG8","v":0},{"$f":"'OB1 - etapa K20 - harmonogram'!BH8","v":0},{"$f":"'OB1 - etapa K20 - harmonogram'!BI8","v":0},{"$f":"'OB1 - etapa K20 - harmonogram'!BJ8","v":0},{"$f":"'OB1 - etapa K20 - harmonogram'!BK8","v":0},{"$f":"'OB1 - etapa K20 - harmonogram'!BL8","v":0}]
[null,"etapa K20 - vstupní technická jednání ","K20",{"$f":"'OB1 - etapa K20 - harmonogram'!J9","v":0},{"$f":"'OB1 - etapa K20 - harmonogram'!K9","v":0},{"$f":"'OB1 - etapa K20 - harmonogram'!L9","v":0},{"$f":"'OB1 - etapa K20 - harmonogram'!M9","v":0},{"$f":"'OB1 - etapa K20 - harmonogram'!N9","v":0},{"$f":"'OB1 - etapa K20 - harmonogram'!O9","v":0},{"$f":"'OB1 - etapa K20 - harmonogram'!P9","v":0},{"$f":"'OB1 - etapa K20 - harmonogram'!Q9","v":0},{"$f":"'OB1 - etapa K20 - harmonogram'!R9","v":0},{"$f":"'OB1 - etapa K20 - harmonogram'!S9","v":0},{"$f":"'OB1 - etapa K20 - harmonogram'!T9","v":0},{"$f":"'OB1 - etapa K20 - harmonogram'!U9","v":0},{"$f":"'OB1 - etapa K20 - harmonogram'!V9","v":0},{"$f":"'OB1 - etapa K20 - harmonogram'!W9","v":0},{"$f":"'OB1 - etapa K20 - harmonogram'!X9","v":0},{"$f":"'OB1 - etapa K20 - harmonogram'!Y9","v":0},{"$f":"'OB1 - etapa K20 - harmonogram'!Z9","v":0},{"$f":"'OB1 - etapa K20 - harmonogram'!AA9","v":0},{"$f":"'OB1 - etapa K20 - harmonogram'!AB9","v":0},{"$f":"'OB1 - etapa K20 - harmonogram'!AC9","v":0},{"$f":"'OB1 - etapa K20 - harmonogram'!AD9","v":0},{"$f":"'OB1 - etapa K20 - harmonogram'!AE9","v":0},{"$f":"'OB1 - etapa K20 - harmonogram'!AF9","v":0},{"$f":"'OB1 - etapa K20 - harmonogram'!AG9","v":0},{"$f":"'OB1 - etapa K20 - harmonogram'!AH9","v":0},{"$f":"'OB1 - etapa K20 - harmonogram'!AI9","v":0},{"$f":"'OB1 - etapa K20 - harmonogram'!AJ9","v":0},{"$f":"'OB1 - etapa K20 - harmonogram'!AK9","v":0},{"$f":"'OB1 - etapa K20 - harmonogram'!AL9","v":0},{"$f":"'OB1 - etapa K20 - harmonogram'!AM9","v":0},{"$f":"'OB1 - etapa K20 - harmonogram'!AN9","v":0},{"$f":"'OB1 - etapa K20 - harmonogram'!AO9","v":0},{"$f":"'OB1 - etapa K20 - harmonogram'!AP9","v":0},{"$f":"'OB1 - etapa K20 - harmonogram'!AQ9","v":0},{"$f":"'OB1 - etapa K20 - harmonogram'!AR9","v":0},{"$f":"'OB1 - etapa K20 - harmonogram'!AS9","v":0},{"$f":"'OB1 - etapa K20 - harmonogram'!AT9","v":0},{"$f":"'OB1 - etapa K20 - harmonogram'!AU9","v":0},{"$f":"'OB1 - etapa K20 - harmonogram'!AV9","v":0},{"$f":"'OB1 - etapa K20 - harmonogram'!AW9","v":0},{"$f":"'OB1 - etapa K20 - harmonogram'!AX9","v":0},{"$f":"'OB1 - etapa K20 - harmonogram'!AY9","v":0},{"$f":"'OB1 - etapa K20 - harmonogram'!AZ9","v":0},{"$f":"'OB1 - etapa K20 - harmonogram'!BA9","v":0},{"$f":"'OB1 - etapa K20 - harmonogram'!BB9","v":0},{"$f":"'OB1 - etapa K20 - harmonogram'!BC9","v":0},{"$f":"'OB1 - etapa K20 - harmonogram'!BD9","v":0},{"$f":"'OB1 - etapa K20 - harmonogram'!BE9","v":0},{"$f":"'OB1 - etapa K20 - harmonogram'!BF9","v":0},{"$f":"'OB1 - etapa K20 - harmonogram'!BG9","v":0},{"$f":"'OB1 - etapa K20 - harmonogram'!BH9","v":0},{"$f":"'OB1 - etapa K20 - harmonogram'!BI9","v":0},{"$f":"'OB1 - etapa K20 - harmonogram'!BJ9","v":0},{"$f":"'OB1 - etapa K20 - harmonogram'!BK9","v":0},{"$f":"'OB1 - etapa K20 - harmonogram'!BL9","v":0}]
[null,"etapa K20 - závazné technické parametry pro OB 6 (Stavba) ","K20",{"$f":"'OB1 - etapa K20 - harmonogram'!J10","v":0},{"$f":"'OB1 - etapa K20 - harmonogram'!K10","v":0},{"$f":"'OB1 - etapa K20 - harmonogram'!L10","v":0},{"$f":"'OB1 - etapa K20 - harmonogram'!M10","v":0},{"$f":"'OB1 - etapa K20 - harmonogram'!N10","v":0},{"$f":"'OB1 - etapa K20 - harmonogram'!O10","v":0},{"$f":"'OB1 - etapa K20 - harmonogram'!P10","v":0},{"$f":"'OB1 - etapa K20 - harmonogram'!Q10","v":0},{"$f":"'OB1 - etapa K20 - harmonogram'!R10","v":0},{"$f":"'OB1 - etapa K20 - harmonogram'!S10","v":0},{"$f":"'OB1 - etapa K20 - harmonogram'!T10","v":0},{"$f":"'OB1 - etapa K20 - harmonogram'!U10","v":0},{"$f":"'OB1 - etapa K20 - harmonogram'!V10","v":0},{"$f":"'OB1 - etapa K20 - harmonogram'!W10","v":0},{"$f":"'OB1 - etapa K20 - harmonogram'!X10","v":0},{"$f":"'OB1 - etapa K20 - harmonogram'!Y10","v":0},{"$f":"'OB1 - etapa K20 - harmonogram'!Z10","v":0},{"$f":"'OB1 - etapa K20 - harmonogram'!AA10","v":0},{"$f":"'OB1 - etapa K20 - harmonogram'!AB10","v":0},{"$f":"'OB1 - etapa K20 - harmonogram'!AC10","v":0},{"$f":"'OB1 - etapa K20 - harmonogram'!AD10","v":0},{"$f":"'OB1 - etapa K20 - harmonogram'!AE10","v":0},{"$f":"'OB1 - etapa K20 - harmonogram'!AF10","v":0},{"$f":"'OB1 - etapa K20 - harmonogram'!AG10","v":0},{"$f":"'OB1 - etapa K20 - harmonogram'!AH10","v":0},{"$f":"'OB1 - etapa K20 - harmonogram'!AI10","v":0},{"$f":"'OB1 - etapa K20 - harmonogram'!AJ10","v":0},{"$f":"'OB1 - etapa K20 - harmonogram'!AK10","v":0},{"$f":"'OB1 - etapa K20 - harmonogram'!AL10","v":0},{"$f":"'OB1 - etapa K20 - harmonogram'!AM10","v":0},{"$f":"'OB1 - etapa K20 - harmonogram'!AN10","v":0},{"$f":"'OB1 - etapa K20 - harmonogram'!AO10","v":0},{"$f":"'OB1 - etapa K20 - harmonogram'!AP10","v":0},{"$f":"'OB1 - etapa K20 - harmonogram'!AQ10","v":0},{"$f":"'OB1 - etapa K20 - harmonogram'!AR10","v":0},{"$f":"'OB1 - etapa K20 - harmonogram'!AS10","v":0},{"$f":"'OB1 - etapa K20 - harmonogram'!AT10","v":0},{"$f":"'OB1 - etapa K20 - harmonogram'!AU10","v":0},{"$f":"'OB1 - etapa K20 - harmonogram'!AV10","v":0},{"$f":"'OB1 - etapa K20 - harmonogram'!AW10","v":0},{"$f":"'OB1 - etapa K20 - harmonogram'!AX10","v":0},{"$f":"'OB1 - etapa K20 - harmonogram'!AY10","v":0},{"$f":"'OB1 - etapa K20 - harmonogram'!AZ10","v":0},{"$f":"'OB1 - etapa K20 - harmonogram'!BA10","v":0},{"$f":"'OB1 - etapa K20 - harmonogram'!BB10","v":0},{"$f":"'OB1 - etapa K20 - harmonogram'!BC10","v":0},{"$f":"'OB1 - etapa K20 - harmonogram'!BD10","v":0},{"$f":"'OB1 - etapa K20 - harmonogram'!BE10","v":0},{"$f":"'OB1 - etapa K20 - harmonogram'!BF10","v":0},{"$f":"'OB1 - etapa K20 - harmonogram'!BG10","v":0},{"$f":"'OB1 - etapa K20 - harmonogram'!BH10","v":0},{"$f":"'OB1 - etapa K20 - harmonogram'!BI10","v":0},{"$f":"'OB1 - etapa K20 - harmonogram'!BJ10","v":0},{"$f":"'OB1 - etapa K20 - harmonogram'!BK10","v":0},{"$f":"'OB1 - etapa K20 - harmonogram'!BL10","v":0}]
[null,"etapa K20 - závazné technické parametry pro OB 2 (Kotle) ","K20",{"$f":"'OB1 - etapa K20 - harmonogram'!J12","v":0},{"$f":"'OB1 - etapa K20 - harmonogram'!K12","v":0},{"$f":"'OB1 - etapa K20 - harmonogram'!L12","v":0},{"$f":"'OB1 - etapa K20 - harmonogram'!M12","v":0},{"$f":"'OB1 - etapa K20 - harmonogram'!N12","v":0},{"$f":"'OB1 - etapa K20 - harmonogram'!O12","v":0},{"$f":"'OB1 - etapa K20 - harmonogram'!P12","v":0},{"$f":"'OB1 - etapa K20 - harmonogram'!Q12","v":0},{"$f":"'OB1 - etapa K20 - harmonogram'!R12","v":0},{"$f":"'OB1 - etapa K20 - harmonogram'!S12","v":0},{"$f":"'OB1 - etapa K20 - harmonogram'!T12","v":0},{"$f":"'OB1 - etapa K20 - harmonogram'!U12","v":0},{"$f":"'OB1 - etapa K20 - harmonogram'!V12","v":0},{"$f":"'OB1 - etapa K20 - harmonogram'!W12","v":0},{"$f":"'OB1 - etapa K20 - harmonogram'!X12","v":0},{"$f":"'OB1 - etapa K20 - harmonogram'!Y12","v":0},{"$f":"'OB1 - etapa K20 - harmonogram'!Z12","v":0},{"$f":"'OB1 - etapa K20 - harmonogram'!AA12","v":0},{"$f":"'OB1 - etapa K20 - harmonogram'!AB12","v":0},{"$f":"'OB1 - etapa K20 - harmonogram'!AC12","v":0},{"$f":"'OB1 - etapa K20 - harmonogram'!AD12","v":0},{"$f":"'OB1 - etapa K20 - harmonogram'!AE12","v":0},{"$f":"'OB1 - etapa K20 - harmonogram'!AF12","v":0},{"$f":"'OB1 - etapa K20 - harmonogram'!AG12","v":0},{"$f":"'OB1 - etapa K20 - harmonogram'!AH12","v":0},{"$f":"'OB1 - etapa K20 - harmonogram'!AI12","v":0},{"$f":"'OB1 - etapa K20 - harmonogram'!AJ12","v":0},{"$f":"'OB1 - etapa K20 - harmonogram'!AK12","v":0},{"$f":"'OB1 - etapa K20 - harmonogram'!AL12","v":0},{"$f":"'OB1 - etapa K20 - harmonogram'!AM12","v":0},{"$f":"'OB1 - etapa K20 - harmonogram'!AN12","v":0},{"$f":"'OB1 - etapa K20 - harmonogram'!AO12","v":0},{"$f":"'OB1 - etapa K20 - harmonogram'!AP12","v":0},{"$f":"'OB1 - etapa K20 - harmonogram'!AQ12","v":0},{"$f":"'OB1 - etapa K20 - harmonogram'!AR12","v":0},{"$f":"'OB1 - etapa K20 - harmonogram'!AS12","v":0},{"$f":"'OB1 - etapa K20 - harmonogram'!AT12","v":0},{"$f":"'OB1 - etapa K20 - harmonogram'!AU12","v":0},{"$f":"'OB1 - etapa K20 - harmonogram'!AV12","v":0},{"$f":"'OB1 - etapa K20 - harmonogram'!AW12","v":0},{"$f":"'OB1 - etapa K20 - harmonogram'!AX12","v":0},{"$f":"'OB1 - etapa K20 - harmonogram'!AY12","v":0},{"$f":"'OB1 - etapa K20 - harmonogram'!AZ12","v":0},{"$f":"'OB1 - etapa K20 - harmonogram'!BA12","v":0},{"$f":"'OB1 - etapa K20 - harmonogram'!BB12","v":0},{"$f":"'OB1 - etapa K20 - harmonogram'!BC12","v":0},{"$f":"'OB1 - etapa K20 - harmonogram'!BD12","v":0},{"$f":"'OB1 - etapa K20 - harmonogram'!BE12","v":0},{"$f":"'OB1 - etapa K20 - harmonogram'!BF12","v":0},{"$f":"'OB1 - etapa K20 - harmonogram'!BG12","v":0},{"$f":"'OB1 - etapa K20 - harmonogram'!BH12","v":0},{"$f":"'OB1 - etapa K20 - harmonogram'!BI12","v":0},{"$f":"'OB1 - etapa K20 - harmonogram'!BJ12","v":0},{"$f":"'OB1 - etapa K20 - harmonogram'!BK12","v":0},{"$f":"'OB1 - etapa K20 - harmonogram'!BL12","v":0}]
[null,"etapa K20 - závazné technické parametry pro ostatní OB, pro ostatní dodavatele technologických celků","K20",{"$f":"'OB1 - etapa K20 - harmonogram'!J14","v":0},{"$f":"'OB1 - etapa K20 - harmonogram'!K14","v":0},{"$f":"'OB1 - etapa K20 - harmonogram'!L14","v":0},{"$f":"'OB1 - etapa K20 - harmonogram'!M14","v":0},{"$f":"'OB1 - etapa K20 - harmonogram'!N14","v":0},{"$f":"'OB1 - etapa K20 - harmonogram'!O14","v":0},{"$f":"'OB1 - etapa K20 - harmonogram'!P14","v":0},{"$f":"'OB1 - etapa K20 - harmonogram'!Q14","v":0},{"$f":"'OB1 - etapa K20 - harmonogram'!R14","v":0},{"$f":"'OB1 - etapa K20 - harmonogram'!S14","v":0},{"$f":"'OB1 - etapa K20 - harmonogram'!T14","v":0},{"$f":"'OB1 - etapa K20 - harmonogram'!U14","v":0},{"$f":"'OB1 - etapa K20 - harmonogram'!V14","v":0},{"$f":"'OB1 - etapa K20 - harmonogram'!W14","v":0},{"$f":"'OB1 - etapa K20 - harmonogram'!X14","v":0},{"$f":"'OB1 - etapa K20 - harmonogram'!Y14","v":0},{"$f":"'OB1 - etapa K20 - harmonogram'!Z14","v":0},{"$f":"'OB1 - etapa K20 - harmonogram'!AA14","v":0},{"$f":"'OB1 - etapa K20 - harmonogram'!AB14","v":0},{"$f":"'OB1 - etapa K20 - harmonogram'!AC14","v":0},{"$f":"'OB1 - etapa K20 - harmonogram'!AD14","v":0},{"$f":"'OB1 - etapa K20 - harmonogram'!AE14","v":0},{"$f":"'OB1 - etapa K20 - harmonogram'!AF14","v":0},{"$f":"'OB1 - etapa K20 - harmonogram'!AG14","v":0},{"$f":"'OB1 - etapa K20 - harmonogram'!AH14","v":0},{"$f":"'OB1 - etapa K20 - harmonogram'!AI14","v":0},{"$f":"'OB1 - etapa K20 - harmonogram'!AJ14","v":0},{"$f":"'OB1 - etapa K20 - harmonogram'!AK14","v":0},{"$f":"'OB1 - etapa K20 - harmonogram'!AL14","v":0},{"$f":"'OB1 - etapa K20 - harmonogram'!AM14","v":0},{"$f":"'OB1 - etapa K20 - harmonogram'!AN14","v":0},{"$f":"'OB1 - etapa K20 - harmonogram'!AO14","v":0},{"$f":"'OB1 - etapa K20 - harmonogram'!AP14","v":0},{"$f":"'OB1 - etapa K20 - harmonogram'!AQ14","v":0},{"$f":"'OB1 - etapa K20 - harmonogram'!AR14","v":0},{"$f":"'OB1 - etapa K20 - harmonogram'!AS14","v":0},{"$f":"'OB1 - etapa K20 - harmonogram'!AT14","v":0},{"$f":"'OB1 - etapa K20 - harmonogram'!AU14","v":0},{"$f":"'OB1 - etapa K20 - harmonogram'!AV14","v":0},{"$f":"'OB1 - etapa K20 - harmonogram'!AW14","v":0},{"$f":"'OB1 - etapa K20 - harmonogram'!AX14","v":0},{"$f":"'OB1 - etapa K20 - harmonogram'!AY14","v":0},{"$f":"'OB1 - etapa K20 - harmonogram'!AZ14","v":0},{"$f":"'OB1 - etapa K20 - harmonogram'!BA14","v":0},{"$f":"'OB1 - etapa K20 - harmonogram'!BB14","v":0},{"$f":"'OB1 - etapa K20 - harmonogram'!BC14","v":0},{"$f":"'OB1 - etapa K20 - harmonogram'!BD14","v":0},{"$f":"'OB1 - etapa K20 - harmonogram'!BE14","v":0},{"$f":"'OB1 - etapa K20 - harmonogram'!BF14","v":0},{"$f":"'OB1 - etapa K20 - harmonogram'!BG14","v":0},{"$f":"'OB1 - etapa K20 - harmonogram'!BH14","v":0},{"$f":"'OB1 - etapa K20 - harmonogram'!BI14","v":0},{"$f":"'OB1 - etapa K20 - harmonogram'!BJ14","v":0},{"$f":"'OB1 - etapa K20 - harmonogram'!BK14","v":0},{"$f":"'OB1 - etapa K20 - harmonogram'!BL14","v":0}]
[null,"etapa K20 - odsouhlasená prováděcí dokumentace","K20",{"$f":"'OB1 - etapa K20 - harmonogram'!J16","v":0},{"$f":"'OB1 - etapa K20 - harmonogram'!K16","v":0},{"$f":"'OB1 - etapa K20 - harmonogram'!L16","v":0},{"$f":"'OB1 - etapa K20 - harmonogram'!M16","v":0},{"$f":"'OB1 - etapa K20 - harmonogram'!N16","v":0},{"$f":"'OB1 - etapa K20 - harmonogram'!O16","v":0},{"$f":"'OB1 - etapa K20 - harmonogram'!P16","v":0},{"$f":"'OB1 - etapa K20 - harmonogram'!Q16","v":0},{"$f":"'OB1 - etapa K20 - harmonogram'!R16","v":0},{"$f":"'OB1 - etapa K20 - harmonogram'!S16","v":0},{"$f":"'OB1 - etapa K20 - harmonogram'!T16","v":0},{"$f":"'OB1 - etapa K20 - harmonogram'!U16","v":0},{"$f":"'OB1 - etapa K20 - harmonogram'!V16","v":0},{"$f":"'OB1 - etapa K20 - harmonogram'!W16","v":0},{"$f":"'OB1 - etapa K20 - harmonogram'!X16","v":0},{"$f":"'OB1 - etapa K20 - harmonogram'!Y16","v":0},{"$f":"'OB1 - etapa K20 - harmonogram'!Z16","v":0},{"$f":"'OB1 - etapa K20 - harmonogram'!AA16","v":0},{"$f":"'OB1 - etapa K20 - harmonogram'!AB16","v":0},{"$f":"'OB1 - etapa K20 - harmonogram'!AC16","v":0},{"$f":"'OB1 - etapa K20 - harmonogram'!AD16","v":0},{"$f":"'OB1 - etapa K20 - harmonogram'!AE16","v":0},{"$f":"'OB1 - etapa K20 - harmonogram'!AF16","v":0},{"$f":"'OB1 - etapa K20 - harmonogram'!AG16","v":0},{"$f":"'OB1 - etapa K20 - harmonogram'!AH16","v":0},{"$f":"'OB1 - etapa K20 - harmonogram'!AI16","v":0},{"$f":"'OB1 - etapa K20 - harmonogram'!AJ16","v":0},{"$f":"'OB1 - etapa K20 - harmonogram'!AK16","v":0},{"$f":"'OB1 - etapa K20 - harmonogram'!AL16","v":0},{"$f":"'OB1 - etapa K20 - harmonogram'!AM16","v":0},{"$f":"'OB1 - etapa K20 - harmonogram'!AN16","v":0},{"$f":"'OB1 - etapa K20 - harmonogram'!AO16","v":0},{"$f":"'OB1 - etapa K20 - harmonogram'!AP16","v":0},{"$f":"'OB1 - etapa K20 - harmonogram'!AQ16","v":0},{"$f":"'OB1 - etapa K20 - harmonogram'!AR16","v":0},{"$f":"'OB1 - etapa K20 - harmonogram'!AS16","v":0},{"$f":"'OB1 - etapa K20 - harmonogram'!AT16","v":0},{"$f":"'OB1 - etapa K20 - harmonogram'!AU16","v":0},{"$f":"'OB1 - etapa K20 - harmonogram'!AV16","v":0},{"$f":"'OB1 - etapa K20 - harmonogram'!AW16","v":0},{"$f":"'OB1 - etapa K20 - harmonogram'!AX16","v":0},{"$f":"'OB1 - etapa K20 - harmonogram'!AY16","v":0},{"$f":"'OB1 - etapa K20 - harmonogram'!AZ16","v":0},{"$f":"'OB1 - etapa K20 - harmonogram'!BA16","v":0},{"$f":"'OB1 - etapa K20 - harmonogram'!BB16","v":0},{"$f":"'OB1 - etapa K20 - harmonogram'!BC16","v":0},{"$f":"'OB1 - etapa K20 - harmonogram'!BD16","v":0},{"$f":"'OB1 - etapa K20 - harmonogram'!BE16","v":0},{"$f":"'OB1 - etapa K20 - harmonogram'!BF16","v":0},{"$f":"'OB1 - etapa K20 - harmonogram'!BG16","v":0},{"$f":"'OB1 - etapa K20 - harmonogram'!BH16","v":0},{"$f":"'OB1 - etapa K20 - harmonogram'!BI16","v":0},{"$f":"'OB1 - etapa K20 - harmonogram'!BJ16","v":0},{"$f":"'OB1 - etapa K20 - harmonogram'!BK16","v":0},{"$f":"'OB1 - etapa K20 - harmonogram'!BL16","v":0}]
[null,"etapa K20 - předání a převzetí staveniště","K20",{"$f":"'OB1 - etapa K20 - harmonogram'!J18","v":0},{"$f":"'OB1 - etapa K20 - harmonogram'!K18","v":0},{"$f":"'OB1 - etapa K20 - harmonogram'!L18","v":0},{"$f":"'OB1 - etapa K20 - harmonogram'!M18","v":0},{"$f":"'OB1 - etapa K20 - harmonogram'!N18","v":0},{"$f":"'OB1 - etapa K20 - harmonogram'!O18","v":0},{"$f":"'OB1 - etapa K20 - harmonogram'!P18","v":0},{"$f":"'OB1 - etapa K20 - harmonogram'!Q18","v":0},{"$f":"'OB1 - etapa K20 - harmonogram'!R18","v":0},{"$f":"'OB1 - etapa K20 - harmonogram'!S18","v":0},{"$f":"'OB1 - etapa K20 - harmonogram'!T18","v":0},{"$f":"'OB1 - etapa K20 - harmonogram'!U18","v":0},{"$f":"'OB1 - etapa K20 - harmonogram'!V18","v":0},{"$f":"'OB1 - etapa K20 - harmonogram'!W18","v":0},{"$f":"'OB1 - etapa K20 - harmonogram'!X18","v":0},{"$f":"'OB1 - etapa K20 - harmonogram'!Y18","v":0},{"$f":"'OB1 - etapa K20 - harmonogram'!Z18","v":0},{"$f":"'OB1 - etapa K20 - harmonogram'!AA18","v":0},{"$f":"'OB1 - etapa K20 - harmonogram'!AB18","v":0},{"$f":"'OB1 - etapa K20 - harmonogram'!AC18","v":0},{"$f":"'OB1 - etapa K20 - harmonogram'!AD18","v":0},{"$f":"'OB1 - etapa K20 - harmonogram'!AE18","v":0},{"$f":"'OB1 - etapa K20 - harmonogram'!AF18","v":0},{"$f":"'OB1 - etapa K20 - harmonogram'!AG18","v":0},{"$f":"'OB1 - etapa K20 - harmonogram'!AH18","v":0},{"$f":"'OB1 - etapa K20 - harmonogram'!AI18","v":0},{"$f":"'OB1 - etapa K20 - harmonogram'!AJ18","v":0},{"$f":"'OB1 - etapa K20 - harmonogram'!AK18","v":0},{"$f":"'OB1 - etapa K20 - harmonogram'!AL18","v":0},{"$f":"'OB1 - etapa K20 - harmonogram'!AM18","v":0},{"$f":"'OB1 - etapa K20 - harmonogram'!AN18","v":0},{"$f":"'OB1 - etapa K20 - harmonogram'!AO18","v":0},{"$f":"'OB1 - etapa K20 - harmonogram'!AP18","v":0},{"$f":"'OB1 - etapa K20 - harmonogram'!AQ18","v":0},{"$f":"'OB1 - etapa K20 - harmonogram'!AR18","v":0},{"$f":"'OB1 - etapa K20 - harmonogram'!AS18","v":0},{"$f":"'OB1 - etapa K20 - harmonogram'!AT18","v":0},{"$f":"'OB1 - etapa K20 - harmonogram'!AU18","v":0},{"$f":"'OB1 - etapa K20 - harmonogram'!AV18","v":0},{"$f":"'OB1 - etapa K20 - harmonogram'!AW18","v":0},{"$f":"'OB1 - etapa K20 - harmonogram'!AX18","v":0},{"$f":"'OB1 - etapa K20 - harmonogram'!AY18","v":0},{"$f":"'OB1 - etapa K20 - harmonogram'!AZ18","v":0},{"$f":"'OB1 - etapa K20 - harmonogram'!BA18","v":0},{"$f":"'OB1 - etapa K20 - harmonogram'!BB18","v":0},{"$f":"'OB1 - etapa K20 - harmonogram'!BC18","v":0},{"$f":"'OB1 - etapa K20 - harmonogram'!BD18","v":0},{"$f":"'OB1 - etapa K20 - harmonogram'!BE18","v":0},{"$f":"'OB1 - etapa K20 - harmonogram'!BF18","v":0},{"$f":"'OB1 - etapa K20 - harmonogram'!BG18","v":0},{"$f":"'OB1 - etapa K20 - harmonogram'!BH18","v":0},{"$f":"'OB1 - etapa K20 - harmonogram'!BI18","v":0},{"$f":"'OB1 - etapa K20 - harmonogram'!BJ18","v":0},{"$f":"'OB1 - etapa K20 - harmonogram'!BK18","v":0},{"$f":"'OB1 - etapa K20 - harmonogram'!BL18","v":0}]
["SO 101,SO 106 - Objekt třídírny a rozvodny","etapa K20 - Technologická část (PS 101, PS 102, PS 103, PS 104, PS 106, PS 107, PS 108)","K20",{"$f":"'OB1 - etapa K20 - harmonogram'!J19","v":0},{"$f":"'OB1 - etapa K20 - harmonogram'!K19","v":0},{"$f":"'OB1 - etapa K20 - harmonogram'!L19","v":0},{"$f":"'OB1 - etapa K20 - harmonogram'!M19","v":0},{"$f":"'OB1 - etapa K20 - harmonogram'!N19","v":0},{"$f":"'OB1 - etapa K20 - harmonogram'!O19","v":0},{"$f":"'OB1 - etapa K20 - harmonogram'!P19","v":0},{"$f":"'OB1 - etapa K20 - harmonogram'!Q19","v":0},{"$f":"'OB1 - etapa K20 - harmonogram'!R19","v":0},{"$f":"'OB1 - etapa K20 - harmonogram'!S19","v":0},{"$f":"'OB1 - etapa K20 - harmonogram'!T19","v":0},{"$f":"'OB1 - etapa K20 - harmonogram'!U19","v":0},{"$f":"'OB1 - etapa K20 - harmonogram'!V19","v":0},{"$f":"'OB1 - etapa K20 - harmonogram'!W19","v":0},{"$f":"'OB1 - etapa K20 - harmonogram'!X19","v":0},{"$f":"'OB1 - etapa K20 - harmonogram'!Y19","v":0},{"$f":"'OB1 - etapa K20 - harmonogram'!Z19","v":0},{"$f":"'OB1 - etapa K20 - harmonogram'!AA19","v":0},{"$f":"'OB1 - etapa K20 - harmonogram'!AB19","v":0},{"$f":"'OB1 - etapa K20 - harmonogram'!AC19","v":0},{"$f":"'OB1 - etapa K20 - harmonogram'!AD19","v":0},{"$f":"'OB1 - etapa K20 - harmonogram'!AE19","v":0},{"$f":"'OB1 - etapa K20 - harmonogram'!AF19","v":0},{"$f":"'OB1 - etapa K20 - harmonogram'!AG19","v":0},{"$f":"'OB1 - etapa K20 - harmonogram'!AH19","v":0},{"$f":"'OB1 - etapa K20 - harmonogram'!AI19","v":0},{"$f":"'OB1 - etapa K20 - harmonogram'!AJ19","v":0},{"$f":"'OB1 - etapa K20 - harmonogram'!AK19","v":0},{"$f":"'OB1 - etapa K20 - harmonogram'!AL19","v":0},{"$f":"'OB1 - etapa K20 - harmonogram'!AM19","v":0},{"$f":"'OB1 - etapa K20 - harmonogram'!AN19","v":0},{"$f":"'OB1 - etapa K20 - harmonogram'!AO19","v":0},{"$f":"'OB1 - etapa K20 - harmonogram'!AP19","v":0},{"$f":"'OB1 - etapa K20 - harmonogram'!AQ19","v":0},{"$f":"'OB1 - etapa K20 - harmonogram'!AR19","v":0},{"$f":"'OB1 - etapa K20 - harmonogram'!AS19","v":0},{"$f":"'OB1 - etapa K20 - harmonogram'!AT19","v":0},{"$f":"'OB1 - etapa K20 - harmonogram'!AU19","v":0},{"$f":"'OB1 - etapa K20 - harmonogram'!AV19","v":0},{"$f":"'OB1 - etapa K20 - harmonogram'!AW19","v":0},{"$f":"'OB1 - etapa K20 - harmonogram'!AX19","v":0},{"$f":"'OB1 - etapa K20 - harmonogram'!AY19","v":0},{"$f":"'OB1 - etapa K20 - harmonogram'!AZ19","v":0},{"$f":"'OB1 - etapa K20 - harmonogram'!BA19","v":0},{"$f":"'OB1 - etapa K20 - harmonogram'!BB19","v":0},{"$f":"'OB1 - etapa K20 - harmonogram'!BC19","v":0},{"$f":"'OB1 - etapa K20 - harmonogram'!BD19","v":0},{"$f":"'OB1 - etapa K20 - harmonogram'!BE19","v":0},{"$f":"'OB1 - etapa K20 - harmonogram'!BF19","v":0},{"$f":"'OB1 - etapa K20 - harmonogram'!BG19","v":0},{"$f":"'OB1 - etapa K20 - harmonogram'!BH19","v":0},{"$f":"'OB1 - etapa K20 - harmonogram'!BI19","v":0},{"$f":"'OB1 - etapa K20 - harmonogram'!BJ19","v":0},{"$f":"'OB1 - etapa K20 - harmonogram'!BK19","v":0},{"$f":"'OB1 - etapa K20 - harmonogram'!BL19","v":0}]
[null,"etapa K20 - Stavební část (A4.4)","K20",{"$f":"'OB1 - etapa K20 - harmonogram'!J21","v":0},{"$f":"'OB1 - etapa K20 - harmonogram'!K21","v":0},{"$f":"'OB1 - etapa K20 - harmonogram'!L21","v":0},{"$f":"'OB1 - etapa K20 - harmonogram'!M21","v":0},{"$f":"'OB1 - etapa K20 - harmonogram'!N21","v":0},{"$f":"'OB1 - etapa K20 - harmonogram'!O21","v":0},{"$f":"'OB1 - etapa K20 - harmonogram'!P21","v":0},{"$f":"'OB1 - etapa K20 - harmonogram'!Q21","v":0},{"$f":"'OB1 - etapa K20 - harmonogram'!R21","v":0},{"$f":"'OB1 - etapa K20 - harmonogram'!S21","v":0},{"$f":"'OB1 - etapa K20 - harmonogram'!T21","v":0},{"$f":"'OB1 - etapa K20 - harmonogram'!U21","v":0},{"$f":"'OB1 - etapa K20 - harmonogram'!V21","v":0},{"$f":"'OB1 - etapa K20 - harmonogram'!W21","v":0},{"$f":"'OB1 - etapa K20 - harmonogram'!X21","v":0},{"$f":"'OB1 - etapa K20 - harmonogram'!Y21","v":0},{"$f":"'OB1 - etapa K20 - harmonogram'!Z21","v":0},{"$f":"'OB1 - etapa K20 - harmonogram'!AA21","v":0},{"$f":"'OB1 - etapa K20 - harmonogram'!AB21","v":0},{"$f":"'OB1 - etapa K20 - harmonogram'!AC21","v":0},{"$f":"'OB1 - etapa K20 - harmonogram'!AD21","v":0},{"$f":"'OB1 - etapa K20 - harmonogram'!AE21","v":0},{"$f":"'OB1 - etapa K20 - harmonogram'!AF21","v":0},{"$f":"'OB1 - etapa K20 - harmonogram'!AG21","v":0},{"$f":"'OB1 - etapa K20 - harmonogram'!AH21","v":0},{"$f":"'OB1 - etapa K20 - harmonogram'!AI21","v":0},{"$f":"'OB1 - etapa K20 - harmonogram'!AJ21","v":0},{"$f":"'OB1 - etapa K20 - harmonogram'!AK21","v":0},{"$f":"'OB1 - etapa K20 - harmonogram'!AL21","v":0},{"$f":"'OB1 - etapa K20 - harmonogram'!AM21","v":0},{"$f":"'OB1 - etapa K20 - harmonogram'!AN21","v":0},{"$f":"'OB1 - etapa K20 - harmonogram'!AO21","v":0},{"$f":"'OB1 - etapa K20 - harmonogram'!AP21","v":0},{"$f":"'OB1 - etapa K20 - harmonogram'!AQ21","v":0},{"$f":"'OB1 - etapa K20 - harmonogram'!AR21","v":0},{"$f":"'OB1 - etapa K20 - harmonogram'!AS21","v":0},{"$f":"'OB1 - etapa K20 - harmonogram'!AT21","v":0},{"$f":"'OB1 - etapa K20 - harmonogram'!AU21","v":0},{"$f":"'OB1 - etapa K20 - harmonogram'!AV21","v":0},{"$f":"'OB1 - etapa K20 - harmonogram'!AW21","v":0},{"$f":"'OB1 - etapa K20 - harmonogram'!AX21","v":0},{"$f":"'OB1 - etapa K20 - harmonogram'!AY21","v":0},{"$f":"'OB1 - etapa K20 - harmonogram'!AZ21","v":0},{"$f":"'OB1 - etapa K20 - harmonogram'!BA21","v":0},{"$f":"'OB1 - etapa K20 - harmonogram'!BB21","v":0},{"$f":"'OB1 - etapa K20 - harmonogram'!BC21","v":0},{"$f":"'OB1 - etapa K20 - harmonogram'!BD21","v":0},{"$f":"'OB1 - etapa K20 - harmonogram'!BE21","v":0},{"$f":"'OB1 - etapa K20 - harmonogram'!BF21","v":0},{"$f":"'OB1 - etapa K20 - harmonogram'!BG21","v":0},{"$f":"'OB1 - etapa K20 - harmonogram'!BH21","v":0},{"$f":"'OB1 - etapa K20 - harmonogram'!BI21","v":0},{"$f":"'OB1 - etapa K20 - harmonogram'!BJ21","v":0},{"$f":"'OB1 - etapa K20 - harmonogram'!BK21","v":0},{"$f":"'OB1 - etapa K20 - harmonogram'!BL21","v":0}]
["SO 103 - Doprava dřevní štěpky","etapa K20 - Technologická část (PS 103, PS 104, PS 106, PS 107, PS 108)","K20",{"$f":"'OB1 - etapa K20 - harmonogram'!J23","v":0},{"$f":"'OB1 - etapa K20 - harmonogram'!K23","v":0},{"$f":"'OB1 - etapa K20 - harmonogram'!L23","v":0},{"$f":"'OB1 - etapa K20 - harmonogram'!M23","v":0},{"$f":"'OB1 - etapa K20 - harmonogram'!N23","v":0},{"$f":"'OB1 - etapa K20 - harmonogram'!O23","v":0},{"$f":"'OB1 - etapa K20 - harmonogram'!P23","v":0},{"$f":"'OB1 - etapa K20 - harmonogram'!Q23","v":0},{"$f":"'OB1 - etapa K20 - harmonogram'!R23","v":0},{"$f":"'OB1 - etapa K20 - harmonogram'!S23","v":0},{"$f":"'OB1 - etapa K20 - harmonogram'!T23","v":0},{"$f":"'OB1 - etapa K20 - harmonogram'!U23","v":0},{"$f":"'OB1 - etapa K20 - harmonogram'!V23","v":0},{"$f":"'OB1 - etapa K20 - harmonogram'!W23","v":0},{"$f":"'OB1 - etapa K20 - harmonogram'!X23","v":0},{"$f":"'OB1 - etapa K20 - harmonogram'!Y23","v":0},{"$f":"'OB1 - etapa K20 - harmonogram'!Z23","v":0},{"$f":"'OB1 - etapa K20 - harmonogram'!AA23","v":0},{"$f":"'OB1 - etapa K20 - harmonogram'!AB23","v":0},{"$f":"'OB1 - etapa K20 - harmonogram'!AC23","v":0},{"$f":"'OB1 - etapa K20 - harmonogram'!AD23","v":0},{"$f":"'OB1 - etapa K20 - harmonogram'!AE23","v":0},{"$f":"'OB1 - etapa K20 - harmonogram'!AF23","v":0},{"$f":"'OB1 - etapa K20 - harmonogram'!AG23","v":0},{"$f":"'OB1 - etapa K20 - harmonogram'!AH23","v":0},{"$f":"'OB1 - etapa K20 - harmonogram'!AI23","v":0},{"$f":"'OB1 - etapa K20 - harmonogram'!AJ23","v":0},{"$f":"'OB1 - etapa K20 - harmonogram'!AK23","v":0},{"$f":"'OB1 - etapa K20 - harmonogram'!AL23","v":0},{"$f":"'OB1 - etapa K20 - harmonogram'!AM23","v":0},{"$f":"'OB1 - etapa K20 - harmonogram'!AN23","v":0},{"$f":"'OB1 - etapa K20 - harmonogram'!AO23","v":0},{"$f":"'OB1 - etapa K20 - harmonogram'!AP23","v":0},{"$f":"'OB1 - etapa K20 - harmonogram'!AQ23","v":0},{"$f":"'OB1 - etapa K20 - harmonogram'!AR23","v":0},{"$f":"'OB1 - etapa K20 - harmonogram'!AS23","v":0},{"$f":"'OB1 - etapa K20 - harmonogram'!AT23","v":0},{"$f":"'OB1 - etapa K20 - harmonogram'!AU23","v":0},{"$f":"'OB1 - etapa K20 - harmonogram'!AV23","v":0},{"$f":"'OB1 - etapa K20 - harmonogram'!AW23","v":0},{"$f":"'OB1 - etapa K20 - harmonogram'!AX23","v":0},{"$f":"'OB1 - etapa K20 - harmonogram'!AY23","v":0},{"$f":"'OB1 - etapa K20 - harmonogram'!AZ23","v":0},{"$f":"'OB1 - etapa K20 - harmonogram'!BA23","v":0},{"$f":"'OB1 - etapa K20 - harmonogram'!BB23","v":0},{"$f":"'OB1 - etapa K20 - harmonogram'!BC23","v":0},{"$f":"'OB1 - etapa K20 - harmonogram'!BD23","v":0},{"$f":"'OB1 - etapa K20 - harmonogram'!BE23","v":0},{"$f":"'OB1 - etapa K20 - harmonogram'!BF23","v":0},{"$f":"'OB1 - etapa K20 - harmonogram'!BG23","v":0},{"$f":"'OB1 - etapa K20 - harmonogram'!BH23","v":0},{"$f":"'OB1 - etapa K20 - harmonogram'!BI23","v":0},{"$f":"'OB1 - etapa K20 - harmonogram'!BJ23","v":0},{"$f":"'OB1 - etapa K20 - harmonogram'!BK23","v":0},{"$f":"'OB1 - etapa K20 - harmonogram'!BL23","v":0}]
[null,"etapa K20 - Stavební část (A4.4)","K20",{"$f":"'OB1 - etapa K20 - harmonogram'!J25","v":0},{"$f":"'OB1 - etapa K20 - harmonogram'!K25","v":0},{"$f":"'OB1 - etapa K20 - harmonogram'!L25","v":0},{"$f":"'OB1 - etapa K20 - harmonogram'!M25","v":0},{"$f":"'OB1 - etapa K20 - harmonogram'!N25","v":0},{"$f":"'OB1 - etapa K20 - harmonogram'!O25","v":0},{"$f":"'OB1 - etapa K20 - harmonogram'!P25","v":0},{"$f":"'OB1 - etapa K20 - harmonogram'!Q25","v":0},{"$f":"'OB1 - etapa K20 - harmonogram'!R25","v":0},{"$f":"'OB1 - etapa K20 - harmonogram'!S25","v":0},{"$f":"'OB1 - etapa K20 - harmonogram'!T25","v":0},{"$f":"'OB1 - etapa K20 - harmonogram'!U25","v":0},{"$f":"'OB1 - etapa K20 - harmonogram'!V25","v":0},{"$f":"'OB1 - etapa K20 - harmonogram'!W25","v":0},{"$f":"'OB1 - etapa K20 - harmonogram'!X25","v":0},{"$f":"'OB1 - etapa K20 - harmonogram'!Y25","v":0},{"$f":"'OB1 - etapa K20 - harmonogram'!Z25","v":0},{"$f":"'OB1 - etapa K20 - harmonogram'!AA25","v":0},{"$f":"'OB1 - etapa K20 - harmonogram'!AB25","v":0},{"$f":"'OB1 - etapa K20 - harmonogram'!AC25","v":0},{"$f":"'OB1 - etapa K20 - harmonogram'!AD25","v":0},{"$f":"'OB1 - etapa K20 - harmonogram'!AE25","v":0},{"$f":"'OB1 - etapa K20 - harmonogram'!AF25","v":0},{"$f":"'OB1 - etapa K20 - harmonogram'!AG25","v":0},{"$f":"'OB1 - etapa K20 - harmonogram'!AH25","v":0},{"$f":"'OB1 - etapa K20 - harmonogram'!AI25","v":0},{"$f":"'OB1 - etapa K20 - harmonogram'!AJ25","v":0},{"$f":"'OB1 - etapa K20 - harmonogram'!AK25","v":0},{"$f":"'OB1 - etapa K20 - harmonogram'!AL25","v":0},{"$f":"'OB1 - etapa K20 - harmonogram'!AM25","v":0},{"$f":"'OB1 - etapa K20 - harmonogram'!AN25","v":0},{"$f":"'OB1 - etapa K20 - harmonogram'!AO25","v":0},{"$f":"'OB1 - etapa K20 - harmonogram'!AP25","v":0},{"$f":"'OB1 - etapa K20 - harmonogram'!AQ25","v":0},{"$f":"'OB1 - etapa K20 - harmonogram'!AR25","v":0},{"$f":"'OB1 - etapa K20 - harmonogram'!AS25","v":0},{"$f":"'OB1 - etapa K20 - harmonogram'!AT25","v":0},{"$f":"'OB1 - etapa K20 - harmonogram'!AU25","v":0},{"$f":"'OB1 - etapa K20 - harmonogram'!AV25","v":0},{"$f":"'OB1 - etapa K20 - harmonogram'!AW25","v":0},{"$f":"'OB1 - etapa K20 - harmonogram'!AX25","v":0},{"$f":"'OB1 - etapa K20 - harmonogram'!AY25","v":0},{"$f":"'OB1 - etapa K20 - harmonogram'!AZ25","v":0},{"$f":"'OB1 - etapa K20 - harmonogram'!BA25","v":0},{"$f":"'OB1 - etapa K20 - harmonogram'!BB25","v":0},{"$f":"'OB1 - etapa K20 - harmonogram'!BC25","v":0},{"$f":"'OB1 - etapa K20 - harmonogram'!BD25","v":0},{"$f":"'OB1 - etapa K20 - harmonogram'!BE25","v":0},{"$f":"'OB1 - etapa K20 - harmonogram'!BF25","v":0},{"$f":"'OB1 - etapa K20 - harmonogram'!BG25","v":0},{"$f":"'OB1 - etapa K20 - harmonogram'!BH25","v":0},{"$f":"'OB1 - etapa K20 - harmonogram'!BI25","v":0},{"$f":"'OB1 - etapa K20 - harmonogram'!BJ25","v":0},{"$f":"'OB1 - etapa K20 - harmonogram'!BK25","v":0},{"$f":"'OB1 - etapa K20 - harmonogram'!BL25","v":0}]
["SO 102 - Technologie skladu DŠ","etapa K20 - Technologická část (PS 105, PS 106, PS 107, PS 108)","K20",{"$f":"'OB1 - etapa K20 - harmonogram'!J27","v":0},{"$f":"'OB1 - etapa K20 - harmonogram'!K27","v":0},{"$f":"'OB1 - etapa K20 - harmonogram'!L27","v":0},{"$f":"'OB1 - etapa K20 - harmonogram'!M27","v":0},{"$f":"'OB1 - etapa K20 - harmonogram'!N27","v":0},{"$f":"'OB1 - etapa K20 - harmonogram'!O27","v":0},{"$f":"'OB1 - etapa K20 - harmonogram'!P27","v":0},{"$f":"'OB1 - etapa K20 - harmonogram'!Q27","v":0},{"$f":"'OB1 - etapa K20 - harmonogram'!R27","v":0},{"$f":"'OB1 - etapa K20 - harmonogram'!S27","v":0},{"$f":"'OB1 - etapa K20 - harmonogram'!T27","v":0},{"$f":"'OB1 - etapa K20 - harmonogram'!U27","v":0},{"$f":"'OB1 - etapa K20 - harmonogram'!V27","v":0},{"$f":"'OB1 - etapa K20 - harmonogram'!W27","v":0},{"$f":"'OB1 - etapa K20 - harmonogram'!X27","v":0},{"$f":"'OB1 - etapa K20 - harmonogram'!Y27","v":0},{"$f":"'OB1 - etapa K20 - harmonogram'!Z27","v":0},{"$f":"'OB1 - etapa K20 - harmonogram'!AA27","v":0},{"$f":"'OB1 - etapa K20 - harmonogram'!AB27","v":0},{"$f":"'OB1 - etapa K20 - harmonogram'!AC27","v":0},{"$f":"'OB1 - etapa K20 - harmonogram'!AD27","v":0},{"$f":"'OB1 - etapa K20 - harmonogram'!AE27","v":0},{"$f":"'OB1 - etapa K20 - harmonogram'!AF27","v":0},{"$f":"'OB1 - etapa K20 - harmonogram'!AG27","v":0},{"$f":"'OB1 - etapa K20 - harmonogram'!AH27","v":0},{"$f":"'OB1 - etapa K20 - harmonogram'!AI27","v":0},{"$f":"'OB1 - etapa K20 - harmonogram'!AJ27","v":0},{"$f":"'OB1 - etapa K20 - harmonogram'!AK27","v":0},{"$f":"'OB1 - etapa K20 - harmonogram'!AL27","v":0},{"$f":"'OB1 - etapa K20 - harmonogram'!AM27","v":0},{"$f":"'OB1 - etapa K20 - harmonogram'!AN27","v":0},{"$f":"'OB1 - etapa K20 - harmonogram'!AO27","v":0},{"$f":"'OB1 - etapa K20 - harmonogram'!AP27","v":0},{"$f":"'OB1 - etapa K20 - harmonogram'!AQ27","v":0},{"$f":"'OB1 - etapa K20 - harmonogram'!AR27","v":0},{"$f":"'OB1 - etapa K20 - harmonogram'!AS27","v":0},{"$f":"'OB1 - etapa K20 - harmonogram'!AT27","v":0},{"$f":"'OB1 - etapa K20 - harmonogram'!AU27","v":0},{"$f":"'OB1 - etapa K20 - harmonogram'!AV27","v":0},{"$f":"'OB1 - etapa K20 - harmonogram'!AW27","v":0},{"$f":"'OB1 - etapa K20 - harmonogram'!AX27","v":0},{"$f":"'OB1 - etapa K20 - harmonogram'!AY27","v":0},{"$f":"'OB1 - etapa K20 - harmonogram'!AZ27","v":0},{"$f":"'OB1 - etapa K20 - harmonogram'!BA27","v":0},{"$f":"'OB1 - etapa K20 - harmonogram'!BB27","v":0},{"$f":"'OB1 - etapa K20 - harmonogram'!BC27","v":0},{"$f":"'OB1 - etapa K20 - harmonogram'!BD27","v":0},{"$f":"'OB1 - etapa K20 - harmonogram'!BE27","v":0},{"$f":"'OB1 - etapa K20 - harmonogram'!BF27","v":0},{"$f":"'OB1 - etapa K20 - harmonogram'!BG27","v":0},{"$f":"'OB1 - etapa K20 - harmonogram'!BH27","v":0},{"$f":"'OB1 - etapa K20 - harmonogram'!BI27","v":0},{"$f":"'OB1 - etapa K20 - harmonogram'!BJ27","v":0},{"$f":"'OB1 - etapa K20 - harmonogram'!BK27","v":0},{"$f":"'OB1 - etapa K20 - harmonogram'!BL27","v":0}]
[null,"etapa K20 - Stavební část (A4.4)","K20",{"$f":"'OB1 - etapa K20 - harmonogram'!J29","v":0},{"$f":"'OB1 - etapa K20 - harmonogram'!K29","v":0},{"$f":"'OB1 - etapa K20 - harmonogram'!L29","v":0},{"$f":"'OB1 - etapa K20 - harmonogram'!M29","v":0},{"$f":"'OB1 - etapa K20 - harmonogram'!N29","v":0},{"$f":"'OB1 - etapa K20 - harmonogram'!O29","v":0},{"$f":"'OB1 - etapa K20 - harmonogram'!P29","v":0},{"$f":"'OB1 - etapa K20 - harmonogram'!Q29","v":0},{"$f":"'OB1 - etapa K20 - harmonogram'!R29","v":0},{"$f":"'OB1 - etapa K20 - harmonogram'!S29","v":0},{"$f":"'OB1 - etapa K20 - harmonogram'!T29","v":0},{"$f":"'OB1 - etapa K20 - harmonogram'!U29","v":0},{"$f":"'OB1 - etapa K20 - harmonogram'!V29","v":0},{"$f":"'OB1 - etapa K20 - harmonogram'!W29","v":0},{"$f":"'OB1 - etapa K20 - harmonogram'!X29","v":0},{"$f":"'OB1 - etapa K20 - harmonogram'!Y29","v":0},{"$f":"'OB1 - etapa K20 - harmonogram'!Z29","v":0},{"$f":"'OB1 - etapa K20 - harmonogram'!AA29","v":0},{"$f":"'OB1 - etapa K20 - harmonogram'!AB29","v":0},{"$f":"'OB1 - etapa K20 - harmonogram'!AC29","v":0},{"$f":"'OB1 - etapa K20 - harmonogram'!AD29","v":0},{"$f":"'OB1 - etapa K20 - harmonogram'!AE29","v":0},{"$f":"'OB1 - etapa K20 - harmonogram'!AF29","v":0},{"$f":"'OB1 - etapa K20 - harmonogram'!AG29","v":0},{"$f":"'OB1 - etapa K20 - harmonogram'!AH29","v":0},{"$f":"'OB1 - etapa K20 - harmonogram'!AI29","v":0},{"$f":"'OB1 - etapa K20 - harmonogram'!AJ29","v":0},{"$f":"'OB1 - etapa K20 - harmonogram'!AK29","v":0},{"$f":"'OB1 - etapa K20 - harmonogram'!AL29","v":0},{"$f":"'OB1 - etapa K20 - harmonogram'!AM29","v":0},{"$f":"'OB1 - etapa K20 - harmonogram'!AN29","v":0},{"$f":"'OB1 - etapa K20 - harmonogram'!AO29","v":0},{"$f":"'OB1 - etapa K20 - harmonogram'!AP29","v":0},{"$f":"'OB1 - etapa K20 - harmonogram'!AQ29","v":0},{"$f":"'OB1 - etapa K20 - harmonogram'!AR29","v":0},{"$f":"'OB1 - etapa K20 - harmonogram'!AS29","v":0},{"$f":"'OB1 - etapa K20 - harmonogram'!AT29","v":0},{"$f":"'OB1 - etapa K20 - harmonogram'!AU29","v":0},{"$f":"'OB1 - etapa K20 - harmonogram'!AV29","v":0},{"$f":"'OB1 - etapa K20 - harmonogram'!AW29","v":0},{"$f":"'OB1 - etapa K20 - harmonogram'!AX29","v":0},{"$f":"'OB1 - etapa K20 - harmonogram'!AY29","v":0},{"$f":"'OB1 - etapa K20 - harmonogram'!AZ29","v":0},{"$f":"'OB1 - etapa K20 - harmonogram'!BA29","v":0},{"$f":"'OB1 - etapa K20 - harmonogram'!BB29","v":0},{"$f":"'OB1 - etapa K20 - harmonogram'!BC29","v":0},{"$f":"'OB1 - etapa K20 - harmonogram'!BD29","v":0},{"$f":"'OB1 - etapa K20 - harmonogram'!BE29","v":0},{"$f":"'OB1 - etapa K20 - harmonogram'!BF29","v":0},{"$f":"'OB1 - etapa K20 - harmonogram'!BG29","v":0},{"$f":"'OB1 - etapa K20 - harmonogram'!BH29","v":0},{"$f":"'OB1 - etapa K20 - harmonogram'!BI29","v":0},{"$f":"'OB1 - etapa K20 - harmonogram'!BJ29","v":0},{"$f":"'OB1 - etapa K20 - harmonogram'!BK29","v":0},{"$f":"'OB1 - etapa K20 - harmonogram'!BL29","v":0}]
["SO 104 - Doprava dřevní štěpky do kotelny K20","etapa K20 - Technologická část (PS 104, PS 106, PS 107, PS 108)","K20",{"$f":"'OB1 - etapa K20 - harmonogram'!J31","v":0},{"$f":"'OB1 - etapa K20 - harmonogram'!K31","v":0},{"$f":"'OB1 - etapa K20 - harmonogram'!L31","v":0},{"$f":"'OB1 - etapa K20 - harmonogram'!M31","v":0},{"$f":"'OB1 - etapa K20 - harmonogram'!N31","v":0},{"$f":"'OB1 - etapa K20 - harmonogram'!O31","v":0},{"$f":"'OB1 - etapa K20 - harmonogram'!P31","v":0},{"$f":"'OB1 - etapa K20 - harmonogram'!Q31","v":0},{"$f":"'OB1 - etapa K20 - harmonogram'!R31","v":0},{"$f":"'OB1 - etapa K20 - harmonogram'!S31","v":0},{"$f":"'OB1 - etapa K20 - harmonogram'!T31","v":0},{"$f":"'OB1 - etapa K20 - harmonogram'!U31","v":0},{"$f":"'OB1 - etapa K20 - harmonogram'!V31","v":0},{"$f":"'OB1 - etapa K20 - harmonogram'!W31","v":0},{"$f":"'OB1 - etapa K20 - harmonogram'!X31","v":0},{"$f":"'OB1 - etapa K20 - harmonogram'!Y31","v":0},{"$f":"'OB1 - etapa K20 - harmonogram'!Z31","v":0},{"$f":"'OB1 - etapa K20 - harmonogram'!AA31","v":0},{"$f":"'OB1 - etapa K20 - harmonogram'!AB31","v":0},{"$f":"'OB1 - etapa K20 - harmonogram'!AC31","v":0},{"$f":"'OB1 - etapa K20 - harmonogram'!AD31","v":0},{"$f":"'OB1 - etapa K20 - harmonogram'!AE31","v":0},{"$f":"'OB1 - etapa K20 - harmonogram'!AF31","v":0},{"$f":"'OB1 - etapa K20 - harmonogram'!AG31","v":0},{"$f":"'OB1 - etapa K20 - harmonogram'!AH31","v":0},{"$f":"'OB1 - etapa K20 - harmonogram'!AI31","v":0},{"$f":"'OB1 - etapa K20 - harmonogram'!AJ31","v":0},{"$f":"'OB1 - etapa K20 - harmonogram'!AK31","v":0},{"$f":"'OB1 - etapa K20 - harmonogram'!AL31","v":0},{"$f":"'OB1 - etapa K20 - harmonogram'!AM31","v":0},{"$f":"'OB1 - etapa K20 - harmonogram'!AN31","v":0},{"$f":"'OB1 - etapa K20 - harmonogram'!AO31","v":0},{"$f":"'OB1 - etapa K20 - harmonogram'!AP31","v":0},{"$f":"'OB1 - etapa K20 - harmonogram'!AQ31","v":0},{"$f":"'OB1 - etapa K20 - harmonogram'!AR31","v":0},{"$f":"'OB1 - etapa K20 - harmonogram'!AS31","v":0},{"$f":"'OB1 - etapa K20 - harmonogram'!AT31","v":0},{"$f":"'OB1 - etapa K20 - harmonogram'!AU31","v":0},{"$f":"'OB1 - etapa K20 - harmonogram'!AV31","v":0},{"$f":"'OB1 - etapa K20 - harmonogram'!AW31","v":0},{"$f":"'OB1 - etapa K20 - harmonogram'!AX31","v":0},{"$f":"'OB1 - etapa K20 - harmonogram'!AY31","v":0},{"$f":"'OB1 - etapa K20 - harmonogram'!AZ31","v":0},{"$f":"'OB1 - etapa K20 - harmonogram'!BA31","v":0},{"$f":"'OB1 - etapa K20 - harmonogram'!BB31","v":0},{"$f":"'OB1 - etapa K20 - harmonogram'!BC31","v":0},{"$f":"'OB1 - etapa K20 - harmonogram'!BD31","v":0},{"$f":"'OB1 - etapa K20 - harmonogram'!BE31","v":0},{"$f":"'OB1 - etapa K20 - harmonogram'!BF31","v":0},{"$f":"'OB1 - etapa K20 - harmonogram'!BG31","v":0},{"$f":"'OB1 - etapa K20 - harmonogram'!BH31","v":0},{"$f":"'OB1 - etapa K20 - harmonogram'!BI31","v":0},{"$f":"'OB1 - etapa K20 - harmonogram'!BJ31","v":0},{"$f":"'OB1 - etapa K20 - harmonogram'!BK31","v":0},{"$f":"'OB1 - etapa K20 - harmonogram'!BL31","v":0}]
[null,"etapa K20 - Stavební část (A4.4)","K20",{"$f":"'OB1 - etapa K20 - harmonogram'!J33","v":0},{"$f":"'OB1 - etapa K20 - harmonogram'!K33","v":0},{"$f":"'OB1 - etapa K20 - harmonogram'!L33","v":0},{"$f":"'OB1 - etapa K20 - harmonogram'!M33","v":0},{"$f":"'OB1 - etapa K20 - harmonogram'!N33","v":0},{"$f":"'OB1 - etapa K20 - harmonogram'!O33","v":0},{"$f":"'OB1 - etapa K20 - harmonogram'!P33","v":0},{"$f":"'OB1 - etapa K20 - harmonogram'!Q33","v":0},{"$f":"'OB1 - etapa K20 - harmonogram'!R33","v":0},{"$f":"'OB1 - etapa K20 - harmonogram'!S33","v":0},{"$f":"'OB1 - etapa K20 - harmonogram'!T33","v":0},{"$f":"'OB1 - etapa K20 - harmonogram'!U33","v":0},{"$f":"'OB1 - etapa K20 - harmonogram'!V33","v":0},{"$f":"'OB1 - etapa K20 - harmonogram'!W33","v":0},{"$f":"'OB1 - etapa K20 - harmonogram'!X33","v":0},{"$f":"'OB1 - etapa K20 - harmonogram'!Y33","v":0},{"$f":"'OB1 - etapa K20 - harmonogram'!Z33","v":0},{"$f":"'OB1 - etapa K20 - harmonogram'!AA33","v":0},{"$f":"'OB1 - etapa K20 - harmonogram'!AB33","v":0},{"$f":"'OB1 - etapa K20 - harmonogram'!AC33","v":0},{"$f":"'OB1 - etapa K20 - harmonogram'!AD33","v":0},{"$f":"'OB1 - etapa K20 - harmonogram'!AE33","v":0},{"$f":"'OB1 - etapa K20 - harmonogram'!AF33","v":0},{"$f":"'OB1 - etapa K20 - harmonogram'!AG33","v":0},{"$f":"'OB1 - etapa K20 - harmonogram'!AH33","v":0},{"$f":"'OB1 - etapa K20 - harmonogram'!AI33","v":0},{"$f":"'OB1 - etapa K20 - harmonogram'!AJ33","v":0},{"$f":"'OB1 - etapa K20 - harmonogram'!AK33","v":0},{"$f":"'OB1 - etapa K20 - harmonogram'!AL33","v":0},{"$f":"'OB1 - etapa K20 - harmonogram'!AM33","v":0},{"$f":"'OB1 - etapa K20 - harmonogram'!AN33","v":0},{"$f":"'OB1 - etapa K20 - harmonogram'!AO33","v":0},{"$f":"'OB1 - etapa K20 - harmonogram'!AP33","v":0},{"$f":"'OB1 - etapa K20 - harmonogram'!AQ33","v":0},{"$f":"'OB1 - etapa K20 - harmonogram'!AR33","v":0},{"$f":"'OB1 - etapa K20 - harmonogram'!AS33","v":0},{"$f":"'OB1 - etapa K20 - harmonogram'!AT33","v":0},{"$f":"'OB1 - etapa K20 - harmonogram'!AU33","v":0},{"$f":"'OB1 - etapa K20 - harmonogram'!AV33","v":0},{"$f":"'OB1 - etapa K20 - harmonogram'!AW33","v":0},{"$f":"'OB1 - etapa K20 - harmonogram'!AX33","v":0},{"$f":"'OB1 - etapa K20 - harmonogram'!AY33","v":0},{"$f":"'OB1 - etapa K20 - harmonogram'!AZ33","v":0},{"$f":"'OB1 - etapa K20 - harmonogram'!BA33","v":0},{"$f":"'OB1 - etapa K20 - harmonogram'!BB33","v":0},{"$f":"'OB1 - etapa K20 - harmonogram'!BC33","v":0},{"$f":"'OB1 - etapa K20 - harmonogram'!BD33","v":0},{"$f":"'OB1 - etapa K20 - harmonogram'!BE33","v":0},{"$f":"'OB1 - etapa K20 - harmonogram'!BF33","v":0},{"$f":"'OB1 - etapa K20 - harmonogram'!BG33","v":0},{"$f":"'OB1 - etapa K20 - harmonogram'!BH33","v":0},{"$f":"'OB1 - etapa K20 - harmonogram'!BI33","v":0},{"$f":"'OB1 - etapa K20 - harmonogram'!BJ33","v":0},{"$f":"'OB1 - etapa K20 - harmonogram'!BK33","v":0},{"$f":"'OB1 - etapa K20 - harmonogram'!BL33","v":0}]
[null,"etapa K20 - dokončení stavebních prací","K20",{"$f":"'OB1 - etapa K20 - harmonogram'!J35","v":0},{"$f":"'OB1 - etapa K20 - harmonogram'!K35","v":0},{"$f":"'OB1 - etapa K20 - harmonogram'!L35","v":0},{"$f":"'OB1 - etapa K20 - harmonogram'!M35","v":0},{"$f":"'OB1 - etapa K20 - harmonogram'!N35","v":0},{"$f":"'OB1 - etapa K20 - harmonogram'!O35","v":0},{"$f":"'OB1 - etapa K20 - harmonogram'!P35","v":0},{"$f":"'OB1 - etapa K20 - harmonogram'!Q35","v":0},{"$f":"'OB1 - etapa K20 - harmonogram'!R35","v":0},{"$f":"'OB1 - etapa K20 - harmonogram'!S35","v":0},{"$f":"'OB1 - etapa K20 - harmonogram'!T35","v":0},{"$f":"'OB1 - etapa K20 - harmonogram'!U35","v":0},{"$f":"'OB1 - etapa K20 - harmonogram'!V35","v":0},{"$f":"'OB1 - etapa K20 - harmonogram'!W35","v":0},{"$f":"'OB1 - etapa K20 - harmonogram'!X35","v":0},{"$f":"'OB1 - etapa K20 - harmonogram'!Y35","v":0},{"$f":"'OB1 - etapa K20 - harmonogram'!Z35","v":0},{"$f":"'OB1 - etapa K20 - harmonogram'!AA35","v":0},{"$f":"'OB1 - etapa K20 - harmonogram'!AB35","v":0},{"$f":"'OB1 - etapa K20 - harmonogram'!AC35","v":0},{"$f":"'OB1 - etapa K20 - harmonogram'!AD35","v":0},{"$f":"'OB1 - etapa K20 - harmonogram'!AE35","v":0},{"$f":"'OB1 - etapa K20 - harmonogram'!AF35","v":0},{"$f":"'OB1 - etapa K20 - harmonogram'!AG35","v":0},{"$f":"'OB1 - etapa K20 - harmonogram'!AH35","v":0},{"$f":"'OB1 - etapa K20 - harmonogram'!AI35","v":0},{"$f":"'OB1 - etapa K20 - harmonogram'!AJ35","v":0},{"$f":"'OB1 - etapa K20 - harmonogram'!AK35","v":0},{"$f":"'OB1 - etapa K20 - harmonogram'!AL35","v":0},{"$f":"'OB1 - etapa K20 - harmonogram'!AM35","v":0},{"$f":"'OB1 - etapa K20 - harmonogram'!AN35","v":0},{"$f":"'OB1 - etapa K20 - harmonogram'!AO35","v":0},{"$f":"'OB1 - etapa K20 - harmonogram'!AP35","v":0},{"$f":"'OB1 - etapa K20 - harmonogram'!AQ35","v":0},{"$f":"'OB1 - etapa K20 - harmonogram'!AR35","v":0},{"$f":"'OB1 - etapa K20 - harmonogram'!AS35","v":0},{"$f":"'OB1 - etapa K20 - harmonogram'!AT35","v":0},{"$f":"'OB1 - etapa K20 - harmonogram'!AU35","v":0},{"$f":"'OB1 - etapa K20 - harmonogram'!AV35","v":0},{"$f":"'OB1 - etapa K20 - harmonogram'!AW35","v":0},{"$f":"'OB1 - etapa K20 - harmonogram'!AX35","v":0},{"$f":"'OB1 - etapa K20 - harmonogram'!AY35","v":0},{"$f":"'OB1 - etapa K20 - harmonogram'!AZ35","v":0},{"$f":"'OB1 - etapa K20 - harmonogram'!BA35","v":0},{"$f":"'OB1 - etapa K20 - harmonogram'!BB35","v":0},{"$f":"'OB1 - etapa K20 - harmonogram'!BC35","v":0},{"$f":"'OB1 - etapa K20 - harmonogram'!BD35","v":0},{"$f":"'OB1 - etapa K20 - harmonogram'!BE35","v":0},{"$f":"'OB1 - etapa K20 - harmonogram'!BF35","v":0},{"$f":"'OB1 - etapa K20 - harmonogram'!BG35","v":0},{"$f":"'OB1 - etapa K20 - harmonogram'!BH35","v":0},{"$f":"'OB1 - etapa K20 - harmonogram'!BI35","v":0},{"$f":"'OB1 - etapa K20 - harmonogram'!BJ35","v":0},{"$f":"'OB1 - etapa K20 - harmonogram'!BK35","v":0},{"$f":"'OB1 - etapa K20 - harmonogram'!BL35","v":0}]
[null,"etapa K20 - ukončení montážních prací","K20",{"$f":"'OB1 - etapa K20 - harmonogram'!J36","v":0},{"$f":"'OB1 - etapa K20 - harmonogram'!K36","v":0},{"$f":"'OB1 - etapa K20 - harmonogram'!L36","v":0},{"$f":"'OB1 - etapa K20 - harmonogram'!M36","v":0},{"$f":"'OB1 - etapa K20 - harmonogram'!N36","v":0},{"$f":"'OB1 - etapa K20 - harmonogram'!O36","v":0},{"$f":"'OB1 - etapa K20 - harmonogram'!P36","v":0},{"$f":"'OB1 - etapa K20 - harmonogram'!Q36","v":0},{"$f":"'OB1 - etapa K20 - harmonogram'!R36","v":0},{"$f":"'OB1 - etapa K20 - harmonogram'!S36","v":0},{"$f":"'OB1 - etapa K20 - harmonogram'!T36","v":0},{"$f":"'OB1 - etapa K20 - harmonogram'!U36","v":0},{"$f":"'OB1 - etapa K20 - harmonogram'!V36","v":0},{"$f":"'OB1 - etapa K20 - harmonogram'!W36","v":0},{"$f":"'OB1 - etapa K20 - harmonogram'!X36","v":0},{"$f":"'OB1 - etapa K20 - harmonogram'!Y36","v":0},{"$f":"'OB1 - etapa K20 - harmonogram'!Z36","v":0},{"$f":"'OB1 - etapa K20 - harmonogram'!AA36","v":0},{"$f":"'OB1 - etapa K20 - harmonogram'!AB36","v":0},{"$f":"'OB1 - etapa K20 - harmonogram'!AC36","v":0},{"$f":"'OB1 - etapa K20 - harmonogram'!AD36","v":0},{"$f":"'OB1 - etapa K20 - harmonogram'!AE36","v":0},{"$f":"'OB1 - etapa K20 - harmonogram'!AF36","v":0},{"$f":"'OB1 - etapa K20 - harmonogram'!AG36","v":0},{"$f":"'OB1 - etapa K20 - harmonogram'!AH36","v":0},{"$f":"'OB1 - etapa K20 - harmonogram'!AI36","v":0},{"$f":"'OB1 - etapa K20 - harmonogram'!AJ36","v":0},{"$f":"'OB1 - etapa K20 - harmonogram'!AK36","v":0},{"$f":"'OB1 - etapa K20 - harmonogram'!AL36","v":0},{"$f":"'OB1 - etapa K20 - harmonogram'!AM36","v":0},{"$f":"'OB1 - etapa K20 - harmonogram'!AN36","v":0},{"$f":"'OB1 - etapa K20 - harmonogram'!AO36","v":0},{"$f":"'OB1 - etapa K20 - harmonogram'!AP36","v":0},{"$f":"'OB1 - etapa K20 - harmonogram'!AQ36","v":0},{"$f":"'OB1 - etapa K20 - harmonogram'!AR36","v":0},{"$f":"'OB1 - etapa K20 - harmonogram'!AS36","v":0},{"$f":"'OB1 - etapa K20 - harmonogram'!AT36","v":0},{"$f":"'OB1 - etapa K20 - harmonogram'!AU36","v":0},{"$f":"'OB1 - etapa K20 - harmonogram'!AV36","v":0},{"$f":"'OB1 - etapa K20 - harmonogram'!AW36","v":0},{"$f":"'OB1 - etapa K20 - harmonogram'!AX36","v":0},{"$f":"'OB1 - etapa K20 - harmonogram'!AY36","v":0},{"$f":"'OB1 - etapa K20 - harmonogram'!AZ36","v":0},{"$f":"'OB1 - etapa K20 - harmonogram'!BA36","v":0},{"$f":"'OB1 - etapa K20 - harmonogram'!BB36","v":0},{"$f":"'OB1 - etapa K20 - harmonogram'!BC36","v":0},{"$f":"'OB1 - etapa K20 - harmonogram'!BD36","v":0},{"$f":"'OB1 - etapa K20 - harmonogram'!BE36","v":0},{"$f":"'OB1 - etapa K20 - harmonogram'!BF36","v":0},{"$f":"'OB1 - etapa K20 - harmonogram'!BG36","v":0},{"$f":"'OB1 - etapa K20 - harmonogram'!BH36","v":0},{"$f":"'OB1 - etapa K20 - harmonogram'!BI36","v":0},{"$f":"'OB1 - etapa K20 - harmonogram'!BJ36","v":0},{"$f":"'OB1 - etapa K20 - harmonogram'!BK36","v":0},{"$f":"'OB1 - etapa K20 - harmonogram'!BL36","v":0}]
[null,"etapa K20 - školení zaměstnanců provozu","K20",{"$f":"'OB1 - etapa K20 - harmonogram'!J37","v":0},{"$f":"'OB1 - etapa K20 - harmonogram'!K37","v":0},{"$f":"'OB1 - etapa K20 - harmonogram'!L37","v":0},{"$f":"'OB1 - etapa K20 - harmonogram'!M37","v":0},{"$f":"'OB1 - etapa K20 - harmonogram'!N37","v":0},{"$f":"'OB1 - etapa K20 - harmonogram'!O37","v":0},{"$f":"'OB1 - etapa K20 - harmonogram'!P37","v":0},{"$f":"'OB1 - etapa K20 - harmonogram'!Q37","v":0},{"$f":"'OB1 - etapa K20 - harmonogram'!R37","v":0},{"$f":"'OB1 - etapa K20 - harmonogram'!S37","v":0},{"$f":"'OB1 - etapa K20 - harmonogram'!T37","v":0},{"$f":"'OB1 - etapa K20 - harmonogram'!U37","v":0},{"$f":"'OB1 - etapa K20 - harmonogram'!V37","v":0},{"$f":"'OB1 - etapa K20 - harmonogram'!W37","v":0},{"$f":"'OB1 - etapa K20 - harmonogram'!X37","v":0},{"$f":"'OB1 - etapa K20 - harmonogram'!Y37","v":0},{"$f":"'OB1 - etapa K20 - harmonogram'!Z37","v":0},{"$f":"'OB1 - etapa K20 - harmonogram'!AA37","v":0},{"$f":"'OB1 - etapa K20 - harmonogram'!AB37","v":0},{"$f":"'OB1 - etapa K20 - harmonogram'!AC37","v":0},{"$f":"'OB1 - etapa K20 - harmonogram'!AD37","v":0},{"$f":"'OB1 - etapa K20 - harmonogram'!AE37","v":0},{"$f":"'OB1 - etapa K20 - harmonogram'!AF37","v":0},{"$f":"'OB1 - etapa K20 - harmonogram'!AG37","v":0},{"$f":"'OB1 - etapa K20 - harmonogram'!AH37","v":0},{"$f":"'OB1 - etapa K20 - harmonogram'!AI37","v":0},{"$f":"'OB1 - etapa K20 - harmonogram'!AJ37","v":0},{"$f":"'OB1 - etapa K20 - harmonogram'!AK37","v":0},{"$f":"'OB1 - etapa K20 - harmonogram'!AL37","v":0},{"$f":"'OB1 - etapa K20 - harmonogram'!AM37","v":0},{"$f":"'OB1 - etapa K20 - harmonogram'!AN37","v":0},{"$f":"'OB1 - etapa K20 - harmonogram'!AO37","v":0},{"$f":"'OB1 - etapa K20 - harmonogram'!AP37","v":0},{"$f":"'OB1 - etapa K20 - harmonogram'!AQ37","v":0},{"$f":"'OB1 - etapa K20 - harmonogram'!AR37","v":0},{"$f":"'OB1 - etapa K20 - harmonogram'!AS37","v":0},{"$f":"'OB1 - etapa K20 - harmonogram'!AT37","v":0},{"$f":"'OB1 - etapa K20 - harmonogram'!AU37","v":0},{"$f":"'OB1 - etapa K20 - harmonogram'!AV37","v":0},{"$f":"'OB1 - etapa K20 - harmonogram'!AW37","v":0},{"$f":"'OB1 - etapa K20 - harmonogram'!AX37","v":0},{"$f":"'OB1 - etapa K20 - harmonogram'!AY37","v":0},{"$f":"'OB1 - etapa K20 - harmonogram'!AZ37","v":0},{"$f":"'OB1 - etapa K20 - harmonogram'!BA37","v":0},{"$f":"'OB1 - etapa K20 - harmonogram'!BB37","v":0},{"$f":"'OB1 - etapa K20 - harmonogram'!BC37","v":0},{"$f":"'OB1 - etapa K20 - harmonogram'!BD37","v":0},{"$f":"'OB1 - etapa K20 - harmonogram'!BE37","v":0},{"$f":"'OB1 - etapa K20 - harmonogram'!BF37","v":0},{"$f":"'OB1 - etapa K20 - harmonogram'!BG37","v":0},{"$f":"'OB1 - etapa K20 - harmonogram'!BH37","v":0},{"$f":"'OB1 - etapa K20 - harmonogram'!BI37","v":0},{"$f":"'OB1 - etapa K20 - harmonogram'!BJ37","v":0},{"$f":"'OB1 - etapa K20 - harmonogram'!BK37","v":0},{"$f":"'OB1 - etapa K20 - harmonogram'!BL37","v":0}]
[null,"etapa K20 - komplexní vyzkoušení","K20",{"$f":"'OB1 - etapa K20 - harmonogram'!J39","v":0},{"$f":"'OB1 - etapa K20 - harmonogram'!K39","v":0},{"$f":"'OB1 - etapa K20 - harmonogram'!L39","v":0},{"$f":"'OB1 - etapa K20 - harmonogram'!M39","v":0},{"$f":"'OB1 - etapa K20 - harmonogram'!N39","v":0},{"$f":"'OB1 - etapa K20 - harmonogram'!O39","v":0},{"$f":"'OB1 - etapa K20 - harmonogram'!P39","v":0},{"$f":"'OB1 - etapa K20 - harmonogram'!Q39","v":0},{"$f":"'OB1 - etapa K20 - harmonogram'!R39","v":0},{"$f":"'OB1 - etapa K20 - harmonogram'!S39","v":0},{"$f":"'OB1 - etapa K20 - harmonogram'!T39","v":0},{"$f":"'OB1 - etapa K20 - harmonogram'!U39","v":0},{"$f":"'OB1 - etapa K20 - harmonogram'!V39","v":0},{"$f":"'OB1 - etapa K20 - harmonogram'!W39","v":0},{"$f":"'OB1 - etapa K20 - harmonogram'!X39","v":0},{"$f":"'OB1 - etapa K20 - harmonogram'!Y39","v":0},{"$f":"'OB1 - etapa K20 - harmonogram'!Z39","v":0},{"$f":"'OB1 - etapa K20 - harmonogram'!AA39","v":0},{"$f":"'OB1 - etapa K20 - harmonogram'!AB39","v":0},{"$f":"'OB1 - etapa K20 - harmonogram'!AC39","v":0},{"$f":"'OB1 - etapa K20 - harmonogram'!AD39","v":0},{"$f":"'OB1 - etapa K20 - harmonogram'!AE39","v":0},{"$f":"'OB1 - etapa K20 - harmonogram'!AF39","v":0},{"$f":"'OB1 - etapa K20 - harmonogram'!AG39","v":0},{"$f":"'OB1 - etapa K20 - harmonogram'!AH39","v":0},{"$f":"'OB1 - etapa K20 - harmonogram'!AI39","v":0},{"$f":"'OB1 - etapa K20 - harmonogram'!AJ39","v":0},{"$f":"'OB1 - etapa K20 - harmonogram'!AK39","v":0},{"$f":"'OB1 - etapa K20 - harmonogram'!AL39","v":0},{"$f":"'OB1 - etapa K20 - harmonogram'!AM39","v":0},{"$f":"'OB1 - etapa K20 - harmonogram'!AN39","v":0},{"$f":"'OB1 - etapa K20 - harmonogram'!AO39","v":0},{"$f":"'OB1 - etapa K20 - harmonogram'!AP39","v":0},{"$f":"'OB1 - etapa K20 - harmonogram'!AQ39","v":0},{"$f":"'OB1 - etapa K20 - harmonogram'!AR39","v":0},{"$f":"'OB1 - etapa K20 - harmonogram'!AS39","v":0},{"$f":"'OB1 - etapa K20 - harmonogram'!AT39","v":0},{"$f":"'OB1 - etapa K20 - harmonogram'!AU39","v":0},{"$f":"'OB1 - etapa K20 - harmonogram'!AV39","v":0},{"$f":"'OB1 - etapa K20 - harmonogram'!AW39","v":0},{"$f":"'OB1 - etapa K20 - harmonogram'!AX39","v":0},{"$f":"'OB1 - etapa K20 - harmonogram'!AY39","v":0},{"$f":"'OB1 - etapa K20 - harmonogram'!AZ39","v":0},{"$f":"'OB1 - etapa K20 - harmonogram'!BA39","v":0},{"$f":"'OB1 - etapa K20 - harmonogram'!BB39","v":0},{"$f":"'OB1 - etapa K20 - harmonogram'!BC39","v":0},{"$f":"'OB1 - etapa K20 - harmonogram'!BD39","v":0},{"$f":"'OB1 - etapa K20 - harmonogram'!BE39","v":0},{"$f":"'OB1 - etapa K20 - harmonogram'!BF39","v":0},{"$f":"'OB1 - etapa K20 - harmonogram'!BG39","v":0},{"$f":"'OB1 - etapa K20 - harmonogram'!BH39","v":0},{"$f":"'OB1 - etapa K20 - harmonogram'!BI39","v":0},{"$f":"'OB1 - etapa K20 - harmonogram'!BJ39","v":0},{"$f":"'OB1 - etapa K20 - harmonogram'!BK39","v":0},{"$f":"'OB1 - etapa K20 - harmonogram'!BL39","v":0}]
[null,"etapa K20 - zkušební provoz","K20",{"$f":"'OB1 - etapa K20 - harmonogram'!J41","v":0},{"$f":"'OB1 - etapa K20 - harmonogram'!K41","v":0},{"$f":"'OB1 - etapa K20 - harmonogram'!L41","v":0},{"$f":"'OB1 - etapa K20 - harmonogram'!M41","v":0},{"$f":"'OB1 - etapa K20 - harmonogram'!N41","v":0},{"$f":"'OB1 - etapa K20 - harmonogram'!O41","v":0},{"$f":"'OB1 - etapa K20 - harmonogram'!P41","v":0},{"$f":"'OB1 - etapa K20 - harmonogram'!Q41","v":0},{"$f":"'OB1 - etapa K20 - harmonogram'!R41","v":0},{"$f":"'OB1 - etapa K20 - harmonogram'!S41","v":0},{"$f":"'OB1 - etapa K20 - harmonogram'!T41","v":0},{"$f":"'OB1 - etapa K20 - harmonogram'!U41","v":0},{"$f":"'OB1 - etapa K20 - harmonogram'!V41","v":0},{"$f":"'OB1 - etapa K20 - harmonogram'!W41","v":0},{"$f":"'OB1 - etapa K20 - harmonogram'!X41","v":0},{"$f":"'OB1 - etapa K20 - harmonogram'!Y41","v":0},{"$f":"'OB1 - etapa K20 - harmonogram'!Z41","v":0},{"$f":"'OB1 - etapa K20 - harmonogram'!AA41","v":0},{"$f":"'OB1 - etapa K20 - harmonogram'!AB41","v":0},{"$f":"'OB1 - etapa K20 - harmonogram'!AC41","v":0},{"$f":"'OB1 - etapa K20 - harmonogram'!AD41","v":0},{"$f":"'OB1 - etapa K20 - harmonogram'!AE41","v":0},{"$f":"'OB1 - etapa K20 - harmonogram'!AF41","v":0},{"$f":"'OB1 - etapa K20 - harmonogram'!AG41","v":0},{"$f":"'OB1 - etapa K20 - harmonogram'!AH41","v":0},{"$f":"'OB1 - etapa K20 - harmonogram'!AI41","v":0},{"$f":"'OB1 - etapa K20 - harmonogram'!AJ41","v":0},{"$f":"'OB1 - etapa K20 - harmonogram'!AK41","v":0},{"$f":"'OB1 - etapa K20 - harmonogram'!AL41","v":0},{"$f":"'OB1 - etapa K20 - harmonogram'!AM41","v":0},{"$f":"'OB1 - etapa K20 - harmonogram'!AN41","v":0},{"$f":"'OB1 - etapa K20 - harmonogram'!AO41","v":0},{"$f":"'OB1 - etapa K20 - harmonogram'!AP41","v":0},{"$f":"'OB1 - etapa K20 - harmonogram'!AQ41","v":0},{"$f":"'OB1 - etapa K20 - harmonogram'!AR41","v":0},{"$f":"'OB1 - etapa K20 - harmonogram'!AS41","v":0},{"$f":"'OB1 - etapa K20 - harmonogram'!AT41","v":0},{"$f":"'OB1 - etapa K20 - harmonogram'!AU41","v":0},{"$f":"'OB1 - etapa K20 - harmonogram'!AV41","v":0},{"$f":"'OB1 - etapa K20 - harmonogram'!AW41","v":0},{"$f":"'OB1 - etapa K20 - harmonogram'!AX41","v":0},{"$f":"'OB1 - etapa K20 - harmonogram'!AY41","v":0},{"$f":"'OB1 - etapa K20 - harmonogram'!AZ41","v":0},{"$f":"'OB1 - etapa K20 - harmonogram'!BA41","v":0},{"$f":"'OB1 - etapa K20 - harmonogram'!BB41","v":0},{"$f":"'OB1 - etapa K20 - harmonogram'!BC41","v":0},{"$f":"'OB1 - etapa K20 - harmonogram'!BD41","v":0},{"$f":"'OB1 - etapa K20 - harmonogram'!BE41","v":0},{"$f":"'OB1 - etapa K20 - harmonogram'!BF41","v":0},{"$f":"'OB1 - etapa K20 - harmonogram'!BG41","v":0},{"$f":"'OB1 - etapa K20 - harmonogram'!BH41","v":0},{"$f":"'OB1 - etapa K20 - harmonogram'!BI41","v":0},{"$f":"'OB1 - etapa K20 - harmonogram'!BJ41","v":0},{"$f":"'OB1 - etapa K20 - harmonogram'!BK41","v":0},{"$f":"'OB1 - etapa K20 - harmonogram'!BL41","v":0}]
[null,"etapa K20 - garanční test A","K20",{"$f":"'OB1 - etapa K20 - harmonogram'!J43","v":0},{"$f":"'OB1 - etapa K20 - harmonogram'!K43","v":0},{"$f":"'OB1 - etapa K20 - harmonogram'!L43","v":0},{"$f":"'OB1 - etapa K20 - harmonogram'!M43","v":0},{"$f":"'OB1 - etapa K20 - harmonogram'!N43","v":0},{"$f":"'OB1 - etapa K20 - harmonogram'!O43","v":0},{"$f":"'OB1 - etapa K20 - harmonogram'!P43","v":0},{"$f":"'OB1 - etapa K20 - harmonogram'!Q43","v":0},{"$f":"'OB1 - etapa K20 - harmonogram'!R43","v":0},{"$f":"'OB1 - etapa K20 - harmonogram'!S43","v":0},{"$f":"'OB1 - etapa K20 - harmonogram'!T43","v":0},{"$f":"'OB1 - etapa K20 - harmonogram'!U43","v":0},{"$f":"'OB1 - etapa K20 - harmonogram'!V43","v":0},{"$f":"'OB1 - etapa K20 - harmonogram'!W43","v":0},{"$f":"'OB1 - etapa K20 - harmonogram'!X43","v":0},{"$f":"'OB1 - etapa K20 - harmonogram'!Y43","v":0},{"$f":"'OB1 - etapa K20 - harmonogram'!Z43","v":0},{"$f":"'OB1 - etapa K20 - harmonogram'!AA43","v":0},{"$f":"'OB1 - etapa K20 - harmonogram'!AB43","v":0},{"$f":"'OB1 - etapa K20 - harmonogram'!AC43","v":0},{"$f":"'OB1 - etapa K20 - harmonogram'!AD43","v":0},{"$f":"'OB1 - etapa K20 - harmonogram'!AE43","v":0},{"$f":"'OB1 - etapa K20 - harmonogram'!AF43","v":0},{"$f":"'OB1 - etapa K20 - harmonogram'!AG43","v":0},{"$f":"'OB1 - etapa K20 - harmonogram'!AH43","v":0},{"$f":"'OB1 - etapa K20 - harmonogram'!AI43","v":0},{"$f":"'OB1 - etapa K20 - harmonogram'!AJ43","v":0},{"$f":"'OB1 - etapa K20 - harmonogram'!AK43","v":0},{"$f":"'OB1 - etapa K20 - harmonogram'!AL43","v":0},{"$f":"'OB1 - etapa K20 - harmonogram'!AM43","v":0},{"$f":"'OB1 - etapa K20 - harmonogram'!AN43","v":0},{"$f":"'OB1 - etapa K20 - harmonogram'!AO43","v":0},{"$f":"'OB1 - etapa K20 - harmonogram'!AP43","v":0},{"$f":"'OB1 - etapa K20 - harmonogram'!AQ43","v":0},{"$f":"'OB1 - etapa K20 - harmonogram'!AR43","v":0},{"$f":"'OB1 - etapa K20 - harmonogram'!AS43","v":0},{"$f":"'OB1 - etapa K20 - harmonogram'!AT43","v":0},{"$f":"'OB1 - etapa K20 - harmonogram'!AU43","v":0},{"$f":"'OB1 - etapa K20 - harmonogram'!AV43","v":0},{"$f":"'OB1 - etapa K20 - harmonogram'!AW43","v":0},{"$f":"'OB1 - etapa K20 - harmonogram'!AX43","v":0},{"$f":"'OB1 - etapa K20 - harmonogram'!AY43","v":0},{"$f":"'OB1 - etapa K20 - harmonogram'!AZ43","v":0},{"$f":"'OB1 - etapa K20 - harmonogram'!BA43","v":0},{"$f":"'OB1 - etapa K20 - harmonogram'!BB43","v":0},{"$f":"'OB1 - etapa K20 - harmonogram'!BC43","v":0},{"$f":"'OB1 - etapa K20 - harmonogram'!BD43","v":0},{"$f":"'OB1 - etapa K20 - harmonogram'!BE43","v":0},{"$f":"'OB1 - etapa K20 - harmonogram'!BF43","v":0},{"$f":"'OB1 - etapa K20 - harmonogram'!BG43","v":0},{"$f":"'OB1 - etapa K20 - harmonogram'!BH43","v":0},{"$f":"'OB1 - etapa K20 - harmonogram'!BI43","v":0},{"$f":"'OB1 - etapa K20 - harmonogram'!BJ43","v":0},{"$f":"'OB1 - etapa K20 - harmonogram'!BK43","v":0},{"$f":"'OB1 - etapa K20 - harmonogram'!BL43","v":0}]
[null,"etapa K20 - předběžné převzetí díla PAC","K20",{"$f":"'OB1 - etapa K20 - harmonogram'!J45","v":0},{"$f":"'OB1 - etapa K20 - harmonogram'!K45","v":0},{"$f":"'OB1 - etapa K20 - harmonogram'!L45","v":0},{"$f":"'OB1 - etapa K20 - harmonogram'!M45","v":0},{"$f":"'OB1 - etapa K20 - harmonogram'!N45","v":0},{"$f":"'OB1 - etapa K20 - harmonogram'!O45","v":0},{"$f":"'OB1 - etapa K20 - harmonogram'!P45","v":0},{"$f":"'OB1 - etapa K20 - harmonogram'!Q45","v":0},{"$f":"'OB1 - etapa K20 - harmonogram'!R45","v":0},{"$f":"'OB1 - etapa K20 - harmonogram'!S45","v":0},{"$f":"'OB1 - etapa K20 - harmonogram'!T45","v":0},{"$f":"'OB1 - etapa K20 - harmonogram'!U45","v":0},{"$f":"'OB1 - etapa K20 - harmonogram'!V45","v":0},{"$f":"'OB1 - etapa K20 - harmonogram'!W45","v":0},{"$f":"'OB1 - etapa K20 - harmonogram'!X45","v":0},{"$f":"'OB1 - etapa K20 - harmonogram'!Y45","v":0},{"$f":"'OB1 - etapa K20 - harmonogram'!Z45","v":0},{"$f":"'OB1 - etapa K20 - harmonogram'!AA45","v":0},{"$f":"'OB1 - etapa K20 - harmonogram'!AB45","v":0},{"$f":"'OB1 - etapa K20 - harmonogram'!AC45","v":0},{"$f":"'OB1 - etapa K20 - harmonogram'!AD45","v":0},{"$f":"'OB1 - etapa K20 - harmonogram'!AE45","v":0},{"$f":"'OB1 - etapa K20 - harmonogram'!AF45","v":0},{"$f":"'OB1 - etapa K20 - harmonogram'!AG45","v":0},{"$f":"'OB1 - etapa K20 - harmonogram'!AH45","v":0},{"$f":"'OB1 - etapa K20 - harmonogram'!AI45","v":0},{"$f":"'OB1 - etapa K20 - harmonogram'!AJ45","v":0},{"$f":"'OB1 - etapa K20 - harmonogram'!AK45","v":0},{"$f":"'OB1 - etapa K20 - harmonogram'!AL45","v":0},{"$f":"'OB1 - etapa K20 - harmonogram'!AM45","v":0},{"$f":"'OB1 - etapa K20 - harmonogram'!AN45","v":0},{"$f":"'OB1 - etapa K20 - harmonogram'!AO45","v":0},{"$f":"'OB1 - etapa K20 - harmonogram'!AP45","v":0},{"$f":"'OB1 - etapa K20 - harmonogram'!AQ45","v":0},{"$f":"'OB1 - etapa K20 - harmonogram'!AR45","v":0},{"$f":"'OB1 - etapa K20 - harmonogram'!AS45","v":0},{"$f":"'OB1 - etapa K20 - harmonogram'!AT45","v":0},{"$f":"'OB1 - etapa K20 - harmonogram'!AU45","v":0},{"$f":"'OB1 - etapa K20 - harmonogram'!AV45","v":0},{"$f":"'OB1 - etapa K20 - harmonogram'!AW45","v":0},{"$f":"'OB1 - etapa K20 - harmonogram'!AX45","v":0},{"$f":"'OB1 - etapa K20 - harmonogram'!AY45","v":0},{"$f":"'OB1 - etapa K20 - harmonogram'!AZ45","v":0},{"$f":"'OB1 - etapa K20 - harmonogram'!BA45","v":0},{"$f":"'OB1 - etapa K20 - harmonogram'!BB45","v":0},{"$f":"'OB1 - etapa K20 - harmonogram'!BC45","v":0},{"$f":"'OB1 - etapa K20 - harmonogram'!BD45","v":0},{"$f":"'OB1 - etapa K20 - harmonogram'!BE45","v":0},{"$f":"'OB1 - etapa K20 - harmonogram'!BF45","v":0},{"$f":"'OB1 - etapa K20 - harmonogram'!BG45","v":0},{"$f":"'OB1 - etapa K20 - harmonogram'!BH45","v":0},{"$f":"'OB1 - etapa K20 - harmonogram'!BI45","v":0},{"$f":"'OB1 - etapa K20 - harmonogram'!BJ45","v":0},{"$f":"'OB1 - etapa K20 - harmonogram'!BK45","v":0},{"$f":"'OB1 - etapa K20 - harmonogram'!BL45","v":0}]
[null,"etapa K20 - finální převzetí díla FAC","K20",{"$f":"'OB1 - etapa K20 - harmonogram'!J47","v":0},{"$f":"'OB1 - etapa K20 - harmonogram'!K47","v":0},{"$f":"'OB1 - etapa K20 - harmonogram'!L47","v":0},{"$f":"'OB1 - etapa K20 - harmonogram'!M47","v":0},{"$f":"'OB1 - etapa K20 - harmonogram'!N47","v":0},{"$f":"'OB1 - etapa K20 - harmonogram'!O47","v":0},{"$f":"'OB1 - etapa K20 - harmonogram'!P47","v":0},{"$f":"'OB1 - etapa K20 - harmonogram'!Q47","v":0},{"$f":"'OB1 - etapa K20 - harmonogram'!R47","v":0},{"$f":"'OB1 - etapa K20 - harmonogram'!S47","v":0},{"$f":"'OB1 - etapa K20 - harmonogram'!T47","v":0},{"$f":"'OB1 - etapa K20 - harmonogram'!U47","v":0},{"$f":"'OB1 - etapa K20 - harmonogram'!V47","v":0},{"$f":"'OB1 - etapa K20 - harmonogram'!W47","v":0},{"$f":"'OB1 - etapa K20 - harmonogram'!X47","v":0},{"$f":"'OB1 - etapa K20 - harmonogram'!Y47","v":0},{"$f":"'OB1 - etapa K20 - harmonogram'!Z47","v":0},{"$f":"'OB1 - etapa K20 - harmonogram'!AA47","v":0},{"$f":"'OB1 - etapa K20 - harmonogram'!AB47","v":0},{"$f":"'OB1 - etapa K20 - harmonogram'!AC47","v":0},{"$f":"'OB1 - etapa K20 - harmonogram'!AD47","v":0},{"$f":"'OB1 - etapa K20 - harmonogram'!AE47","v":0},{"$f":"'OB1 - etapa K20 - harmonogram'!AF47","v":0},{"$f":"'OB1 - etapa K20 - harmonogram'!AG47","v":0},{"$f":"'OB1 - etapa K20 - harmonogram'!AH47","v":0},{"$f":"'OB1 - etapa K20 - harmonogram'!AI47","v":0},{"$f":"'OB1 - etapa K20 - harmonogram'!AJ47","v":0},{"$f":"'OB1 - etapa K20 - harmonogram'!AK47","v":0},{"$f":"'OB1 - etapa K20 - harmonogram'!AL47","v":0},{"$f":"'OB1 - etapa K20 - harmonogram'!AM47","v":0},{"$f":"'OB1 - etapa K20 - harmonogram'!AN47","v":0},{"$f":"'OB1 - etapa K20 - harmonogram'!AO47","v":0},{"$f":"'OB1 - etapa K20 - harmonogram'!AP47","v":0},{"$f":"'OB1 - etapa K20 - harmonogram'!AQ47","v":0},{"$f":"'OB1 - etapa K20 - harmonogram'!AR47","v":0},{"$f":"'OB1 - etapa K20 - harmonogram'!AS47","v":0},{"$f":"'OB1 - etapa K20 - harmonogram'!AT47","v":0},{"$f":"'OB1 - etapa K20 - harmonogram'!AU47","v":0},{"$f":"'OB1 - etapa K20 - harmonogram'!AV47","v":0},{"$f":"'OB1 - etapa K20 - harmonogram'!AW47","v":0},{"$f":"'OB1 - etapa K20 - harmonogram'!AX47","v":0},{"$f":"'OB1 - etapa K20 - harmonogram'!AY47","v":0},{"$f":"'OB1 - etapa K20 - harmonogram'!AZ47","v":0},{"$f":"'OB1 - etapa K20 - harmonogram'!BA47","v":0},{"$f":"'OB1 - etapa K20 - harmonogram'!BB47","v":0},{"$f":"'OB1 - etapa K20 - harmonogram'!BC47","v":0},{"$f":"'OB1 - etapa K20 - harmonogram'!BD47","v":0},{"$f":"'OB1 - etapa K20 - harmonogram'!BE47","v":0},{"$f":"'OB1 - etapa K20 - harmonogram'!BF47","v":0},{"$f":"'OB1 - etapa K20 - harmonogram'!BG47","v":0},{"$f":"'OB1 - etapa K20 - harmonogram'!BH47","v":0},{"$f":"'OB1 - etapa K20 - harmonogram'!BI47","v":0},{"$f":"'OB1 - etapa K20 - harmonogram'!BJ47","v":0},{"$f":"'OB1 - etapa K20 - harmonogram'!BK47","v":0},{"$f":"'OB1 - etapa K20 - harmonogram'!BL47","v":0}]
["SO 104 - Doprava dřevní štěpky do kotelny K80","etapa K80 - Předání a převzetí staveniště","K80",{"$f":"'OB1 - etapa K80 - harmonogram'!J8","v":0},{"$f":"'OB1 - etapa K80 - harmonogram'!K8","v":0},{"$f":"'OB1 - etapa K80 - harmonogram'!L8","v":0},{"$f":"'OB1 - etapa K80 - harmonogram'!M8","v":0},{"$f":"'OB1 - etapa K80 - harmonogram'!N8","v":0},{"$f":"'OB1 - etapa K80 - harmonogram'!O8","v":0},{"$f":"'OB1 - etapa K80 - harmonogram'!P8","v":0},{"$f":"'OB1 - etapa K80 - harmonogram'!Q8","v":0},{"$f":"'OB1 - etapa K80 - harmonogram'!R8","v":0},{"$f":"'OB1 - etapa K80 - harmonogram'!S8","v":0},{"$f":"'OB1 - etapa K80 - harmonogram'!T8","v":0},{"$f":"'OB1 - etapa K80 - harmonogram'!U8","v":0},{"$f":"'OB1 - etapa K80 - harmonogram'!V8","v":0},{"$f":"'OB1 - etapa K80 - harmonogram'!W8","v":0},{"$f":"'OB1 - etapa K80 - harmonogram'!X8","v":0},{"$f":"'OB1 - etapa K80 - harmonogram'!Y8","v":0},{"$f":"'OB1 - etapa K80 - harmonogram'!Z8","v":0},{"$f":"'OB1 - etapa K80 - harmonogram'!AA8","v":0},{"$f":"'OB1 - etapa K80 - harmonogram'!AB8","v":0},{"$f":"'OB1 - etapa K80 - harmonogram'!AC8","v":0},{"$f":"'OB1 - etapa K80 - harmonogram'!AD8","v":0},{"$f":"'OB1 - etapa K80 - harmonogram'!AE8","v":0},{"$f":"'OB1 - etapa K80 - harmonogram'!AF8","v":0},{"$f":"'OB1 - etapa K80 - harmonogram'!AG8","v":0},{"$f":"'OB1 - etapa K80 - harmonogram'!AH8","v":0},{"$f":"'OB1 - etapa K80 - harmonogram'!AI8","v":0},{"$f":"'OB1 - etapa K80 - harmonogram'!AJ8","v":0},{"$f":"'OB1 - etapa K80 - harmonogram'!AK8","v":0},{"$f":"'OB1 - etapa K80 - harmonogram'!AL8","v":0},{"$f":"'OB1 - etapa K80 - harmonogram'!AM8","v":0},{"$f":"'OB1 - etapa K80 - harmonogram'!AN8","v":0},{"$f":"'OB1 - etapa K80 - harmonogram'!AO8","v":0},{"$f":"'OB1 - etapa K80 - harmonogram'!AP8","v":0},{"$f":"'OB1 - etapa K80 - harmonogram'!AQ8","v":0},{"$f":"'OB1 - etapa K80 - harmonogram'!AR8","v":0},{"$f":"'OB1 - etapa K80 - harmonogram'!AS8","v":0},{"$f":"'OB1 - etapa K80 - harmonogram'!AT8","v":0},{"$f":"'OB1 - etapa K80 - harmonogram'!AU8","v":0},{"$f":"'OB1 - etapa K80 - harmonogram'!AV8","v":0},{"$f":"'OB1 - etapa K80 - harmonogram'!AW8","v":0},{"$f":"'OB1 - etapa K80 - harmonogram'!AX8","v":0},{"$f":"'OB1 - etapa K80 - harmonogram'!AY8","v":0},{"$f":"'OB1 - etapa K80 - harmonogram'!AZ8","v":0},{"$f":"'OB1 - etapa K80 - harmonogram'!BA8","v":0},{"$f":"'OB1 - etapa K80 - harmonogram'!BB8","v":0},{"$f":"'OB1 - etapa K80 - harmonogram'!BC8","v":0},{"$f":"'OB1 - etapa K80 - harmonogram'!BD8","v":0},{"$f":"'OB1 - etapa K80 - harmonogram'!BE8","v":0},{"$f":"'OB1 - etapa K80 - harmonogram'!BF8","v":0},{"$f":"'OB1 - etapa K80 - harmonogram'!BG8","v":0},{"$f":"'OB1 - etapa K80 - harmonogram'!BH8","v":0},{"$f":"'OB1 - etapa K80 - harmonogram'!BI8","v":0},{"$f":"'OB1 - etapa K80 - harmonogram'!BJ8","v":0},{"$f":"'OB1 - etapa K80 - harmonogram'!BK8","v":0},{"$f":"'OB1 - etapa K80 - harmonogram'!BL8","v":0}]
[null,"etapa K80 - Technologická část (PS 104, PS 106, PS 107, PS 108)","K80",{"$f":"'OB1 - etapa K80 - harmonogram'!J9","v":0},{"$f":"'OB1 - etapa K80 - harmonogram'!K9","v":0},{"$f":"'OB1 - etapa K80 - harmonogram'!L9","v":0},{"$f":"'OB1 - etapa K80 - harmonogram'!M9","v":0},{"$f":"'OB1 - etapa K80 - harmonogram'!N9","v":0},{"$f":"'OB1 - etapa K80 - harmonogram'!O9","v":0},{"$f":"'OB1 - etapa K80 - harmonogram'!P9","v":0},{"$f":"'OB1 - etapa K80 - harmonogram'!Q9","v":0},{"$f":"'OB1 - etapa K80 - harmonogram'!R9","v":0},{"$f":"'OB1 - etapa K80 - harmonogram'!S9","v":0},{"$f":"'OB1 - etapa K80 - harmonogram'!T9","v":0},{"$f":"'OB1 - etapa K80 - harmonogram'!U9","v":0},{"$f":"'OB1 - etapa K80 - harmonogram'!V9","v":0},{"$f":"'OB1 - etapa K80 - harmonogram'!W9","v":0},{"$f":"'OB1 - etapa K80 - harmonogram'!X9","v":0},{"$f":"'OB1 - etapa K80 - harmonogram'!Y9","v":0},{"$f":"'OB1 - etapa K80 - harmonogram'!Z9","v":0},{"$f":"'OB1 - etapa K80 - harmonogram'!AA9","v":0},{"$f":"'OB1 - etapa K80 - harmonogram'!AB9","v":0},{"$f":"'OB1 - etapa K80 - harmonogram'!AC9","v":0},{"$f":"'OB1 - etapa K80 - harmonogram'!AD9","v":0},{"$f":"'OB1 - etapa K80 - harmonogram'!AE9","v":0},{"$f":"'OB1 - etapa K80 - harmonogram'!AF9","v":0},{"$f":"'OB1 - etapa K80 - harmonogram'!AG9","v":0},{"$f":"'OB1 - etapa K80 - harmonogram'!AH9","v":0},{"$f":"'OB1 - etapa K80 - harmonogram'!AI9","v":0},{"$f":"'OB1 - etapa K80 - harmonogram'!AJ9","v":0},{"$f":"'OB1 - etapa K80 - harmonogram'!AK9","v":0},{"$f":"'OB1 - etapa K80 - harmonogram'!AL9","v":0},{"$f":"'OB1 - etapa K80 - harmonogram'!AM9","v":0},{"$f":"'OB1 - etapa K80 - harmonogram'!AN9","v":0},{"$f":"'OB1 - etapa K80 - harmonogram'!AO9","v":0},{"$f":"'OB1 - etapa K80 - harmonogram'!AP9","v":0},{"$f":"'OB1 - etapa K80 - harmonogram'!AQ9","v":0},{"$f":"'OB1 - etapa K80 - harmonogram'!AR9","v":0},{"$f":"'OB1 - etapa K80 - harmonogram'!AS9","v":0},{"$f":"'OB1 - etapa K80 - harmonogram'!AT9","v":0},{"$f":"'OB1 - etapa K80 - harmonogram'!AU9","v":0},{"$f":"'OB1 - etapa K80 - harmonogram'!AV9","v":0},{"$f":"'OB1 - etapa K80 - harmonogram'!AW9","v":0},{"$f":"'OB1 - etapa K80 - harmonogram'!AX9","v":0},{"$f":"'OB1 - etapa K80 - harmonogram'!AY9","v":0},{"$f":"'OB1 - etapa K80 - harmonogram'!AZ9","v":0},{"$f":"'OB1 - etapa K80 - harmonogram'!BA9","v":0},{"$f":"'OB1 - etapa K80 - harmonogram'!BB9","v":0},{"$f":"'OB1 - etapa K80 - harmonogram'!BC9","v":0},{"$f":"'OB1 - etapa K80 - harmonogram'!BD9","v":0},{"$f":"'OB1 - etapa K80 - harmonogram'!BE9","v":0},{"$f":"'OB1 - etapa K80 - harmonogram'!BF9","v":0},{"$f":"'OB1 - etapa K80 - harmonogram'!BG9","v":0},{"$f":"'OB1 - etapa K80 - harmonogram'!BH9","v":0},{"$f":"'OB1 - etapa K80 - harmonogram'!BI9","v":0},{"$f":"'OB1 - etapa K80 - harmonogram'!BJ9","v":0},{"$f":"'OB1 - etapa K80 - harmonogram'!BK9","v":0},{"$f":"'OB1 - etapa K80 - harmonogram'!BL9","v":0}]
[null,"etapa K80 - Stavební část (A4.4)","K80",{"$f":"'OB1 - etapa K80 - harmonogram'!J11","v":0},{"$f":"'OB1 - etapa K80 - harmonogram'!K11","v":0},{"$f":"'OB1 - etapa K80 - harmonogram'!L11","v":0},{"$f":"'OB1 - etapa K80 - harmonogram'!M11","v":0},{"$f":"'OB1 - etapa K80 - harmonogram'!N11","v":0},{"$f":"'OB1 - etapa K80 - harmonogram'!O11","v":0},{"$f":"'OB1 - etapa K80 - harmonogram'!P11","v":0},{"$f":"'OB1 - etapa K80 - harmonogram'!Q11","v":0},{"$f":"'OB1 - etapa K80 - harmonogram'!R11","v":0},{"$f":"'OB1 - etapa K80 - harmonogram'!S11","v":0},{"$f":"'OB1 - etapa K80 - harmonogram'!T11","v":0},{"$f":"'OB1 - etapa K80 - harmonogram'!U11","v":0},{"$f":"'OB1 - etapa K80 - harmonogram'!V11","v":0},{"$f":"'OB1 - etapa K80 - harmonogram'!W11","v":0},{"$f":"'OB1 - etapa K80 - harmonogram'!X11","v":0},{"$f":"'OB1 - etapa K80 - harmonogram'!Y11","v":0},{"$f":"'OB1 - etapa K80 - harmonogram'!Z11","v":0},{"$f":"'OB1 - etapa K80 - harmonogram'!AA11","v":0},{"$f":"'OB1 - etapa K80 - harmonogram'!AB11","v":0},{"$f":"'OB1 - etapa K80 - harmonogram'!AC11","v":0},{"$f":"'OB1 - etapa K80 - harmonogram'!AD11","v":0},{"$f":"'OB1 - etapa K80 - harmonogram'!AE11","v":0},{"$f":"'OB1 - etapa K80 - harmonogram'!AF11","v":0},{"$f":"'OB1 - etapa K80 - harmonogram'!AG11","v":0},{"$f":"'OB1 - etapa K80 - harmonogram'!AH11","v":0},{"$f":"'OB1 - etapa K80 - harmonogram'!AI11","v":0},{"$f":"'OB1 - etapa K80 - harmonogram'!AJ11","v":0},{"$f":"'OB1 - etapa K80 - harmonogram'!AK11","v":0},{"$f":"'OB1 - etapa K80 - harmonogram'!AL11","v":0},{"$f":"'OB1 - etapa K80 - harmonogram'!AM11","v":0},{"$f":"'OB1 - etapa K80 - harmonogram'!AN11","v":0},{"$f":"'OB1 - etapa K80 - harmonogram'!AO11","v":0},{"$f":"'OB1 - etapa K80 - harmonogram'!AP11","v":0},{"$f":"'OB1 - etapa K80 - harmonogram'!AQ11","v":0},{"$f":"'OB1 - etapa K80 - harmonogram'!AR11","v":0},{"$f":"'OB1 - etapa K80 - harmonogram'!AS11","v":0},{"$f":"'OB1 - etapa K80 - harmonogram'!AT11","v":0},{"$f":"'OB1 - etapa K80 - harmonogram'!AU11","v":0},{"$f":"'OB1 - etapa K80 - harmonogram'!AV11","v":0},{"$f":"'OB1 - etapa K80 - harmonogram'!AW11","v":0},{"$f":"'OB1 - etapa K80 - harmonogram'!AX11","v":0},{"$f":"'OB1 - etapa K80 - harmonogram'!AY11","v":0},{"$f":"'OB1 - etapa K80 - harmonogram'!AZ11","v":0},{"$f":"'OB1 - etapa K80 - harmonogram'!BA11","v":0},{"$f":"'OB1 - etapa K80 - harmonogram'!BB11","v":0},{"$f":"'OB1 - etapa K80 - harmonogram'!BC11","v":0},{"$f":"'OB1 - etapa K80 - harmonogram'!BD11","v":0},{"$f":"'OB1 - etapa K80 - harmonogram'!BE11","v":0},{"$f":"'OB1 - etapa K80 - harmonogram'!BF11","v":0},{"$f":"'OB1 - etapa K80 - harmonogram'!BG11","v":0},{"$f":"'OB1 - etapa K80 - harmonogram'!BH11","v":0},{"$f":"'OB1 - etapa K80 - harmonogram'!BI11","v":0},{"$f":"'OB1 - etapa K80 - harmonogram'!BJ11","v":0},{"$f":"'OB1 - etapa K80 - harmonogram'!BK11","v":0},{"$f":"'OB1 - etapa K80 - harmonogram'!BL11","v":0}]
[null,"etapa K80 - komplexní vyzkoušení","K80",{"$f":"'OB1 - etapa K80 - harmonogram'!J13","v":0},{"$f":"'OB1 - etapa K80 - harmonogram'!K13","v":0},{"$f":"'OB1 - etapa K80 - harmonogram'!L13","v":0},{"$f":"'OB1 - etapa K80 - harmonogram'!M13","v":0},{"$f":"'OB1 - etapa K80 - harmonogram'!N13","v":0},{"$f":"'OB1 - etapa K80 - harmonogram'!O13","v":0},{"$f":"'OB1 - etapa K80 - harmonogram'!P13","v":0},{"$f":"'OB1 - etapa K80 - harmonogram'!Q13","v":0},{"$f":"'OB1 - etapa K80 - harmonogram'!R13","v":0},{"$f":"'OB1 - etapa K80 - harmonogram'!S13","v":0},{"$f":"'OB1 - etapa K80 - harmonogram'!T13","v":0},{"$f":"'OB1 - etapa K80 - harmonogram'!U13","v":0},{"$f":"'OB1 - etapa K80 - harmonogram'!V13","v":0},{"$f":"'OB1 - etapa K80 - harmonogram'!W13","v":0},{"$f":"'OB1 - etapa K80 - harmonogram'!X13","v":0},{"$f":"'OB1 - etapa K80 - harmonogram'!Y13","v":0},{"$f":"'OB1 - etapa K80 - harmonogram'!Z13","v":0},{"$f":"'OB1 - etapa K80 - harmonogram'!AA13","v":0},{"$f":"'OB1 - etapa K80 - harmonogram'!AB13","v":0},{"$f":"'OB1 - etapa K80 - harmonogram'!AC13","v":0},{"$f":"'OB1 - etapa K80 - harmonogram'!AD13","v":0},{"$f":"'OB1 - etapa K80 - harmonogram'!AE13","v":0},{"$f":"'OB1 - etapa K80 - harmonogram'!AF13","v":0},{"$f":"'OB1 - etapa K80 - harmonogram'!AG13","v":0},{"$f":"'OB1 - etapa K80 - harmonogram'!AH13","v":0},{"$f":"'OB1 - etapa K80 - harmonogram'!AI13","v":0},{"$f":"'OB1 - etapa K80 - harmonogram'!AJ13","v":0},{"$f":"'OB1 - etapa K80 - harmonogram'!AK13","v":0},{"$f":"'OB1 - etapa K80 - harmonogram'!AL13","v":0},{"$f":"'OB1 - etapa K80 - harmonogram'!AM13","v":0},{"$f":"'OB1 - etapa K80 - harmonogram'!AN13","v":0},{"$f":"'OB1 - etapa K80 - harmonogram'!AO13","v":0},{"$f":"'OB1 - etapa K80 - harmonogram'!AP13","v":0},{"$f":"'OB1 - etapa K80 - harmonogram'!AQ13","v":0},{"$f":"'OB1 - etapa K80 - harmonogram'!AR13","v":0},{"$f":"'OB1 - etapa K80 - harmonogram'!AS13","v":0},{"$f":"'OB1 - etapa K80 - harmonogram'!AT13","v":0},{"$f":"'OB1 - etapa K80 - harmonogram'!AU13","v":0},{"$f":"'OB1 - etapa K80 - harmonogram'!AV13","v":0},{"$f":"'OB1 - etapa K80 - harmonogram'!AW13","v":0},{"$f":"'OB1 - etapa K80 - harmonogram'!AX13","v":0},{"$f":"'OB1 - etapa K80 - harmonogram'!AY13","v":0},{"$f":"'OB1 - etapa K80 - harmonogram'!AZ13","v":0},{"$f":"'OB1 - etapa K80 - harmonogram'!BA13","v":0},{"$f":"'OB1 - etapa K80 - harmonogram'!BB13","v":0},{"$f":"'OB1 - etapa K80 - harmonogram'!BC13","v":0},{"$f":"'OB1 - etapa K80 - harmonogram'!BD13","v":0},{"$f":"'OB1 - etapa K80 - harmonogram'!BE13","v":0},{"$f":"'OB1 - etapa K80 - harmonogram'!BF13","v":0},{"$f":"'OB1 - etapa K80 - harmonogram'!BG13","v":0},{"$f":"'OB1 - etapa K80 - harmonogram'!BH13","v":0},{"$f":"'OB1 - etapa K80 - harmonogram'!BI13","v":0},{"$f":"'OB1 - etapa K80 - harmonogram'!BJ13","v":0},{"$f":"'OB1 - etapa K80 - harmonogram'!BK13","v":0},{"$f":"'OB1 - etapa K80 - harmonogram'!BL13","v":0}]
[null,"etapa K80 - zkušební provoz","K80",{"$f":"'OB1 - etapa K80 - harmonogram'!J15","v":0},{"$f":"'OB1 - etapa K80 - harmonogram'!K15","v":0},{"$f":"'OB1 - etapa K80 - harmonogram'!L15","v":0},{"$f":"'OB1 - etapa K80 - harmonogram'!M15","v":0},{"$f":"'OB1 - etapa K80 - harmonogram'!N15","v":0},{"$f":"'OB1 - etapa K80 - harmonogram'!O15","v":0},{"$f":"'OB1 - etapa K80 - harmonogram'!P15","v":0},{"$f":"'OB1 - etapa K80 - harmonogram'!Q15","v":0},{"$f":"'OB1 - etapa K80 - harmonogram'!R15","v":0},{"$f":"'OB1 - etapa K80 - harmonogram'!S15","v":0},{"$f":"'OB1 - etapa K80 - harmonogram'!T15","v":0},{"$f":"'OB1 - etapa K80 - harmonogram'!U15","v":0},{"$f":"'OB1 - etapa K80 - harmonogram'!V15","v":0},{"$f":"'OB1 - etapa K80 - harmonogram'!W15","v":0},{"$f":"'OB1 - etapa K80 - harmonogram'!X15","v":0},{"$f":"'OB1 - etapa K80 - harmonogram'!Y15","v":0},{"$f":"'OB1 - etapa K80 - harmonogram'!Z15","v":0},{"$f":"'OB1 - etapa K80 - harmonogram'!AA15","v":0},{"$f":"'OB1 - etapa K80 - harmonogram'!AB15","v":0},{"$f":"'OB1 - etapa K80 - harmonogram'!AC15","v":0},{"$f":"'OB1 - etapa K80 - harmonogram'!AD15","v":0},{"$f":"'OB1 - etapa K80 - harmonogram'!AE15","v":0},{"$f":"'OB1 - etapa K80 - harmonogram'!AF15","v":0},{"$f":"'OB1 - etapa K80 - harmonogram'!AG15","v":0},{"$f":"'OB1 - etapa K80 - harmonogram'!AH15","v":0},{"$f":"'OB1 - etapa K80 - harmonogram'!AI15","v":0},{"$f":"'OB1 - etapa K80 - harmonogram'!AJ15","v":0},{"$f":"'OB1 - etapa K80 - harmonogram'!AK15","v":0},{"$f":"'OB1 - etapa K80 - harmonogram'!AL15","v":0},{"$f":"'OB1 - etapa K80 - harmonogram'!AM15","v":0},{"$f":"'OB1 - etapa K80 - harmonogram'!AN15","v":0},{"$f":"'OB1 - etapa K80 - harmonogram'!AO15","v":0},{"$f":"'OB1 - etapa K80 - harmonogram'!AP15","v":0},{"$f":"'OB1 - etapa K80 - harmonogram'!AQ15","v":0},{"$f":"'OB1 - etapa K80 - harmonogram'!AR15","v":0},{"$f":"'OB1 - etapa K80 - harmonogram'!AS15","v":0},{"$f":"'OB1 - etapa K80 - harmonogram'!AT15","v":0},{"$f":"'OB1 - etapa K80 - harmonogram'!AU15","v":0},{"$f":"'OB1 - etapa K80 - harmonogram'!AV15","v":0},{"$f":"'OB1 - etapa K80 - harmonogram'!AW15","v":0},{"$f":"'OB1 - etapa K80 - harmonogram'!AX15","v":0},{"$f":"'OB1 - etapa K80 - harmonogram'!AY15","v":0},{"$f":"'OB1 - etapa K80 - harmonogram'!AZ15","v":0},{"$f":"'OB1 - etapa K80 - harmonogram'!BA15","v":0},{"$f":"'OB1 - etapa K80 - harmonogram'!BB15","v":0},{"$f":"'OB1 - etapa K80 - harmonogram'!BC15","v":0},{"$f":"'OB1 - etapa K80 - harmonogram'!BD15","v":0},{"$f":"'OB1 - etapa K80 - harmonogram'!BE15","v":0},{"$f":"'OB1 - etapa K80 - harmonogram'!BF15","v":0},{"$f":"'OB1 - etapa K80 - harmonogram'!BG15","v":0},{"$f":"'OB1 - etapa K80 - harmonogram'!BH15","v":0},{"$f":"'OB1 - etapa K80 - harmonogram'!BI15","v":0},{"$f":"'OB1 - etapa K80 - harmonogram'!BJ15","v":0},{"$f":"'OB1 - etapa K80 - harmonogram'!BK15","v":0},{"$f":"'OB1 - etapa K80 - harmonogram'!BL15","v":0}]
[null,"etapa K80 - garanční test A","K80",{"$f":"'OB1 - etapa K80 - harmonogram'!J17","v":0},{"$f":"'OB1 - etapa K80 - harmonogram'!K17","v":0},{"$f":"'OB1 - etapa K80 - harmonogram'!L17","v":0},{"$f":"'OB1 - etapa K80 - harmonogram'!M17","v":0},{"$f":"'OB1 - etapa K80 - harmonogram'!N17","v":0},{"$f":"'OB1 - etapa K80 - harmonogram'!O17","v":0},{"$f":"'OB1 - etapa K80 - harmonogram'!P17","v":0},{"$f":"'OB1 - etapa K80 - harmonogram'!Q17","v":0},{"$f":"'OB1 - etapa K80 - harmonogram'!R17","v":0},{"$f":"'OB1 - etapa K80 - harmonogram'!S17","v":0},{"$f":"'OB1 - etapa K80 - harmonogram'!T17","v":0},{"$f":"'OB1 - etapa K80 - harmonogram'!U17","v":0},{"$f":"'OB1 - etapa K80 - harmonogram'!V17","v":0},{"$f":"'OB1 - etapa K80 - harmonogram'!W17","v":0},{"$f":"'OB1 - etapa K80 - harmonogram'!X17","v":0},{"$f":"'OB1 - etapa K80 - harmonogram'!Y17","v":0},{"$f":"'OB1 - etapa K80 - harmonogram'!Z17","v":0},{"$f":"'OB1 - etapa K80 - harmonogram'!AA17","v":0},{"$f":"'OB1 - etapa K80 - harmonogram'!AB17","v":0},{"$f":"'OB1 - etapa K80 - harmonogram'!AC17","v":0},{"$f":"'OB1 - etapa K80 - harmonogram'!AD17","v":0},{"$f":"'OB1 - etapa K80 - harmonogram'!AE17","v":0},{"$f":"'OB1 - etapa K80 - harmonogram'!AF17","v":0},{"$f":"'OB1 - etapa K80 - harmonogram'!AG17","v":0},{"$f":"'OB1 - etapa K80 - harmonogram'!AH17","v":0},{"$f":"'OB1 - etapa K80 - harmonogram'!AI17","v":0},{"$f":"'OB1 - etapa K80 - harmonogram'!AJ17","v":0},{"$f":"'OB1 - etapa K80 - harmonogram'!AK17","v":0},{"$f":"'OB1 - etapa K80 - harmonogram'!AL17","v":0},{"$f":"'OB1 - etapa K80 - harmonogram'!AM17","v":0},{"$f":"'OB1 - etapa K80 - harmonogram'!AN17","v":0},{"$f":"'OB1 - etapa K80 - harmonogram'!AO17","v":0},{"$f":"'OB1 - etapa K80 - harmonogram'!AP17","v":0},{"$f":"'OB1 - etapa K80 - harmonogram'!AQ17","v":0},{"$f":"'OB1 - etapa K80 - harmonogram'!AR17","v":0},{"$f":"'OB1 - etapa K80 - harmonogram'!AS17","v":0},{"$f":"'OB1 - etapa K80 - harmonogram'!AT17","v":0},{"$f":"'OB1 - etapa K80 - harmonogram'!AU17","v":0},{"$f":"'OB1 - etapa K80 - harmonogram'!AV17","v":0},{"$f":"'OB1 - etapa K80 - harmonogram'!AW17","v":0},{"$f":"'OB1 - etapa K80 - harmonogram'!AX17","v":0},{"$f":"'OB1 - etapa K80 - harmonogram'!AY17","v":0},{"$f":"'OB1 - etapa K80 - harmonogram'!AZ17","v":0},{"$f":"'OB1 - etapa K80 - harmonogram'!BA17","v":0},{"$f":"'OB1 - etapa K80 - harmonogram'!BB17","v":0},{"$f":"'OB1 - etapa K80 - harmonogram'!BC17","v":0},{"$f":"'OB1 - etapa K80 - harmonogram'!BD17","v":0},{"$f":"'OB1 - etapa K80 - harmonogram'!BE17","v":0},{"$f":"'OB1 - etapa K80 - harmonogram'!BF17","v":0},{"$f":"'OB1 - etapa K80 - harmonogram'!BG17","v":0},{"$f":"'OB1 - etapa K80 - harmonogram'!BH17","v":0},{"$f":"'OB1 - etapa K80 - harmonogram'!BI17","v":0},{"$f":"'OB1 - etapa K80 - harmonogram'!BJ17","v":0},{"$f":"'OB1 - etapa K80 - harmonogram'!BK17","v":0},{"$f":"'OB1 - etapa K80 - harmonogram'!BL17","v":0}]
[null,"etapa K80 - předběžné převzetí díla PAC","K80",{"$f":"'OB1 - etapa K80 - harmonogram'!J19","v":0},{"$f":"'OB1 - etapa K80 - harmonogram'!K19","v":0},{"$f":"'OB1 - etapa K80 - harmonogram'!L19","v":0},{"$f":"'OB1 - etapa K80 - harmonogram'!M19","v":0},{"$f":"'OB1 - etapa K80 - harmonogram'!N19","v":0},{"$f":"'OB1 - etapa K80 - harmonogram'!O19","v":0},{"$f":"'OB1 - etapa K80 - harmonogram'!P19","v":0},{"$f":"'OB1 - etapa K80 - harmonogram'!Q19","v":0},{"$f":"'OB1 - etapa K80 - harmonogram'!R19","v":0},{"$f":"'OB1 - etapa K80 - harmonogram'!S19","v":0},{"$f":"'OB1 - etapa K80 - harmonogram'!T19","v":0},{"$f":"'OB1 - etapa K80 - harmonogram'!U19","v":0},{"$f":"'OB1 - etapa K80 - harmonogram'!V19","v":0},{"$f":"'OB1 - etapa K80 - harmonogram'!W19","v":0},{"$f":"'OB1 - etapa K80 - harmonogram'!X19","v":0},{"$f":"'OB1 - etapa K80 - harmonogram'!Y19","v":0},{"$f":"'OB1 - etapa K80 - harmonogram'!Z19","v":0},{"$f":"'OB1 - etapa K80 - harmonogram'!AA19","v":0},{"$f":"'OB1 - etapa K80 - harmonogram'!AB19","v":0},{"$f":"'OB1 - etapa K80 - harmonogram'!AC19","v":0},{"$f":"'OB1 - etapa K80 - harmonogram'!AD19","v":0},{"$f":"'OB1 - etapa K80 - harmonogram'!AE19","v":0},{"$f":"'OB1 - etapa K80 - harmonogram'!AF19","v":0},{"$f":"'OB1 - etapa K80 - harmonogram'!AG19","v":0},{"$f":"'OB1 - etapa K80 - harmonogram'!AH19","v":0},{"$f":"'OB1 - etapa K80 - harmonogram'!AI19","v":0},{"$f":"'OB1 - etapa K80 - harmonogram'!AJ19","v":0},{"$f":"'OB1 - etapa K80 - harmonogram'!AK19","v":0},{"$f":"'OB1 - etapa K80 - harmonogram'!AL19","v":0},{"$f":"'OB1 - etapa K80 - harmonogram'!AM19","v":0},{"$f":"'OB1 - etapa K80 - harmonogram'!AN19","v":0},{"$f":"'OB1 - etapa K80 - harmonogram'!AO19","v":0},{"$f":"'OB1 - etapa K80 - harmonogram'!AP19","v":0},{"$f":"'OB1 - etapa K80 - harmonogram'!AQ19","v":0},{"$f":"'OB1 - etapa K80 - harmonogram'!AR19","v":0},{"$f":"'OB1 - etapa K80 - harmonogram'!AS19","v":0},{"$f":"'OB1 - etapa K80 - harmonogram'!AT19","v":0},{"$f":"'OB1 - etapa K80 - harmonogram'!AU19","v":0},{"$f":"'OB1 - etapa K80 - harmonogram'!AV19","v":0},{"$f":"'OB1 - etapa K80 - harmonogram'!AW19","v":0},{"$f":"'OB1 - etapa K80 - harmonogram'!AX19","v":0},{"$f":"'OB1 - etapa K80 - harmonogram'!AY19","v":0},{"$f":"'OB1 - etapa K80 - harmonogram'!AZ19","v":0},{"$f":"'OB1 - etapa K80 - harmonogram'!BA19","v":0},{"$f":"'OB1 - etapa K80 - harmonogram'!BB19","v":0},{"$f":"'OB1 - etapa K80 - harmonogram'!BC19","v":0},{"$f":"'OB1 - etapa K80 - harmonogram'!BD19","v":0},{"$f":"'OB1 - etapa K80 - harmonogram'!BE19","v":0},{"$f":"'OB1 - etapa K80 - harmonogram'!BF19","v":0},{"$f":"'OB1 - etapa K80 - harmonogram'!BG19","v":0},{"$f":"'OB1 - etapa K80 - harmonogram'!BH19","v":0},{"$f":"'OB1 - etapa K80 - harmonogram'!BI19","v":0},{"$f":"'OB1 - etapa K80 - harmonogram'!BJ19","v":0},{"$f":"'OB1 - etapa K80 - harmonogram'!BK19","v":0},{"$f":"'OB1 - etapa K80 - harmonogram'!BL19","v":0}]
[null,"etapa K80 - finální převzetí díla FAC","K80",{"$f":"'OB1 - etapa K80 - harmonogram'!J21","v":0},{"$f":"'OB1 - etapa K80 - harmonogram'!K21","v":0},{"$f":"'OB1 - etapa K80 - harmonogram'!L21","v":0},{"$f":"'OB1 - etapa K80 - harmonogram'!M21","v":0},{"$f":"'OB1 - etapa K80 - harmonogram'!N21","v":0},{"$f":"'OB1 - etapa K80 - harmonogram'!O21","v":0},{"$f":"'OB1 - etapa K80 - harmonogram'!P21","v":0},{"$f":"'OB1 - etapa K80 - harmonogram'!Q21","v":0},{"$f":"'OB1 - etapa K80 - harmonogram'!R21","v":0},{"$f":"'OB1 - etapa K80 - harmonogram'!S21","v":0},{"$f":"'OB1 - etapa K80 - harmonogram'!T21","v":0},{"$f":"'OB1 - etapa K80 - harmonogram'!U21","v":0},{"$f":"'OB1 - etapa K80 - harmonogram'!V21","v":0},{"$f":"'OB1 - etapa K80 - harmonogram'!W21","v":0},{"$f":"'OB1 - etapa K80 - harmonogram'!X21","v":0},{"$f":"'OB1 - etapa K80 - harmonogram'!Y21","v":0},{"$f":"'OB1 - etapa K80 - harmonogram'!Z21","v":0},{"$f":"'OB1 - etapa K80 - harmonogram'!AA21","v":0},{"$f":"'OB1 - etapa K80 - harmonogram'!AB21","v":0},{"$f":"'OB1 - etapa K80 - harmonogram'!AC21","v":0},{"$f":"'OB1 - etapa K80 - harmonogram'!AD21","v":0},{"$f":"'OB1 - etapa K80 - harmonogram'!AE21","v":0},{"$f":"'OB1 - etapa K80 - harmonogram'!AF21","v":0},{"$f":"'OB1 - etapa K80 - harmonogram'!AG21","v":0},{"$f":"'OB1 - etapa K80 - harmonogram'!AH21","v":0},{"$f":"'OB1 - etapa K80 - harmonogram'!AI21","v":0},{"$f":"'OB1 - etapa K80 - harmonogram'!AJ21","v":0},{"$f":"'OB1 - etapa K80 - harmonogram'!AK21","v":0},{"$f":"'OB1 - etapa K80 - harmonogram'!AL21","v":0},{"$f":"'OB1 - etapa K80 - harmonogram'!AM21","v":0},{"$f":"'OB1 - etapa K80 - harmonogram'!AN21","v":0},{"$f":"'OB1 - etapa K80 - harmonogram'!AO21","v":0},{"$f":"'OB1 - etapa K80 - harmonogram'!AP21","v":0},{"$f":"'OB1 - etapa K80 - harmonogram'!AQ21","v":0},{"$f":"'OB1 - etapa K80 - harmonogram'!AR21","v":0},{"$f":"'OB1 - etapa K80 - harmonogram'!AS21","v":0},{"$f":"'OB1 - etapa K80 - harmonogram'!AT21","v":0},{"$f":"'OB1 - etapa K80 - harmonogram'!AU21","v":0},{"$f":"'OB1 - etapa K80 - harmonogram'!AV21","v":0},{"$f":"'OB1 - etapa K80 - harmonogram'!AW21","v":0},{"$f":"'OB1 - etapa K80 - harmonogram'!AX21","v":0},{"$f":"'OB1 - etapa K80 - harmonogram'!AY21","v":0},{"$f":"'OB1 - etapa K80 - harmonogram'!AZ21","v":0},{"$f":"'OB1 - etapa K80 - harmonogram'!BA21","v":0},{"$f":"'OB1 - etapa K80 - harmonogram'!BB21","v":0},{"$f":"'OB1 - etapa K80 - harmonogram'!BC21","v":0},{"$f":"'OB1 - etapa K80 - harmonogram'!BD21","v":0},{"$f":"'OB1 - etapa K80 - harmonogram'!BE21","v":0},{"$f":"'OB1 - etapa K80 - harmonogram'!BF21","v":0},{"$f":"'OB1 - etapa K80 - harmonogram'!BG21","v":0},{"$f":"'OB1 - etapa K80 - harmonogram'!BH21","v":0},{"$f":"'OB1 - etapa K80 - harmonogram'!BI21","v":0},{"$f":"'OB1 - etapa K80 - harmonogram'!BJ21","v":0},{"$f":"'OB1 - etapa K80 - harmonogram'!BK21","v":0},{"$f":"'OB1 - etapa K80 - harmonogram'!BL21","v":0}]
["SO 104 - Doprava dřevní štěpky do kotelny K90","etapa K90 - Předání a převzetí staveniště","K90",{"$f":"'OB1 - etapa K90 - harmonogram'!J8","v":0},{"$f":"'OB1 - etapa K90 - harmonogram'!K8","v":0},{"$f":"'OB1 - etapa K90 - harmonogram'!L8","v":0},{"$f":"'OB1 - etapa K90 - harmonogram'!M8","v":0},{"$f":"'OB1 - etapa K90 - harmonogram'!N8","v":0},{"$f":"'OB1 - etapa K90 - harmonogram'!O8","v":0},{"$f":"'OB1 - etapa K90 - harmonogram'!P8","v":0},{"$f":"'OB1 - etapa K90 - harmonogram'!Q8","v":0},{"$f":"'OB1 - etapa K90 - harmonogram'!R8","v":0},{"$f":"'OB1 - etapa K90 - harmonogram'!S8","v":0},{"$f":"'OB1 - etapa K90 - harmonogram'!T8","v":0},{"$f":"'OB1 - etapa K90 - harmonogram'!U8","v":0},{"$f":"'OB1 - etapa K90 - harmonogram'!V8","v":0},{"$f":"'OB1 - etapa K90 - harmonogram'!W8","v":0},{"$f":"'OB1 - etapa K90 - harmonogram'!X8","v":0},{"$f":"'OB1 - etapa K90 - harmonogram'!Y8","v":0},{"$f":"'OB1 - etapa K90 - harmonogram'!Z8","v":0},{"$f":"'OB1 - etapa K90 - harmonogram'!AA8","v":0},{"$f":"'OB1 - etapa K90 - harmonogram'!AB8","v":0},{"$f":"'OB1 - etapa K90 - harmonogram'!AC8","v":0},{"$f":"'OB1 - etapa K90 - harmonogram'!AD8","v":0},{"$f":"'OB1 - etapa K90 - harmonogram'!AE8","v":0},{"$f":"'OB1 - etapa K90 - harmonogram'!AF8","v":0},{"$f":"'OB1 - etapa K90 - harmonogram'!AG8","v":0},{"$f":"'OB1 - etapa K90 - harmonogram'!AH8","v":0},{"$f":"'OB1 - etapa K90 - harmonogram'!AI8","v":0},{"$f":"'OB1 - etapa K90 - harmonogram'!AJ8","v":0},{"$f":"'OB1 - etapa K90 - harmonogram'!AK8","v":0},{"$f":"'OB1 - etapa K90 - harmonogram'!AL8","v":0},{"$f":"'OB1 - etapa K90 - harmonogram'!AM8","v":0},{"$f":"'OB1 - etapa K90 - harmonogram'!AN8","v":0},{"$f":"'OB1 - etapa K90 - harmonogram'!AO8","v":0},{"$f":"'OB1 - etapa K90 - harmonogram'!AP8","v":0},{"$f":"'OB1 - etapa K90 - harmonogram'!AQ8","v":0},{"$f":"'OB1 - etapa K90 - harmonogram'!AR8","v":0},{"$f":"'OB1 - etapa K90 - harmonogram'!AS8","v":0},{"$f":"'OB1 - etapa K90 - harmonogram'!AT8","v":0},{"$f":"'OB1 - etapa K90 - harmonogram'!AU8","v":0},{"$f":"'OB1 - etapa K90 - harmonogram'!AV8","v":0},{"$f":"'OB1 - etapa K90 - harmonogram'!AW8","v":0},{"$f":"'OB1 - etapa K90 - harmonogram'!AX8","v":0},{"$f":"'OB1 - etapa K90 - harmonogram'!AY8","v":0},{"$f":"'OB1 - etapa K90 - harmonogram'!AZ8","v":0},{"$f":"'OB1 - etapa K90 - harmonogram'!BA8","v":0},{"$f":"'OB1 - etapa K90 - harmonogram'!BB8","v":0},{"$f":"'OB1 - etapa K90 - harmonogram'!BC8","v":0},{"$f":"'OB1 - etapa K90 - harmonogram'!BD8","v":0},{"$f":"'OB1 - etapa K90 - harmonogram'!BE8","v":0},{"$f":"'OB1 - etapa K90 - harmonogram'!BF8","v":0},{"$f":"'OB1 - etapa K90 - harmonogram'!BG8","v":0},{"$f":"'OB1 - etapa K90 - harmonogram'!BH8","v":0},{"$f":"'OB1 - etapa K90 - harmonogram'!BI8","v":0},{"$f":"'OB1 - etapa K90 - harmonogram'!BJ8","v":0},{"$f":"'OB1 - etapa K90 - harmonogram'!BK8","v":0},{"$f":"'OB1 - etapa K90 - harmonogram'!BL8","v":0}]
[null,"etapa K90 - Technologická část (PS 104, PS 106, PS 107, PS 108)","K90",{"$f":"'OB1 - etapa K90 - harmonogram'!J9","v":0},{"$f":"'OB1 - etapa K90 - harmonogram'!K9","v":0},{"$f":"'OB1 - etapa K90 - harmonogram'!L9","v":0},{"$f":"'OB1 - etapa K90 - harmonogram'!M9","v":0},{"$f":"'OB1 - etapa K90 - harmonogram'!N9","v":0},{"$f":"'OB1 - etapa K90 - harmonogram'!O9","v":0},{"$f":"'OB1 - etapa K90 - harmonogram'!P9","v":0},{"$f":"'OB1 - etapa K90 - harmonogram'!Q9","v":0},{"$f":"'OB1 - etapa K90 - harmonogram'!R9","v":0},{"$f":"'OB1 - etapa K90 - harmonogram'!S9","v":0},{"$f":"'OB1 - etapa K90 - harmonogram'!T9","v":0},{"$f":"'OB1 - etapa K90 - harmonogram'!U9","v":0},{"$f":"'OB1 - etapa K90 - harmonogram'!V9","v":0},{"$f":"'OB1 - etapa K90 - harmonogram'!W9","v":0},{"$f":"'OB1 - etapa K90 - harmonogram'!X9","v":0},{"$f":"'OB1 - etapa K90 - harmonogram'!Y9","v":0},{"$f":"'OB1 - etapa K90 - harmonogram'!Z9","v":0},{"$f":"'OB1 - etapa K90 - harmonogram'!AA9","v":0},{"$f":"'OB1 - etapa K90 - harmonogram'!AB9","v":0},{"$f":"'OB1 - etapa K90 - harmonogram'!AC9","v":0},{"$f":"'OB1 - etapa K90 - harmonogram'!AD9","v":0},{"$f":"'OB1 - etapa K90 - harmonogram'!AE9","v":0},{"$f":"'OB1 - etapa K90 - harmonogram'!AF9","v":0},{"$f":"'OB1 - etapa K90 - harmonogram'!AG9","v":0},{"$f":"'OB1 - etapa K90 - harmonogram'!AH9","v":0},{"$f":"'OB1 - etapa K90 - harmonogram'!AI9","v":0},{"$f":"'OB1 - etapa K90 - harmonogram'!AJ9","v":0},{"$f":"'OB1 - etapa K90 - harmonogram'!AK9","v":0},{"$f":"'OB1 - etapa K90 - harmonogram'!AL9","v":0},{"$f":"'OB1 - etapa K90 - harmonogram'!AM9","v":0},{"$f":"'OB1 - etapa K90 - harmonogram'!AN9","v":0},{"$f":"'OB1 - etapa K90 - harmonogram'!AO9","v":0},{"$f":"'OB1 - etapa K90 - harmonogram'!AP9","v":0},{"$f":"'OB1 - etapa K90 - harmonogram'!AQ9","v":0},{"$f":"'OB1 - etapa K90 - harmonogram'!AR9","v":0},{"$f":"'OB1 - etapa K90 - harmonogram'!AS9","v":0},{"$f":"'OB1 - etapa K90 - harmonogram'!AT9","v":0},{"$f":"'OB1 - etapa K90 - harmonogram'!AU9","v":0},{"$f":"'OB1 - etapa K90 - harmonogram'!AV9","v":0},{"$f":"'OB1 - etapa K90 - harmonogram'!AW9","v":0},{"$f":"'OB1 - etapa K90 - harmonogram'!AX9","v":0},{"$f":"'OB1 - etapa K90 - harmonogram'!AY9","v":0},{"$f":"'OB1 - etapa K90 - harmonogram'!AZ9","v":0},{"$f":"'OB1 - etapa K90 - harmonogram'!BA9","v":0},{"$f":"'OB1 - etapa K90 - harmonogram'!BB9","v":0},{"$f":"'OB1 - etapa K90 - harmonogram'!BC9","v":0},{"$f":"'OB1 - etapa K90 - harmonogram'!BD9","v":0},{"$f":"'OB1 - etapa K90 - harmonogram'!BE9","v":0},{"$f":"'OB1 - etapa K90 - harmonogram'!BF9","v":0},{"$f":"'OB1 - etapa K90 - harmonogram'!BG9","v":0},{"$f":"'OB1 - etapa K90 - harmonogram'!BH9","v":0},{"$f":"'OB1 - etapa K90 - harmonogram'!BI9","v":0},{"$f":"'OB1 - etapa K90 - harmonogram'!BJ9","v":0},{"$f":"'OB1 - etapa K90 - harmonogram'!BK9","v":0},{"$f":"'OB1 - etapa K90 - harmonogram'!BL9","v":0}]
[null,"etapa K90 - Stavební část (A4.4)","K90",{"$f":"'OB1 - etapa K90 - harmonogram'!J11","v":0},{"$f":"'OB1 - etapa K90 - harmonogram'!K11","v":0},{"$f":"'OB1 - etapa K90 - harmonogram'!L11","v":0},{"$f":"'OB1 - etapa K90 - harmonogram'!M11","v":0},{"$f":"'OB1 - etapa K90 - harmonogram'!N11","v":0},{"$f":"'OB1 - etapa K90 - harmonogram'!O11","v":0},{"$f":"'OB1 - etapa K90 - harmonogram'!P11","v":0},{"$f":"'OB1 - etapa K90 - harmonogram'!Q11","v":0},{"$f":"'OB1 - etapa K90 - harmonogram'!R11","v":0},{"$f":"'OB1 - etapa K90 - harmonogram'!S11","v":0},{"$f":"'OB1 - etapa K90 - harmonogram'!T11","v":0},{"$f":"'OB1 - etapa K90 - harmonogram'!U11","v":0},{"$f":"'OB1 - etapa K90 - harmonogram'!V11","v":0},{"$f":"'OB1 - etapa K90 - harmonogram'!W11","v":0},{"$f":"'OB1 - etapa K90 - harmonogram'!X11","v":0},{"$f":"'OB1 - etapa K90 - harmonogram'!Y11","v":0},{"$f":"'OB1 - etapa K90 - harmonogram'!Z11","v":0},{"$f":"'OB1 - etapa K90 - harmonogram'!AA11","v":0},{"$f":"'OB1 - etapa K90 - harmonogram'!AB11","v":0},{"$f":"'OB1 - etapa K90 - harmonogram'!AC11","v":0},{"$f":"'OB1 - etapa K90 - harmonogram'!AD11","v":0},{"$f":"'OB1 - etapa K90 - harmonogram'!AE11","v":0},{"$f":"'OB1 - etapa K90 - harmonogram'!AF11","v":0},{"$f":"'OB1 - etapa K90 - harmonogram'!AG11","v":0},{"$f":"'OB1 - etapa K90 - harmonogram'!AH11","v":0},{"$f":"'OB1 - etapa K90 - harmonogram'!AI11","v":0},{"$f":"'OB1 - etapa K90 - harmonogram'!AJ11","v":0},{"$f":"'OB1 - etapa K90 - harmonogram'!AK11","v":0},{"$f":"'OB1 - etapa K90 - harmonogram'!AL11","v":0},{"$f":"'OB1 - etapa K90 - harmonogram'!AM11","v":0},{"$f":"'OB1 - etapa K90 - harmonogram'!AN11","v":0},{"$f":"'OB1 - etapa K90 - harmonogram'!AO11","v":0},{"$f":"'OB1 - etapa K90 - harmonogram'!AP11","v":0},{"$f":"'OB1 - etapa K90 - harmonogram'!AQ11","v":0},{"$f":"'OB1 - etapa K90 - harmonogram'!AR11","v":0},{"$f":"'OB1 - etapa K90 - harmonogram'!AS11","v":0},{"$f":"'OB1 - etapa K90 - harmonogram'!AT11","v":0},{"$f":"'OB1 - etapa K90 - harmonogram'!AU11","v":0},{"$f":"'OB1 - etapa K90 - harmonogram'!AV11","v":0},{"$f":"'OB1 - etapa K90 - harmonogram'!AW11","v":0},{"$f":"'OB1 - etapa K90 - harmonogram'!AX11","v":0},{"$f":"'OB1 - etapa K90 - harmonogram'!AY11","v":0},{"$f":"'OB1 - etapa K90 - harmonogram'!AZ11","v":0},{"$f":"'OB1 - etapa K90 - harmonogram'!BA11","v":0},{"$f":"'OB1 - etapa K90 - harmonogram'!BB11","v":0},{"$f":"'OB1 - etapa K90 - harmonogram'!BC11","v":0},{"$f":"'OB1 - etapa K90 - harmonogram'!BD11","v":0},{"$f":"'OB1 - etapa K90 - harmonogram'!BE11","v":0},{"$f":"'OB1 - etapa K90 - harmonogram'!BF11","v":0},{"$f":"'OB1 - etapa K90 - harmonogram'!BG11","v":0},{"$f":"'OB1 - etapa K90 - harmonogram'!BH11","v":0},{"$f":"'OB1 - etapa K90 - harmonogram'!BI11","v":0},{"$f":"'OB1 - etapa K90 - harmonogram'!BJ11","v":0},{"$f":"'OB1 - etapa K90 - harmonogram'!BK11","v":0},{"$f":"'OB1 - etapa K90 - harmonogram'!BL11","v":0}]
[null,"etapa K90 - komplexní vyzkoušení","K90",{"$f":"'OB1 - etapa K90 - harmonogram'!J13","v":0},{"$f":"'OB1 - etapa K90 - harmonogram'!K13","v":0},{"$f":"'OB1 - etapa K90 - harmonogram'!L13","v":0},{"$f":"'OB1 - etapa K90 - harmonogram'!M13","v":0},{"$f":"'OB1 - etapa K90 - harmonogram'!N13","v":0},{"$f":"'OB1 - etapa K90 - harmonogram'!O13","v":0},{"$f":"'OB1 - etapa K90 - harmonogram'!P13","v":0},{"$f":"'OB1 - etapa K90 - harmonogram'!Q13","v":0},{"$f":"'OB1 - etapa K90 - harmonogram'!R13","v":0},{"$f":"'OB1 - etapa K90 - harmonogram'!S13","v":0},{"$f":"'OB1 - etapa K90 - harmonogram'!T13","v":0},{"$f":"'OB1 - etapa K90 - harmonogram'!U13","v":0},{"$f":"'OB1 - etapa K90 - harmonogram'!V13","v":0},{"$f":"'OB1 - etapa K90 - harmonogram'!W13","v":0},{"$f":"'OB1 - etapa K90 - harmonogram'!X13","v":0},{"$f":"'OB1 - etapa K90 - harmonogram'!Y13","v":0},{"$f":"'OB1 - etapa K90 - harmonogram'!Z13","v":0},{"$f":"'OB1 - etapa K90 - harmonogram'!AA13","v":0},{"$f":"'OB1 - etapa K90 - harmonogram'!AB13","v":0},{"$f":"'OB1 - etapa K90 - harmonogram'!AC13","v":0},{"$f":"'OB1 - etapa K90 - harmonogram'!AD13","v":0},{"$f":"'OB1 - etapa K90 - harmonogram'!AE13","v":0},{"$f":"'OB1 - etapa K90 - harmonogram'!AF13","v":0},{"$f":"'OB1 - etapa K90 - harmonogram'!AG13","v":0},{"$f":"'OB1 - etapa K90 - harmonogram'!AH13","v":0},{"$f":"'OB1 - etapa K90 - harmonogram'!AI13","v":0},{"$f":"'OB1 - etapa K90 - harmonogram'!AJ13","v":0},{"$f":"'OB1 - etapa K90 - harmonogram'!AK13","v":0},{"$f":"'OB1 - etapa K90 - harmonogram'!AL13","v":0},{"$f":"'OB1 - etapa K90 - harmonogram'!AM13","v":0},{"$f":"'OB1 - etapa K90 - harmonogram'!AN13","v":0},{"$f":"'OB1 - etapa K90 - harmonogram'!AO13","v":0},{"$f":"'OB1 - etapa K90 - harmonogram'!AP13","v":0},{"$f":"'OB1 - etapa K90 - harmonogram'!AQ13","v":0},{"$f":"'OB1 - etapa K90 - harmonogram'!AR13","v":0},{"$f":"'OB1 - etapa K90 - harmonogram'!AS13","v":0},{"$f":"'OB1 - etapa K90 - harmonogram'!AT13","v":0},{"$f":"'OB1 - etapa K90 - harmonogram'!AU13","v":0},{"$f":"'OB1 - etapa K90 - harmonogram'!AV13","v":0},{"$f":"'OB1 - etapa K90 - harmonogram'!AW13","v":0},{"$f":"'OB1 - etapa K90 - harmonogram'!AX13","v":0},{"$f":"'OB1 - etapa K90 - harmonogram'!AY13","v":0},{"$f":"'OB1 - etapa K90 - harmonogram'!AZ13","v":0},{"$f":"'OB1 - etapa K90 - harmonogram'!BA13","v":0},{"$f":"'OB1 - etapa K90 - harmonogram'!BB13","v":0},{"$f":"'OB1 - etapa K90 - harmonogram'!BC13","v":0},{"$f":"'OB1 - etapa K90 - harmonogram'!BD13","v":0},{"$f":"'OB1 - etapa K90 - harmonogram'!BE13","v":0},{"$f":"'OB1 - etapa K90 - harmonogram'!BF13","v":0},{"$f":"'OB1 - etapa K90 - harmonogram'!BG13","v":0},{"$f":"'OB1 - etapa K90 - harmonogram'!BH13","v":0},{"$f":"'OB1 - etapa K90 - harmonogram'!BI13","v":0},{"$f":"'OB1 - etapa K90 - harmonogram'!BJ13","v":0},{"$f":"'OB1 - etapa K90 - harmonogram'!BK13","v":0},{"$f":"'OB1 - etapa K90 - harmonogram'!BL13","v":0}]
[null,"etapa K90 - zkušební provoz","K90",{"$f":"'OB1 - etapa K90 - harmonogram'!J15","v":0},{"$f":"'OB1 - etapa K90 - harmonogram'!K15","v":0},{"$f":"'OB1 - etapa K90 - harmonogram'!L15","v":0},{"$f":"'OB1 - etapa K90 - harmonogram'!M15","v":0},{"$f":"'OB1 - etapa K90 - harmonogram'!N15","v":0},{"$f":"'OB1 - etapa K90 - harmonogram'!O15","v":0},{"$f":"'OB1 - etapa K90 - harmonogram'!P15","v":0},{"$f":"'OB1 - etapa K90 - harmonogram'!Q15","v":0},{"$f":"'OB1 - etapa K90 - harmonogram'!R15","v":0},{"$f":"'OB1 - etapa K90 - harmonogram'!S15","v":0},{"$f":"'OB1 - etapa K90 - harmonogram'!T15","v":0},{"$f":"'OB1 - etapa K90 - harmonogram'!U15","v":0},{"$f":"'OB1 - etapa K90 - harmonogram'!V15","v":0},{"$f":"'OB1 - etapa K90 - harmonogram'!W15","v":0},{"$f":"'OB1 - etapa K90 - harmonogram'!X15","v":0},{"$f":"'OB1 - etapa K90 - harmonogram'!Y15","v":0},{"$f":"'OB1 - etapa K90 - harmonogram'!Z15","v":0},{"$f":"'OB1 - etapa K90 - harmonogram'!AA15","v":0},{"$f":"'OB1 - etapa K90 - harmonogram'!AB15","v":0},{"$f":"'OB1 - etapa K90 - harmonogram'!AC15","v":0},{"$f":"'OB1 - etapa K90 - harmonogram'!AD15","v":0},{"$f":"'OB1 - etapa K90 - harmonogram'!AE15","v":0},{"$f":"'OB1 - etapa K90 - harmonogram'!AF15","v":0},{"$f":"'OB1 - etapa K90 - harmonogram'!AG15","v":0},{"$f":"'OB1 - etapa K90 - harmonogram'!AH15","v":0},{"$f":"'OB1 - etapa K90 - harmonogram'!AI15","v":0},{"$f":"'OB1 - etapa K90 - harmonogram'!AJ15","v":0},{"$f":"'OB1 - etapa K90 - harmonogram'!AK15","v":0},{"$f":"'OB1 - etapa K90 - harmonogram'!AL15","v":0},{"$f":"'OB1 - etapa K90 - harmonogram'!AM15","v":0},{"$f":"'OB1 - etapa K90 - harmonogram'!AN15","v":0},{"$f":"'OB1 - etapa K90 - harmonogram'!AO15","v":0},{"$f":"'OB1 - etapa K90 - harmonogram'!AP15","v":0},{"$f":"'OB1 - etapa K90 - harmonogram'!AQ15","v":0},{"$f":"'OB1 - etapa K90 - harmonogram'!AR15","v":0},{"$f":"'OB1 - etapa K90 - harmonogram'!AS15","v":0},{"$f":"'OB1 - etapa K90 - harmonogram'!AT15","v":0},{"$f":"'OB1 - etapa K90 - harmonogram'!AU15","v":0},{"$f":"'OB1 - etapa K90 - harmonogram'!AV15","v":0},{"$f":"'OB1 - etapa K90 - harmonogram'!AW15","v":0},{"$f":"'OB1 - etapa K90 - harmonogram'!AX15","v":0},{"$f":"'OB1 - etapa K90 - harmonogram'!AY15","v":0},{"$f":"'OB1 - etapa K90 - harmonogram'!AZ15","v":0},{"$f":"'OB1 - etapa K90 - harmonogram'!BA15","v":0},{"$f":"'OB1 - etapa K90 - harmonogram'!BB15","v":0},{"$f":"'OB1 - etapa K90 - harmonogram'!BC15","v":0},{"$f":"'OB1 - etapa K90 - harmonogram'!BD15","v":0},{"$f":"'OB1 - etapa K90 - harmonogram'!BE15","v":0},{"$f":"'OB1 - etapa K90 - harmonogram'!BF15","v":0},{"$f":"'OB1 - etapa K90 - harmonogram'!BG15","v":0},{"$f":"'OB1 - etapa K90 - harmonogram'!BH15","v":0},{"$f":"'OB1 - etapa K90 - harmonogram'!BI15","v":0},{"$f":"'OB1 - etapa K90 - harmonogram'!BJ15","v":0},{"$f":"'OB1 - etapa K90 - harmonogram'!BK15","v":0},{"$f":"'OB1 - etapa K90 - harmonogram'!BL15","v":0}]
[null,"etapa K90 - garanční test A","K90",{"$f":"'OB1 - etapa K90 - harmonogram'!J17","v":0},{"$f":"'OB1 - etapa K90 - harmonogram'!K17","v":0},{"$f":"'OB1 - etapa K90 - harmonogram'!L17","v":0},{"$f":"'OB1 - etapa K90 - harmonogram'!M17","v":0},{"$f":"'OB1 - etapa K90 - harmonogram'!N17","v":0},{"$f":"'OB1 - etapa K90 - harmonogram'!O17","v":0},{"$f":"'OB1 - etapa K90 - harmonogram'!P17","v":0},{"$f":"'OB1 - etapa K90 - harmonogram'!Q17","v":0},{"$f":"'OB1 - etapa K90 - harmonogram'!R17","v":0},{"$f":"'OB1 - etapa K90 - harmonogram'!S17","v":0},{"$f":"'OB1 - etapa K90 - harmonogram'!T17","v":0},{"$f":"'OB1 - etapa K90 - harmonogram'!U17","v":0},{"$f":"'OB1 - etapa K90 - harmonogram'!V17","v":0},{"$f":"'OB1 - etapa K90 - harmonogram'!W17","v":0},{"$f":"'OB1 - etapa K90 - harmonogram'!X17","v":0},{"$f":"'OB1 - etapa K90 - harmonogram'!Y17","v":0},{"$f":"'OB1 - etapa K90 - harmonogram'!Z17","v":0},{"$f":"'OB1 - etapa K90 - harmonogram'!AA17","v":0},{"$f":"'OB1 - etapa K90 - harmonogram'!AB17","v":0},{"$f":"'OB1 - etapa K90 - harmonogram'!AC17","v":0},{"$f":"'OB1 - etapa K90 - harmonogram'!AD17","v":0},{"$f":"'OB1 - etapa K90 - harmonogram'!AE17","v":0},{"$f":"'OB1 - etapa K90 - harmonogram'!AF17","v":0},{"$f":"'OB1 - etapa K90 - harmonogram'!AG17","v":0},{"$f":"'OB1 - etapa K90 - harmonogram'!AH17","v":0},{"$f":"'OB1 - etapa K90 - harmonogram'!AI17","v":0},{"$f":"'OB1 - etapa K90 - harmonogram'!AJ17","v":0},{"$f":"'OB1 - etapa K90 - harmonogram'!AK17","v":0},{"$f":"'OB1 - etapa K90 - harmonogram'!AL17","v":0},{"$f":"'OB1 - etapa K90 - harmonogram'!AM17","v":0},{"$f":"'OB1 - etapa K90 - harmonogram'!AN17","v":0},{"$f":"'OB1 - etapa K90 - harmonogram'!AO17","v":0},{"$f":"'OB1 - etapa K90 - harmonogram'!AP17","v":0},{"$f":"'OB1 - etapa K90 - harmonogram'!AQ17","v":0},{"$f":"'OB1 - etapa K90 - harmonogram'!AR17","v":0},{"$f":"'OB1 - etapa K90 - harmonogram'!AS17","v":0},{"$f":"'OB1 - etapa K90 - harmonogram'!AT17","v":0},{"$f":"'OB1 - etapa K90 - harmonogram'!AU17","v":0},{"$f":"'OB1 - etapa K90 - harmonogram'!AV17","v":0},{"$f":"'OB1 - etapa K90 - harmonogram'!AW17","v":0},{"$f":"'OB1 - etapa K90 - harmonogram'!AX17","v":0},{"$f":"'OB1 - etapa K90 - harmonogram'!AY17","v":0},{"$f":"'OB1 - etapa K90 - harmonogram'!AZ17","v":0},{"$f":"'OB1 - etapa K90 - harmonogram'!BA17","v":0},{"$f":"'OB1 - etapa K90 - harmonogram'!BB17","v":0},{"$f":"'OB1 - etapa K90 - harmonogram'!BC17","v":0},{"$f":"'OB1 - etapa K90 - harmonogram'!BD17","v":0},{"$f":"'OB1 - etapa K90 - harmonogram'!BE17","v":0},{"$f":"'OB1 - etapa K90 - harmonogram'!BF17","v":0},{"$f":"'OB1 - etapa K90 - harmonogram'!BG17","v":0},{"$f":"'OB1 - etapa K90 - harmonogram'!BH17","v":0},{"$f":"'OB1 - etapa K90 - harmonogram'!BI17","v":0},{"$f":"'OB1 - etapa K90 - harmonogram'!BJ17","v":0},{"$f":"'OB1 - etapa K90 - harmonogram'!BK17","v":0},{"$f":"'OB1 - etapa K90 - harmonogram'!BL17","v":0}]
[null,"etapa K90 - předběžné převzetí díla PAC","K90",{"$f":"'OB1 - etapa K90 - harmonogram'!J19","v":0},{"$f":"'OB1 - etapa K90 - harmonogram'!K19","v":0},{"$f":"'OB1 - etapa K90 - harmonogram'!L19","v":0},{"$f":"'OB1 - etapa K90 - harmonogram'!M19","v":0},{"$f":"'OB1 - etapa K90 - harmonogram'!N19","v":0},{"$f":"'OB1 - etapa K90 - harmonogram'!O19","v":0},{"$f":"'OB1 - etapa K90 - harmonogram'!P19","v":0},{"$f":"'OB1 - etapa K90 - harmonogram'!Q19","v":0},{"$f":"'OB1 - etapa K90 - harmonogram'!R19","v":0},{"$f":"'OB1 - etapa K90 - harmonogram'!S19","v":0},{"$f":"'OB1 - etapa K90 - harmonogram'!T19","v":0},{"$f":"'OB1 - etapa K90 - harmonogram'!U19","v":0},{"$f":"'OB1 - etapa K90 - harmonogram'!V19","v":0},{"$f":"'OB1 - etapa K90 - harmonogram'!W19","v":0},{"$f":"'OB1 - etapa K90 - harmonogram'!X19","v":0},{"$f":"'OB1 - etapa K90 - harmonogram'!Y19","v":0},{"$f":"'OB1 - etapa K90 - harmonogram'!Z19","v":0},{"$f":"'OB1 - etapa K90 - harmonogram'!AA19","v":0},{"$f":"'OB1 - etapa K90 - harmonogram'!AB19","v":0},{"$f":"'OB1 - etapa K90 - harmonogram'!AC19","v":0},{"$f":"'OB1 - etapa K90 - harmonogram'!AD19","v":0},{"$f":"'OB1 - etapa K90 - harmonogram'!AE19","v":0},{"$f":"'OB1 - etapa K90 - harmonogram'!AF19","v":0},{"$f":"'OB1 - etapa K90 - harmonogram'!AG19","v":0},{"$f":"'OB1 - etapa K90 - harmonogram'!AH19","v":0},{"$f":"'OB1 - etapa K90 - harmonogram'!AI19","v":0},{"$f":"'OB1 - etapa K90 - harmonogram'!AJ19","v":0},{"$f":"'OB1 - etapa K90 - harmonogram'!AK19","v":0},{"$f":"'OB1 - etapa K90 - harmonogram'!AL19","v":0},{"$f":"'OB1 - etapa K90 - harmonogram'!AM19","v":0},{"$f":"'OB1 - etapa K90 - harmonogram'!AN19","v":0},{"$f":"'OB1 - etapa K90 - harmonogram'!AO19","v":0},{"$f":"'OB1 - etapa K90 - harmonogram'!AP19","v":0},{"$f":"'OB1 - etapa K90 - harmonogram'!AQ19","v":0},{"$f":"'OB1 - etapa K90 - harmonogram'!AR19","v":0},{"$f":"'OB1 - etapa K90 - harmonogram'!AS19","v":0},{"$f":"'OB1 - etapa K90 - harmonogram'!AT19","v":0},{"$f":"'OB1 - etapa K90 - harmonogram'!AU19","v":0},{"$f":"'OB1 - etapa K90 - harmonogram'!AV19","v":0},{"$f":"'OB1 - etapa K90 - harmonogram'!AW19","v":0},{"$f":"'OB1 - etapa K90 - harmonogram'!AX19","v":0},{"$f":"'OB1 - etapa K90 - harmonogram'!AY19","v":0},{"$f":"'OB1 - etapa K90 - harmonogram'!AZ19","v":0},{"$f":"'OB1 - etapa K90 - harmonogram'!BA19","v":0},{"$f":"'OB1 - etapa K90 - harmonogram'!BB19","v":0},{"$f":"'OB1 - etapa K90 - harmonogram'!BC19","v":0},{"$f":"'OB1 - etapa K90 - harmonogram'!BD19","v":0},{"$f":"'OB1 - etapa K90 - harmonogram'!BE19","v":0},{"$f":"'OB1 - etapa K90 - harmonogram'!BF19","v":0},{"$f":"'OB1 - etapa K90 - harmonogram'!BG19","v":0},{"$f":"'OB1 - etapa K90 - harmonogram'!BH19","v":0},{"$f":"'OB1 - etapa K90 - harmonogram'!BI19","v":0},{"$f":"'OB1 - etapa K90 - harmonogram'!BJ19","v":0},{"$f":"'OB1 - etapa K90 - harmonogram'!BK19","v":0},{"$f":"'OB1 - etapa K90 - harmonogram'!BL19","v":0}]
[null,"etapa K90 - finální převzetí díla FAC","K90",{"$f":"'OB1 - etapa K90 - harmonogram'!J21","v":0},{"$f":"'OB1 - etapa K90 - harmonogram'!K21","v":0},{"$f":"'OB1 - etapa K90 - harmonogram'!L21","v":0},{"$f":"'OB1 - etapa K90 - harmonogram'!M21","v":0},{"$f":"'OB1 - etapa K90 - harmonogram'!N21","v":0},{"$f":"'OB1 - etapa K90 - harmonogram'!O21","v":0},{"$f":"'OB1 - etapa K90 - harmonogram'!P21","v":0},{"$f":"'OB1 - etapa K90 - harmonogram'!Q21","v":0},{"$f":"'OB1 - etapa K90 - harmonogram'!R21","v":0},{"$f":"'OB1 - etapa K90 - harmonogram'!S21","v":0},{"$f":"'OB1 - etapa K90 - harmonogram'!T21","v":0},{"$f":"'OB1 - etapa K90 - harmonogram'!U21","v":0},{"$f":"'OB1 - etapa K90 - harmonogram'!V21","v":0},{"$f":"'OB1 - etapa K90 - harmonogram'!W21","v":0},{"$f":"'OB1 - etapa K90 - harmonogram'!X21","v":0},{"$f":"'OB1 - etapa K90 - harmonogram'!Y21","v":0},{"$f":"'OB1 - etapa K90 - harmonogram'!Z21","v":0},{"$f":"'OB1 - etapa K90 - harmonogram'!AA21","v":0},{"$f":"'OB1 - etapa K90 - harmonogram'!AB21","v":0},{"$f":"'OB1 - etapa K90 - harmonogram'!AC21","v":0},{"$f":"'OB1 - etapa K90 - harmonogram'!AD21","v":0},{"$f":"'OB1 - etapa K90 - harmonogram'!AE21","v":0},{"$f":"'OB1 - etapa K90 - harmonogram'!AF21","v":0},{"$f":"'OB1 - etapa K90 - harmonogram'!AG21","v":0},{"$f":"'OB1 - etapa K90 - harmonogram'!AH21","v":0},{"$f":"'OB1 - etapa K90 - harmonogram'!AI21","v":0},{"$f":"'OB1 - etapa K90 - harmonogram'!AJ21","v":0},{"$f":"'OB1 - etapa K90 - harmonogram'!AK21","v":0},{"$f":"'OB1 - etapa K90 - harmonogram'!AL21","v":0},{"$f":"'OB1 - etapa K90 - harmonogram'!AM21","v":0},{"$f":"'OB1 - etapa K90 - harmonogram'!AN21","v":0},{"$f":"'OB1 - etapa K90 - harmonogram'!AO21","v":0},{"$f":"'OB1 - etapa K90 - harmonogram'!AP21","v":0},{"$f":"'OB1 - etapa K90 - harmonogram'!AQ21","v":0},{"$f":"'OB1 - etapa K90 - harmonogram'!AR21","v":0},{"$f":"'OB1 - etapa K90 - harmonogram'!AS21","v":0},{"$f":"'OB1 - etapa K90 - harmonogram'!AT21","v":0},{"$f":"'OB1 - etapa K90 - harmonogram'!AU21","v":0},{"$f":"'OB1 - etapa K90 - harmonogram'!AV21","v":0},{"$f":"'OB1 - etapa K90 - harmonogram'!AW21","v":0},{"$f":"'OB1 - etapa K90 - harmonogram'!AX21","v":0},{"$f":"'OB1 - etapa K90 - harmonogram'!AY21","v":0},{"$f":"'OB1 - etapa K90 - harmonogram'!AZ21","v":0},{"$f":"'OB1 - etapa K90 - harmonogram'!BA21","v":0},{"$f":"'OB1 - etapa K90 - harmonogram'!BB21","v":0},{"$f":"'OB1 - etapa K90 - harmonogram'!BC21","v":0},{"$f":"'OB1 - etapa K90 - harmonogram'!BD21","v":0},{"$f":"'OB1 - etapa K90 - harmonogram'!BE21","v":0},{"$f":"'OB1 - etapa K90 - harmonogram'!BF21","v":0},{"$f":"'OB1 - etapa K90 - harmonogram'!BG21","v":0},{"$f":"'OB1 - etapa K90 - harmonogram'!BH21","v":0},{"$f":"'OB1 - etapa K90 - harmonogram'!BI21","v":0},{"$f":"'OB1 - etapa K90 - harmonogram'!BJ21","v":0},{"$f":"'OB1 - etapa K90 - harmonogram'!BK21","v":0},{"$f":"'OB1 - etapa K90 - harmonogram'!BL21","v":0}]
[null,"Závazné technické parametry pro OB 1 (Palivové hospodářství) "]
[null,"Poznámka"]
[null,"Zhotovitel na tomto listu nevyplňuje žádné hodnoty. Hodnoty jsou přenášeny z předcházejících listů."]
[null,"Předání a převzetí staveniště pro K20"]
[null,"neobsazeno"]
[null,"etapa K20 - vlastní kotel včetně všech komponentů"]
[null,"etapa K20 - provozní zásobníky paliva včetně dopravy štěpky do kotle"]
[null,"etapa K20 - ventilátory (vzduchové, spalinové, recirkulační) včetně vnitřních spalinovodů"]
[null,"etapa K20 - tkaninový filtr"]
[null,"etapa K20 - technologie DSI"]
[null,"etapa K20 - popelové hospodářství"]
[null,"etapa K20 - elektroinstalace"]
[null,"etapa K20 - ASŘ"]
[null,"etapa K20 - kompresorová stanice"]
[null,"etapa K20 - připojení médií"]
[null,"etapa K20 - venkovní rozvody spalinovodů včetně napojení na komín"]
[null,"etapa K20 - venkovní konstrukce potrubního mostu (připojení popelového hospodářství a SNCR)"]
[null,"etapa K20 - opláštění a zastřešení, dokončení všech stavebních činností"]
[null,"etapa K20 - další výše nevyjmenované položky"]
[null,"etapa K20 - dokončení stavebních prací"]
[null,"etapa K20 - ukončení montážních prací"]
[null,"etapa K20 - školení zaměstnanců provozu"]
[null,"etapa K20 - příprava ke kompexnímu vyzkoušení"]
[null,"etapa K20 - komplexní vyzkoušení"]
[null,"etapa K20 - zkušební provoz"]
[null,"etapa K20 - garanční test A"]
[null,"etapa K20 - předběžné převzetí díla PAC"]
[null,"etapa K20 - garanční test B"]
[null,"etapa K20 - finální převzetí díla FAC"]

{"sheet":"finanční plnění - harmonogram","index":8,"n_rows":75,"n_cols":59,"rows_kept":75,"cut":false,"hidden":true,"merged":[[3,4,3,58],[3,0,4,0],[3,1,4,1],[3,2,4,2],[3,3,4,3],[40,4,40,58],[40,1,40,3],[39,1,39,3],[10,0,11,0],[12,0,13,0],[14,0,15,0],[16,0,17,0],[31,0,32,0],[24,0,25,0]]}
[]
[null,"Příloha K zadávací dokumentace - cenová nabídka a časový harmonogram"]
[]
["Technologické a stavební celky","Milníky","Etapa"," Cena bez DPH","Období"]
[null,null,null,null,"2024-06-01","2024-07-02","2024-08-02","2024-09-02","2024-10-03","2024-11-03","2024-12-04","2025-01-04","2025-02-04","2025-03-07","2025-04-07","2025-05-08","2025-06-08","2025-07-09","2025-08-09","2025-09-09","2025-10-10","2025-11-10","2025-12-11","2026-01-11","2026-02-11","2026-03-14","2026-04-14","2026-05-15","2026-06-15","2026-07-16","2026-08-16","2026-09-16","2026-10-17","2026-11-17","2026-12-18","2027-01-18","2027-02-18","2027-03-21","2027-04-21","2027-05-22","2027-06-22","2027-07-23","2027-08-23","2027-09-23","2027-10-24","2027-11-24","2027-12-25","2028-01-25","2028-02-25","2028-03-27","2028-04-27","2028-05-28","2028-06-28","2028-07-29","2028-08-29","2028-09-29","2028-10-30","2028-11-30","2028-12-31"]
[null,1,1,null,1,2,3,4,5,6,7,8,9,10,11,12,13,14,15,16,17,18,19,20,21,22,23,24,25,26,27,28,29,30,31,32,33,34,35,36,37,38,39,40,41,42,43,44,45,46,47,48,49,50,51,52,53,54,55]
[null,"etapa K20 - závazné technické parametry pro OB 6 (Stavba) ","K20","EUR",{"$f":"'OB1 - etapa K20 - harmonogram'!J11","v":0},{"$f":"'OB1 - etapa K20 - harmonogram'!K11","v":0},{"$f":"'OB1 - etapa K20 - harmonogram'!L11","v":0},{"$f":"'OB1 - etapa K20 - harmonogram'!M11","v":0},{"$f":"'OB1 - etapa K20 - harmonogram'!N11","v":0},{"$f":"'OB1 - etapa K20 - harmonogram'!O11","v":0},{"$f":"'OB1 - etapa K20 - harmonogram'!P11","v":0},{"$f":"'OB1 - etapa K20 - harmonogram'!Q11","v":0},{"$f":"'OB1 - etapa K20 - harmonogram'!R11","v":0},{"$f":"'OB1 - etapa K20 - harmonogram'!S11","v":0},{"$f":"'OB1 - etapa K20 - harmonogram'!T11","v":0},{"$f":"'OB1 - etapa K20 - harmonogram'!U11","v":0},{"$f":"'OB1 - etapa K20 - harmonogram'!V11","v":0},{"$f":"'OB1 - etapa K20 - harmonogram'!W11","v":0},{"$f":"'OB1 - etapa K20 - harmonogram'!X11","v":0},{"$f":"'OB1 - etapa K20 - harmonogram'!Y11","v":0},{"$f":"'OB1 - etapa K20 - harmonogram'!Z11","v":0},{"$f":"'OB1 - etapa K20 - harmonogram'!AA11","v":0},{"$f":"'OB1 - etapa K20 - harmonogram'!AB11","v":0},{"$f":"'OB1 - etapa K20 - harmonogram'!AC11","v":0},{"$f":"'OB1 - etapa K20 - harmonogram'!AD11","v":0},{"$f":"'OB1 - etapa K20 - harmonogram'!AE11","v":0},{"$f":"'OB1 - etapa K20 - harmonogram'!AF11","v":0},{"$f":"'OB1 - etapa K20 - harmonogram'!AG11","v":0},{"$f":"'OB1 - etapa K20 - harmonogram'!AH11","v":0},{"$f":"'OB1 - etapa K20 - harmonogram'!AI11","v":0},{"$f":"'OB1 - etapa K20 - harmonogram'!AJ11","v":0},{"$f":"'OB1 - etapa K20 - harmonogram'!AK11","v":0},{"$f":"'OB1 - etapa K20 - harmonogram'!AL11","v":0},{"$f":"'OB1 - etapa K20 - harmonogram'!AM11","v":0},{"$f":"'OB1 - etapa K20 - harmonogram'!AN11","v":0},{"$f":"'OB1 - etapa K20 - harmonogram'!AO11","v":0},{"$f":"'OB1 - etapa K20 - harmonogram'!AP11","v":0},{"$f":"'OB1 - etapa K20 - harmonogram'!AQ11","v":0},{"$f":"'OB1 - etapa K20 - harmonogram'!AR11","v":0},{"$f":"'OB1 - etapa K20 - harmonogram'!AS11","v":0},{"$f":"'OB1 - etapa K20 - harmonogram'!AT11","v":0},{"$f":"'OB1 - etapa K20 - harmonogram'!AU11","v":0},{"$f":"'OB1 - etapa K20 - harmonogram'!AV11","v":0},{"$f":"'OB1 - etapa K20 - harmonogram'!AW11","v":0},{"$f":"'OB1 - etapa K20 - harmonogram'!AX11","v":0},{"$f":"'OB1 - etapa K20 - harmonogram'!AY11","v":0},{"$f":"'OB1 - etapa K20 - harmonogram'!AZ11","v":0},{"$f":"'OB1 - etapa K20 - harmonogram'!BA11","v":0},{"$f":"'OB1 - etapa K20 - harmonogram'!BB11","v":0},{"$f":"'OB1 - etapa K20 - harmonogram'!BC11","v":0},{"$f":"'OB1 - etapa K20 - harmonogram'!BD11","v":0},{"$f":"'OB1 - etapa K20 - harmonogram'!BE11","v":0},{"$f":"'OB1 - etapa K20 - harmonogram'!BF11","v":0},{"$f":"'OB1 - etapa K20 - harmonogram'!BG11","v":0},{"$f":"'OB1 - etapa K20 - harmonogram'!BH11","v":0},{"$f":"'OB1 - etapa K20 - harmonogram'!BI11","v":0},{"$f":"'OB1 - etapa K20 - harmonogram'!BJ11","v":0},{"$f":"'OB1 - etapa K20 - harmonogram'!BK11","v":0},{"$f":"'OB1 - etapa K20 - harmonogram'!BL11","v":0}]
[null,"etapa K20 - závazné technické parametry pro OB 2 (Kotle) ","K20","EUR",{"$f":"'OB1 - etapa K20 - harmonogram'!J13","v":0},{"$f":"'OB1 - etapa K20 - harmonogram'!K13","v":0},{"$f":"'OB1 - etapa K20 - harmonogram'!L13","v":0},{"$f":"'OB1 - etapa K20 - harmonogram'!M13","v":0},{"$f":"'OB1 - etapa K20 - harmonogram'!N13","v":0},{"$f":"'OB1 - etapa K20 - harmonogram'!O13","v":0},{"$f":"'OB1 - etapa K20 - harmonogram'!P13","v":0},{"$f":"'OB1 - etapa K20 - harmonogram'!Q13","v":0},{"$f":"'OB1 - etapa K20 - harmonogram'!R13","v":0},{"$f":"'OB1 - etapa K20 - harmonogram'!S13","v":0},{"$f":"'OB1 - etapa K20 - harmonogram'!T13","v":0},{"$f":"'OB1 - etapa K20 - harmonogram'!U13","v":0},{"$f":"'OB1 - etapa K20 - harmonogram'!V13","v":0},{"$f":"'OB1 - etapa K20 - harmonogram'!W13","v":0},{"$f":"'OB1 - etapa K20 - harmonogram'!X13","v":0},{"$f":"'OB1 - etapa K20 - harmonogram'!Y13","v":0},{"$f":"'OB1 - etapa K20 - harmonogram'!Z13","v":0},{"$f":"'OB1 - etapa K20 - harmonogram'!AA13","v":0},{"$f":"'OB1 - etapa K20 - harmonogram'!AB13","v":0},{"$f":"'OB1 - etapa K20 - harmonogram'!AC13","v":0},{"$f":"'OB1 - etapa K20 - harmonogram'!AD13","v":0},{"$f":"'OB1 - etapa K20 - harmonogram'!AE13","v":0},{"$f":"'OB1 - etapa K20 - harmonogram'!AF13","v":0},{"$f":"'OB1 - etapa K20 - harmonogram'!AG13","v":0},{"$f":"'OB1 - etapa K20 - harmonogram'!AH13","v":0},{"$f":"'OB1 - etapa K20 - harmonogram'!AI13","v":0},{"$f":"'OB1 - etapa K20 - harmonogram'!AJ13","v":0},{"$f":"'OB1 - etapa K20 - harmonogram'!AK13","v":0},{"$f":"'OB1 - etapa K20 - harmonogram'!AL13","v":0},{"$f":"'OB1 - etapa K20 - harmonogram'!AM13","v":0},{"$f":"'OB1 - etapa K20 - harmonogram'!AN13","v":0},{"$f":"'OB1 - etapa K20 - harmonogram'!AO13","v":0},{"$f":"'OB1 - etapa K20 - harmonogram'!AP13","v":0},{"$f":"'OB1 - etapa K20 - harmonogram'!AQ13","v":0},{"$f":"'OB1 - etapa K20 - harmonogram'!AR13","v":0},{"$f":"'OB1 - etapa K20 - harmonogram'!AS13","v":0},{"$f":"'OB1 - etapa K20 - harmonogram'!AT13","v":0},{"$f":"'OB1 - etapa K20 - harmonogram'!AU13","v":0},{"$f":"'OB1 - etapa K20 - harmonogram'!AV13","v":0},{"$f":"'OB1 - etapa K20 - harmonogram'!AW13","v":0},{"$f":"'OB1 - etapa K20 - harmonogram'!AX13","v":0},{"$f":"'OB1 - etapa K20 - harmonogram'!AY13","v":0},{"$f":"'OB1 - etapa K20 - harmonogram'!AZ13","v":0},{"$f":"'OB1 - etapa K20 - harmonogram'!BA13","v":0},{"$f":"'OB1 - etapa K20 - harmonogram'!BB13","v":0},{"$f":"'OB1 - etapa K20 - harmonogram'!BC13","v":0},{"$f":"'OB1 - etapa K20 - harmonogram'!BD13","v":0},{"$f":"'OB1 - etapa K20 - harmonogram'!BE13","v":0},{"$f":"'OB1 - etapa K20 - harmonogram'!BF13","v":0},{"$f":"'OB1 - etapa K20 - harmonogram'!BG13","v":0},{"$f":"'OB1 - etapa K20 - harmonogram'!BH13","v":0},{"$f":"'OB1 - etapa K20 - harmonogram'!BI13","v":0},{"$f":"'OB1 - etapa K20 - harmonogram'!BJ13","v":0},{"$f":"'OB1 - etapa K20 - harmonogram'!BK13","v":0},{"$f":"'OB1 - etapa K20 - harmonogram'!BL13","v":0}]
[null,"etapa K20 - závazné technické parametry pro ostatní OB, pro ostatní dodavatele technologických celků","K20","EUR",{"$f":"'OB1 - etapa K20 - harmonogram'!J15","v":0},{"$f":"'OB1 - etapa K20 - harmonogram'!K15","v":0},{"$f":"'OB1 - etapa K20 - harmonogram'!L15","v":0},{"$f":"'OB1 - etapa K20 - harmonogram'!M15","v":0},{"$f":"'OB1 - etapa K20 - harmonogram'!N15","v":0},{"$f":"'OB1 - etapa K20 - harmonogram'!O15","v":0},{"$f":"'OB1 - etapa K20 - harmonogram'!P15","v":0},{"$f":"'OB1 - etapa K20 - harmonogram'!Q15","v":0},{"$f":"'OB1 - etapa K20 - harmonogram'!R15","v":0},{"$f":"'OB1 - etapa K20 - harmonogram'!S15","v":0},{"$f":"'OB1 - etapa K20 - harmonogram'!T15","v":0},{"$f":"'OB1 - etapa K20 - harmonogram'!U15","v":0},{"$f":"'OB1 - etapa K20 - harmonogram'!V15","v":0},{"$f":"'OB1 - etapa K20 - harmonogram'!W15","v":0},{"$f":"'OB1 - etapa K20 - harmonogram'!X15","v":0},{"$f":"'OB1 - etapa K20 - harmonogram'!Y15","v":0},{"$f":"'OB1 - etapa K20 - harmonogram'!Z15","v":0},{"$f":"'OB1 - etapa K20 - harmonogram'!AA15","v":0},{"$f":"'OB1 - etapa K20 - harmonogram'!AB15","v":0},{"$f":"'OB1 - etapa K20 - harmonogram'!AC15","v":0},{"$f":"'OB1 - etapa K20 - harmonogram'!AD15","v":0},{"$f":"'OB1 - etapa K20 - harmonogram'!AE15","v":0},{"$f":"'OB1 - etapa K20 - harmonogram'!AF15","v":0},{"$f":"'OB1 - etapa K20 - harmonogram'!AG15","v":0},{"$f":"'OB1 - etapa K20 - harmonogram'!AH15","v":0},{"$f":"'OB1 - etapa K20 - harmonogram'!AI15","v":0},{"$f":"'OB1 - etapa K20 - harmonogram'!AJ15","v":0},{"$f":"'OB1 - etapa K20 - harmonogram'!AK15","v":0},{"$f":"'OB1 - etapa K20 - harmonogram'!AL15","v":0},{"$f":"'OB1 - etapa K20 - harmonogram'!AM15","v":0},{"$f":"'OB1 - etapa K20 - harmonogram'!AN15","v":0},{"$f":"'OB1 - etapa K20 - harmonogram'!AO15","v":0},{"$f":"'OB1 - etapa K20 - harmonogram'!AP15","v":0},{"$f":"'OB1 - etapa K20 - harmonogram'!AQ15","v":0},{"$f":"'OB1 - etapa K20 - harmonogram'!AR15","v":0},{"$f":"'OB1 - etapa K20 - harmonogram'!AS15","v":0},{"$f":"'OB1 - etapa K20 - harmonogram'!AT15","v":0},{"$f":"'OB1 - etapa K20 - harmonogram'!AU15","v":0},{"$f":"'OB1 - etapa K20 - harmonogram'!AV15","v":0},{"$f":"'OB1 - etapa K20 - harmonogram'!AW15","v":0},{"$f":"'OB1 - etapa K20 - harmonogram'!AX15","v":0},{"$f":"'OB1 - etapa K20 - harmonogram'!AY15","v":0},{"$f":"'OB1 - etapa K20 - harmonogram'!AZ15","v":0},{"$f":"'OB1 - etapa K20 - harmonogram'!BA15","v":0},{"$f":"'OB1 - etapa K20 - harmonogram'!BB15","v":0},{"$f":"'OB1 - etapa K20 - harmonogram'!BC15","v":0},{"$f":"'OB1 - etapa K20 - harmonogram'!BD15","v":0},{"$f":"'OB1 - etapa K20 - harmonogram'!BE15","v":0},{"$f":"'OB1 - etapa K20 - harmonogram'!BF15","v":0},{"$f":"'OB1 - etapa K20 - harmonogram'!BG15","v":0},{"$f":"'OB1 - etapa K20 - harmonogram'!BH15","v":0},{"$f":"'OB1 - etapa K20 - harmonogram'!BI15","v":0},{"$f":"'OB1 - etapa K20 - harmonogram'!BJ15","v":0},{"$f":"'OB1 - etapa K20 - harmonogram'!BK15","v":0},{"$f":"'OB1 - etapa K20 - harmonogram'!BL15","v":0}]
[null,"etapa K20 - odsouhlasená prováděcí dokumentace OB1","K20","EUR",{"$f":"'OB1 - etapa K20 - harmonogram'!J17","v":0},{"$f":"'OB1 - etapa K20 - harmonogram'!K17","v":0},{"$f":"'OB1 - etapa K20 - harmonogram'!L17","v":0},{"$f":"'OB1 - etapa K20 - harmonogram'!M17","v":0},{"$f":"'OB1 - etapa K20 - harmonogram'!N17","v":0},{"$f":"'OB1 - etapa K20 - harmonogram'!O17","v":0},{"$f":"'OB1 - etapa K20 - harmonogram'!P17","v":0},{"$f":"'OB1 - etapa K20 - harmonogram'!Q17","v":0},{"$f":"'OB1 - etapa K20 - harmonogram'!R17","v":0},{"$f":"'OB1 - etapa K20 - harmonogram'!S17","v":0},{"$f":"'OB1 - etapa K20 - harmonogram'!T17","v":0},{"$f":"'OB1 - etapa K20 - harmonogram'!U17","v":0},{"$f":"'OB1 - etapa K20 - harmonogram'!V17","v":0},{"$f":"'OB1 - etapa K20 - harmonogram'!W17","v":0},{"$f":"'OB1 - etapa K20 - harmonogram'!X17","v":0},{"$f":"'OB1 - etapa K20 - harmonogram'!Y17","v":0},{"$f":"'OB1 - etapa K20 - harmonogram'!Z17","v":0},{"$f":"'OB1 - etapa K20 - harmonogram'!AA17","v":0},{"$f":"'OB1 - etapa K20 - harmonogram'!AB17","v":0},{"$f":"'OB1 - etapa K20 - harmonogram'!AC17","v":0},{"$f":"'OB1 - etapa K20 - harmonogram'!AD17","v":0},{"$f":"'OB1 - etapa K20 - harmonogram'!AE17","v":0},{"$f":"'OB1 - etapa K20 - harmonogram'!AF17","v":0},{"$f":"'OB1 - etapa K20 - harmonogram'!AG17","v":0},{"$f":"'OB1 - etapa K20 - harmonogram'!AH17","v":0},{"$f":"'OB1 - etapa K20 - harmonogram'!AI17","v":0},{"$f":"'OB1 - etapa K20 - harmonogram'!AJ17","v":0},{"$f":"'OB1 - etapa K20 - harmonogram'!AK17","v":0},{"$f":"'OB1 - etapa K20 - harmonogram'!AL17","v":0},{"$f":"'OB1 - etapa K20 - harmonogram'!AM17","v":0},{"$f":"'OB1 - etapa K20 - harmonogram'!AN17","v":0},{"$f":"'OB1 - etapa K20 - harmonogram'!AO17","v":0},{"$f":"'OB1 - etapa K20 - harmonogram'!AP17","v":0},{"$f":"'OB1 - etapa K20 - harmonogram'!AQ17","v":0},{"$f":"'OB1 - etapa K20 - harmonogram'!AR17","v":0},{"$f":"'OB1 - etapa K20 - harmonogram'!AS17","v":0},{"$f":"'OB1 - etapa K20 - harmonogram'!AT17","v":0},{"$f":"'OB1 - etapa K20 - harmonogram'!AU17","v":0},{"$f":"'OB1 - etapa K20 - harmonogram'!AV17","v":0},{"$f":"'OB1 - etapa K20 - harmonogram'!AW17","v":0},{"$f":"'OB1 - etapa K20 - harmonogram'!AX17","v":0},{"$f":"'OB1 - etapa K20 - harmonogram'!AY17","v":0},{"$f":"'OB1 - etapa K20 - harmonogram'!AZ17","v":0},{"$f":"'OB1 - etapa K20 - harmonogram'!BA17","v":0},{"$f":"'OB1 - etapa K20 - harmonogram'!BB17","v":0},{"$f":"'OB1 - etapa K20 - harmonogram'!BC17","v":0},{"$f":"'OB1 - etapa K20 - harmonogram'!BD17","v":0},{"$f":"'OB1 - etapa K20 - harmonogram'!BE17","v":0},{"$f":"'OB1 - etapa K20 - harmonogram'!BF17","v":0},{"$f":"'OB1 - etapa K20 - harmonogram'!BG17","v":0},{"$f":"'OB1 - etapa K20 - harmonogram'!BH17","v":0},{"$f":"'OB1 - etapa K20 - harmonogram'!BI17","v":0},{"$f":"'OB1 - etapa K20 - harmonogram'!BJ17","v":0},{"$f":"'OB1 - etapa K20 - harmonogram'!BK17","v":0},{"$f":"'OB1 - etapa K20 - harmonogram'!BL17","v":0}]
["SO 101,SO 106 - Objekt třídírny a rozvodny","etapa K20 - Technologická část (PS 101, PS 102, PS 103, PS 104, PS 106, PS 107, PS 108)","K20","EUR",{"$f":"'OB1 - etapa K20 - harmonogram'!J20","v":0},{"$f":"'OB1 - etapa K20 - harmonogram'!K20","v":0},{"$f":"'OB1 - etapa K20 - harmonogram'!L20","v":0},{"$f":"'OB1 - etapa K20 - harmonogram'!M20","v":0},{"$f":"'OB1 - etapa K20 - harmonogram'!N20","v":0},{"$f":"'OB1 - etapa K20 - harmonogram'!O20","v":0},{"$f":"'OB1 - etapa K20 - harmonogram'!P20","v":0},{"$f":"'OB1 - etapa K20 - harmonogram'!Q20","v":0},{"$f":"'OB1 - etapa K20 - harmonogram'!R20","v":0},{"$f":"'OB1 - etapa K20 - harmonogram'!S20","v":0},{"$f":"'OB1 - etapa K20 - harmonogram'!T20","v":0},{"$f":"'OB1 - etapa K20 - harmonogram'!U20","v":0},{"$f":"'OB1 - etapa K20 - harmonogram'!V20","v":0},{"$f":"'OB1 - etapa K20 - harmonogram'!W20","v":0},{"$f":"'OB1 - etapa K20 - harmonogram'!X20","v":0},{"$f":"'OB1 - etapa K20 - harmonogram'!Y20","v":0},{"$f":"'OB1 - etapa K20 - harmonogram'!Z20","v":0},{"$f":"'OB1 - etapa K20 - harmonogram'!AA20","v":0},{"$f":"'OB1 - etapa K20 - harmonogram'!AB20","v":0},{"$f":"'OB1 - etapa K20 - harmonogram'!AC20","v":0},{"$f":"'OB1 - etapa K20 - harmonogram'!AD20","v":0},{"$f":"'OB1 - etapa K20 - harmonogram'!AE20","v":0},{"$f":"'OB1 - etapa K20 - harmonogram'!AF20","v":0},{"$f":"'OB1 - etapa K20 - harmonogram'!AG20","v":0},{"$f":"'OB1 - etapa K20 - harmonogram'!AH20","v":0},{"$f":"'OB1 - etapa K20 - harmonogram'!AI20","v":0},{"$f":"'OB1 - etapa K20 - harmonogram'!AJ20","v":0},{"$f":"'OB1 - etapa K20 - harmonogram'!AK20","v":0},{"$f":"'OB1 - etapa K20 - harmonogram'!AL20","v":0},{"$f":"'OB1 - etapa K20 - harmonogram'!AM20","v":0},{"$f":"'OB1 - etapa K20 - harmonogram'!AN20","v":0},{"$f":"'OB1 - etapa K20 - harmonogram'!AO20","v":0},{"$f":"'OB1 - etapa K20 - harmonogram'!AP20","v":0},{"$f":"'OB1 - etapa K20 - harmonogram'!AQ20","v":0},{"$f":"'OB1 - etapa K20 - harmonogram'!AR20","v":0},{"$f":"'OB1 - etapa K20 - harmonogram'!AS20","v":0},{"$f":"'OB1 - etapa K20 - harmonogram'!AT20","v":0},{"$f":"'OB1 - etapa K20 - harmonogram'!AU20","v":0},{"$f":"'OB1 - etapa K20 - harmonogram'!AV20","v":0},{"$f":"'OB1 - etapa K20 - harmonogram'!AW20","v":0},{"$f":"'OB1 - etapa K20 - harmonogram'!AX20","v":0},{"$f":"'OB1 - etapa K20 - harmonogram'!AY20","v":0},{"$f":"'OB1 - etapa K20 - harmonogram'!AZ20","v":0},{"$f":"'OB1 - etapa K20 - harmonogram'!BA20","v":0},{"$f":"'OB1 - etapa K20 - harmonogram'!BB20","v":0},{"$f":"'OB1 - etapa K20 - harmonogram'!BC20","v":0},{"$f":"'OB1 - etapa K20 - harmonogram'!BD20","v":0},{"$f":"'OB1 - etapa K20 - harmonogram'!BE20","v":0},{"$f":"'OB1 - etapa K20 - harmonogram'!BF20","v":0},{"$f":"'OB1 - etapa K20 - harmonogram'!BG20","v":0},{"$f":"'OB1 - etapa K20 - harmonogram'!BH20","v":0},{"$f":"'OB1 - etapa K20 - harmonogram'!BI20","v":0},{"$f":"'OB1 - etapa K20 - harmonogram'!BJ20","v":0},{"$f":"'OB1 - etapa K20 - harmonogram'!BK20","v":0},{"$f":"'OB1 - etapa K20 - harmonogram'!BL20","v":0}]
[null,"etapa K20 - Stavební část (A4.4)","K20","EUR",{"$f":"'OB1 - etapa K20 - harmonogram'!J22","v":0},{"$f":"'OB1 - etapa K20 - harmonogram'!K22","v":0},{"$f":"'OB1 - etapa K20 - harmonogram'!L22","v":0},{"$f":"'OB1 - etapa K20 - harmonogram'!M22","v":0},{"$f":"'OB1 - etapa K20 - harmonogram'!N22","v":0},{"$f":"'OB1 - etapa K20 - harmonogram'!O22","v":0},{"$f":"'OB1 - etapa K20 - harmonogram'!P22","v":0},{"$f":"'OB1 - etapa K20 - harmonogram'!Q22","v":0},{"$f":"'OB1 - etapa K20 - harmonogram'!R22","v":0},{"$f":"'OB1 - etapa K20 - harmonogram'!S22","v":0},{"$f":"'OB1 - etapa K20 - harmonogram'!T22","v":0},{"$f":"'OB1 - etapa K20 - harmonogram'!U22","v":0},{"$f":"'OB1 - etapa K20 - harmonogram'!V22","v":0},{"$f":"'OB1 - etapa K20 - harmonogram'!W22","v":0},{"$f":"'OB1 - etapa K20 - harmonogram'!X22","v":0},{"$f":"'OB1 - etapa K20 - harmonogram'!Y22","v":0},{"$f":"'OB1 - etapa K20 - harmonogram'!Z22","v":0},{"$f":"'OB1 - etapa K20 - harmonogram'!AA22","v":0},{"$f":"'OB1 - etapa K20 - harmonogram'!AB22","v":0},{"$f":"'OB1 - etapa K20 - harmonogram'!AC22","v":0},{"$f":"'OB1 - etapa K20 - harmonogram'!AD22","v":0},{"$f":"'OB1 - etapa K20 - harmonogram'!AE22","v":0},{"$f":"'OB1 - etapa K20 - harmonogram'!AF22","v":0},{"$f":"'OB1 - etapa K20 - harmonogram'!AG22","v":0},{"$f":"'OB1 - etapa K20 - harmonogram'!AH22","v":0},{"$f":"'OB1 - etapa K20 - harmonogram'!AI22","v":0},{"$f":"'OB1 - etapa K20 - harmonogram'!AJ22","v":0},{"$f":"'OB1 - etapa K20 - harmonogram'!AK22","v":0},{"$f":"'OB1 - etapa K20 - harmonogram'!AL22","v":0},{"$f":"'OB1 - etapa K20 - harmonogram'!AM22","v":0},{"$f":"'OB1 - etapa K20 - harmonogram'!AN22","v":0},{"$f":"'OB1 - etapa K20 - harmonogram'!AO22","v":0},{"$f":"'OB1 - etapa K20 - harmonogram'!AP22","v":0},{"$f":"'OB1 - etapa K20 - harmonogram'!AQ22","v":0},{"$f":"'OB1 - etapa K20 - harmonogram'!AR22","v":0},{"$f":"'OB1 - etapa K20 - harmonogram'!AS22","v":0},{"$f":"'OB1 - etapa K20 - harmonogram'!AT22","v":0},{"$f":"'OB1 - etapa K20 - harmonogram'!AU22","v":0},{"$f":"'OB1 - etapa K20 - harmonogram'!AV22","v":0},{"$f":"'OB1 - etapa K20 - harmonogram'!AW22","v":0},{"$f":"'OB1 - etapa K20 - harmonogram'!AX22","v":0},{"$f":"'OB1 - etapa K20 - harmonogram'!AY22","v":0},{"$f":"'OB1 - etapa K20 - harmonogram'!AZ22","v":0},{"$f":"'OB1 - etapa K20 - harmonogram'!BA22","v":0},{"$f":"'OB1 - etapa K20 - harmonogram'!BB22","v":0},{"$f":"'OB1 - etapa K20 - harmonogram'!BC22","v":0},{"$f":"'OB1 - etapa K20 - harmonogram'!BD22","v":0},{"$f":"'OB1 - etapa K20 - harmonogram'!BE22","v":0},{"$f":"'OB1 - etapa K20 - harmonogram'!BF22","v":0},{"$f":"'OB1 - etapa K20 - harmonogram'!BG22","v":0},{"$f":"'OB1 - etapa K20 - harmonogram'!BH22","v":0},{"$f":"'OB1 - etapa K20 - harmonogram'!BI22","v":0},{"$f":"'OB1 - etapa K20 - harmonogram'!BJ22","v":0},{"$f":"'OB1 - etapa K20 - harmonogram'!BK22","v":0},{"$f":"'OB1 - etapa K20 - harmonogram'!BL22","v":0}]
["SO 103 - Doprava dřevní štěpky","etapa K20 - Technologická část (PS 103, PS 104, PS 106, PS 107, PS 108)","K20","EUR",{"$f":"'OB1 - etapa K20 - harmonogram'!J24","v":0},{"$f":"'OB1 - etapa K20 - harmonogram'!K24","v":0},{"$f":"'OB1 - etapa K20 - harmonogram'!L24","v":0},{"$f":"'OB1 - etapa K20 - harmonogram'!M24","v":0},{"$f":"'OB1 - etapa K20 - harmonogram'!N24","v":0},{"$f":"'OB1 - etapa K20 - harmonogram'!O24","v":0},{"$f":"'OB1 - etapa K20 - harmonogram'!P24","v":0},{"$f":"'OB1 - etapa K20 - harmonogram'!Q24","v":0},{"$f":"'OB1 - etapa K20 - harmonogram'!R24","v":0},{"$f":"'OB1 - etapa K20 - harmonogram'!S24","v":0},{"$f":"'OB1 - etapa K20 - harmonogram'!T24","v":0},{"$f":"'OB1 - etapa K20 - harmonogram'!U24","v":0},{"$f":"'OB1 - etapa K20 - harmonogram'!V24","v":0},{"$f":"'OB1 - etapa K20 - harmonogram'!W24","v":0},{"$f":"'OB1 - etapa K20 - harmonogram'!X24","v":0},{"$f":"'OB1 - etapa K20 - harmonogram'!Y24","v":0},{"$f":"'OB1 - etapa K20 - harmonogram'!Z24","v":0},{"$f":"'OB1 - etapa K20 - harmonogram'!AA24","v":0},{"$f":"'OB1 - etapa K20 - harmonogram'!AB24","v":0},{"$f":"'OB1 - etapa K20 - harmonogram'!AC24","v":0},{"$f":"'OB1 - etapa K20 - harmonogram'!AD24","v":0},{"$f":"'OB1 - etapa K20 - harmonogram'!AE24","v":0},{"$f":"'OB1 - etapa K20 - harmonogram'!AF24","v":0},{"$f":"'OB1 - etapa K20 - harmonogram'!AG24","v":0},{"$f":"'OB1 - etapa K20 - harmonogram'!AH24","v":0},{"$f":"'OB1 - etapa K20 - harmonogram'!AI24","v":0},{"$f":"'OB1 - etapa K20 - harmonogram'!AJ24","v":0},{"$f":"'OB1 - etapa K20 - harmonogram'!AK24","v":0},{"$f":"'OB1 - etapa K20 - harmonogram'!AL24","v":0},{"$f":"'OB1 - etapa K20 - harmonogram'!AM24","v":0},{"$f":"'OB1 - etapa K20 - harmonogram'!AN24","v":0},{"$f":"'OB1 - etapa K20 - harmonogram'!AO24","v":0},{"$f":"'OB1 - etapa K20 - harmonogram'!AP24","v":0},{"$f":"'OB1 - etapa K20 - harmonogram'!AQ24","v":0},{"$f":"'OB1 - etapa K20 - harmonogram'!AR24","v":0},{"$f":"'OB1 - etapa K20 - harmonogram'!AS24","v":0},{"$f":"'OB1 - etapa K20 - harmonogram'!AT24","v":0},{"$f":"'OB1 - etapa K20 - harmonogram'!AU24","v":0},{"$f":"'OB1 - etapa K20 - harmonogram'!AV24","v":0},{"$f":"'OB1 - etapa K20 - harmonogram'!AW24","v":0},{"$f":"'OB1 - etapa K20 - harmonogram'!AX24","v":0},{"$f":"'OB1 - etapa K20 - harmonogram'!AY24","v":0},{"$f":"'OB1 - etapa K20 - harmonogram'!AZ24","v":0},{"$f":"'OB1 - etapa K20 - harmonogram'!BA24","v":0},{"$f":"'OB1 - etapa K20 - harmonogram'!BB24","v":0},{"$f":"'OB1 - etapa K20 - harmonogram'!BC24","v":0},{"$f":"'OB1 - etapa K20 - harmonogram'!BD24","v":0},{"$f":"'OB1 - etapa K20 - harmonogram'!BE24","v":0},{"$f":"'OB1 - etapa K20 - harmonogram'!BF24","v":0},{"$f":"'OB1 - etapa K20 - harmonogram'!BG24","v":0},{"$f":"'OB1 - etapa K20 - harmonogram'!BH24","v":0},{"$f":"'OB1 - etapa K20 - harmonogram'!BI24","v":0},{"$f":"'OB1 - etapa K20 - harmonogram'!BJ24","v":0},{"$f":"'OB1 - etapa K20 - harmonogram'!BK24","v":0},{"$f":"'OB1 - etapa K20 - harmonogram'!BL24","v":0}]
[null,"etapa K20 - Stavební část (A4.4)","K20","EUR",{"$f":"'OB1 - etapa K20 - harmonogram'!J26","v":0},{"$f":"'OB1 - etapa K20 - harmonogram'!K26","v":0},{"$f":"'OB1 - etapa K20 - harmonogram'!L26","v":0},{"$f":"'OB1 - etapa K20 - harmonogram'!M26","v":0},{"$f":"'OB1 - etapa K20 - harmonogram'!N26","v":0},{"$f":"'OB1 - etapa K20 - harmonogram'!O26","v":0},{"$f":"'OB1 - etapa K20 - harmonogram'!P26","v":0},{"$f":"'OB1 - etapa K20 - harmonogram'!Q26","v":0},{"$f":"'OB1 - etapa K20 - harmonogram'!R26","v":0},{"$f":"'OB1 - etapa K20 - harmonogram'!S26","v":0},{"$f":"'OB1 - etapa K20 - harmonogram'!T26","v":0},{"$f":"'OB1 - etapa K20 - harmonogram'!U26","v":0},{"$f":"'OB1 - etapa K20 - harmonogram'!V26","v":0},{"$f":"'OB1 - etapa K20 - harmonogram'!W26","v":0},{"$f":"'OB1 - etapa K20 - harmonogram'!X26","v":0},{"$f":"'OB1 - etapa K20 - harmonogram'!Y26","v":0},{"$f":"'OB1 - etapa K20 - harmonogram'!Z26","v":0},{"$f":"'OB1 - etapa K20 - harmonogram'!AA26","v":0},{"$f":"'OB1 - etapa K20 - harmonogram'!AB26","v":0},{"$f":"'OB1 - etapa K20 - harmonogram'!AC26","v":0},{"$f":"'OB1 - etapa K20 - harmonogram'!AD26","v":0},{"$f":"'OB1 - etapa K20 - harmonogram'!AE26","v":0},{"$f":"'OB1 - etapa K20 - harmonogram'!AF26","v":0},{"$f":"'OB1 - etapa K20 - harmonogram'!AG26","v":0},{"$f":"'OB1 - etapa K20 - harmonogram'!AH26","v":0},{"$f":"'OB1 - etapa K20 - harmonogram'!AI26","v":0},{"$f":"'OB1 - etapa K20 - harmonogram'!AJ26","v":0},{"$f":"'OB1 - etapa K20 - harmonogram'!AK26","v":0},{"$f":"'OB1 - etapa K20 - harmonogram'!AL26","v":0},{"$f":"'OB1 - etapa K20 - harmonogram'!AM26","v":0},{"$f":"'OB1 - etapa K20 - harmonogram'!AN26","v":0},{"$f":"'OB1 - etapa K20 - harmonogram'!AO26","v":0},{"$f":"'OB1 - etapa K20 - harmonogram'!AP26","v":0},{"$f":"'OB1 - etapa K20 - harmonogram'!AQ26","v":0},{"$f":"'OB1 - etapa K20 - harmonogram'!AR26","v":0},{"$f":"'OB1 - etapa K20 - harmonogram'!AS26","v":0},{"$f":"'OB1 - etapa K20 - harmonogram'!AT26","v":0},{"$f":"'OB1 - etapa K20 - harmonogram'!AU26","v":0},{"$f":"'OB1 - etapa K20 - harmonogram'!AV26","v":0},{"$f":"'OB1 - etapa K20 - harmonogram'!AW26","v":0},{"$f":"'OB1 - etapa K20 - harmonogram'!AX26","v":0},{"$f":"'OB1 - etapa K20 - harmonogram'!AY26","v":0},{"$f":"'OB1 - etapa K20 - harmonogram'!AZ26","v":0},{"$f":"'OB1 - etapa K20 - harmonogram'!BA26","v":0},{"$f":"'OB1 - etapa K20 - harmonogram'!BB26","v":0},{"$f":"'OB1 - etapa K20 - harmonogram'!BC26","v":0},{"$f":"'OB1 - etapa K20 - harmonogram'!BD26","v":0},{"$f":"'OB1 - etapa K20 - harmonogram'!BE26","v":0},{"$f":"'OB1 - etapa K20 - harmonogram'!BF26","v":0},{"$f":"'OB1 - etapa K20 - harmonogram'!BG26","v":0},{"$f":"'OB1 - etapa K20 - harmonogram'!BH26","v":0},{"$f":"'OB1 - etapa K20 - harmonogram'!BI26","v":0},{"$f":"'OB1 - etapa K20 - harmonogram'!BJ26","v":0},{"$f":"'OB1 - etapa K20 - harmonogram'!BK26","v":0},{"$f":"'OB1 - etapa K20 - harmonogram'!BL26","v":0}]
["SO 102 - Technologie skladu DŠ","etapa K20 - Technologická část (PS 105, PS 106, PS 107, PS 108)","K20","EUR",{"$f":"'OB1 - etapa K20 - harmonogram'!J28","v":0},{"$f":"'OB1 - etapa K20 - harmonogram'!K28","v":0},{"$f":"'OB1 - etapa K20 - harmonogram'!L28","v":0},{"$f":"'OB1 - etapa K20 - harmonogram'!M28","v":0},{"$f":"'OB1 - etapa K20 - harmonogram'!N28","v":0},{"$f":"'OB1 - etapa K20 - harmonogram'!O28","v":0},{"$f":"'OB1 - etapa K20 - harmonogram'!P28","v":0},{"$f":"'OB1 - etapa K20 - harmonogram'!Q28","v":0},{"$f":"'OB1 - etapa K20 - harmonogram'!R28","v":0},{"$f":"'OB1 - etapa K20 - harmonogram'!S28","v":0},{"$f":"'OB1 - etapa K20 - harmonogram'!T28","v":0},{"$f":"'OB1 - etapa K20 - harmonogram'!U28","v":0},{"$f":"'OB1 - etapa K20 - harmonogram'!V28","v":0},{"$f":"'OB1 - etapa K20 - harmonogram'!W28","v":0},{"$f":"'OB1 - etapa K20 - harmonogram'!X28","v":0},{"$f":"'OB1 - etapa K20 - harmonogram'!Y28","v":0},{"$f":"'OB1 - etapa K20 - harmonogram'!Z28","v":0},{"$f":"'OB1 - etapa K20 - harmonogram'!AA28","v":0},{"$f":"'OB1 - etapa K20 - harmonogram'!AB28","v":0},{"$f":"'OB1 - etapa K20 - harmonogram'!AC28","v":0},{"$f":"'OB1 - etapa K20 - harmonogram'!AD28","v":0},{"$f":"'OB1 - etapa K20 - harmonogram'!AE28","v":0},{"$f":"'OB1 - etapa K20 - harmonogram'!AF28","v":0},{"$f":"'OB1 - etapa K20 - harmonogram'!AG28","v":0},{"$f":"'OB1 - etapa K20 - harmonogram'!AH28","v":0},{"$f":"'OB1 - etapa K20 - harmonogram'!AI28","v":0},{"$f":"'OB1 - etapa K20 - harmonogram'!AJ28","v":0},{"$f":"'OB1 - etapa K20 - harmonogram'!AK28","v":0},{"$f":"'OB1 - etapa K20 - harmonogram'!AL28","v":0},{"$f":"'OB1 - etapa K20 - harmonogram'!AM28","v":0},{"$f":"'OB1 - etapa K20 - harmonogram'!AN28","v":0},{"$f":"'OB1 - etapa K20 - harmonogram'!AO28","v":0},{"$f":"'OB1 - etapa K20 - harmonogram'!AP28","v":0},{"$f":"'OB1 - etapa K20 - harmonogram'!AQ28","v":0},{"$f":"'OB1 - etapa K20 - harmonogram'!AR28","v":0},{"$f":"'OB1 - etapa K20 - harmonogram'!AS28","v":0},{"$f":"'OB1 - etapa K20 - harmonogram'!AT28","v":0},{"$f":"'OB1 - etapa K20 - harmonogram'!AU28","v":0},{"$f":"'OB1 - etapa K20 - harmonogram'!AV28","v":0},{"$f":"'OB1 - etapa K20 - harmonogram'!AW28","v":0},{"$f":"'OB1 - etapa K20 - harmonogram'!AX28","v":0},{"$f":"'OB1 - etapa K20 - harmonogram'!AY28","v":0},{"$f":"'OB1 - etapa K20 - harmonogram'!AZ28","v":0},{"$f":"'OB1 - etapa K20 - harmonogram'!BA28","v":0},{"$f":"'OB1 - etapa K20 - harmonogram'!BB28","v":0},{"$f":"'OB1 - etapa K20 - harmonogram'!BC28","v":0},{"$f":"'OB1 - etapa K20 - harmonogram'!BD28","v":0},{"$f":"'OB1 - etapa K20 - harmonogram'!BE28","v":0},{"$f":"'OB1 - etapa K20 - harmonogram'!BF28","v":0},{"$f":"'OB1 - etapa K20 - harmonogram'!BG28","v":0},{"$f":"'OB1 - etapa K20 - harmonogram'!BH28","v":0},{"$f":"'OB1 - etapa K20 - harmonogram'!BI28","v":0},{"$f":"'OB1 - etapa K20 - harmonogram'!BJ28","v":0},{"$f":"'OB1 - etapa K20 - harmonogram'!BK28","v":0},{"$f":"'OB1 - etapa K20 - harmonogram'!BL28","v":0}]
[null,"etapa K20 - Stavební část (A4.4)","K20","EUR",{"$f":"'OB1 - etapa K20 - harmonogram'!J30","v":0},{"$f":"'OB1 - etapa K20 - harmonogram'!K30","v":0},{"$f":"'OB1 - etapa K20 - harmonogram'!L30","v":0},{"$f":"'OB1 - etapa K20 - harmonogram'!M30","v":0},{"$f":"'OB1 - etapa K20 - harmonogram'!N30","v":0},{"$f":"'OB1 - etapa K20 - harmonogram'!O30","v":0},{"$f":"'OB1 - etapa K20 - harmonogram'!P30","v":0},{"$f":"'OB1 - etapa K20 - harmonogram'!Q30","v":0},{"$f":"'OB1 - etapa K20 - harmonogram'!R30","v":0},{"$f":"'OB1 - etapa K20 - harmonogram'!S30","v":0},{"$f":"'OB1 - etapa K20 - harmonogram'!T30","v":0},{"$f":"'OB1 - etapa K20 - harmonogram'!U30","v":0},{"$f":"'OB1 - etapa K20 - harmonogram'!V30","v":0},{"$f":"'OB1 - etapa K20 - harmonogram'!W30","v":0},{"$f":"'OB1 - etapa K20 - harmonogram'!X30","v":0},{"$f":"'OB1 - etapa K20 - harmonogram'!Y30","v":0},{"$f":"'OB1 - etapa K20 - harmonogram'!Z30","v":0},{"$f":"'OB1 - etapa K20 - harmonogram'!AA30","v":0},{"$f":"'OB1 - etapa K20 - harmonogram'!AB30","v":0},{"$f":"'OB1 - etapa K20 - harmonogram'!AC30","v":0},{"$f":"'OB1 - etapa K20 - harmonogram'!AD30","v":0},{"$f":"'OB1 - etapa K20 - harmonogram'!AE30","v":0},{"$f":"'OB1 - etapa K20 - harmonogram'!AF30","v":0},{"$f":"'OB1 - etapa K20 - harmonogram'!AG30","v":0},{"$f":"'OB1 - etapa K20 - harmonogram'!AH30","v":0},{"$f":"'OB1 - etapa K20 - harmonogram'!AI30","v":0},{"$f":"'OB1 - etapa K20 - harmonogram'!AJ30","v":0},{"$f":"'OB1 - etapa K20 - harmonogram'!AK30","v":0},{"$f":"'OB1 - etapa K20 - harmonogram'!AL30","v":0},{"$f":"'OB1 - etapa K20 - harmonogram'!AM30","v":0},{"$f":"'OB1 - etapa K20 - harmonogram'!AN30","v":0},{"$f":"'OB1 - etapa K20 - harmonogram'!AO30","v":0},{"$f":"'OB1 - etapa K20 - harmonogram'!AP30","v":0},{"$f":"'OB1 - etapa K20 - harmonogram'!AQ30","v":0},{"$f":"'OB1 - etapa K20 - harmonogram'!AR30","v":0},{"$f":"'OB1 - etapa K20 - harmonogram'!AS30","v":0},{"$f":"'OB1 - etapa K20 - harmonogram'!AT30","v":0},{"$f":"'OB1 - etapa K20 - harmonogram'!AU30","v":0},{"$f":"'OB1 - etapa K20 - harmonogram'!AV30","v":0},{"$f":"'OB1 - etapa K20 - harmonogram'!AW30","v":0},{"$f":"'OB1 - etapa K20 - harmonogram'!AX30","v":0},{"$f":"'OB1 - etapa K20 - harmonogram'!AY30","v":0},{"$f":"'OB1 - etapa K20 - harmonogram'!AZ30","v":0},{"$f":"'OB1 - etapa K20 - harmonogram'!BA30","v":0},{"$f":"'OB1 - etapa K20 - harmonogram'!BB30","v":0},{"$f":"'OB1 - etapa K20 - harmonogram'!BC30","v":0},{"$f":"'OB1 - etapa K20 - harmonogram'!BD30","v":0},{"$f":"'OB1 - etapa K20 - harmonogram'!BE30","v":0},{"$f":"'OB1 - etapa K20 - harmonogram'!BF30","v":0},{"$f":"'OB1 - etapa K20 - harmonogram'!BG30","v":0},{"$f":"'OB1 - etapa K20 - harmonogram'!BH30","v":0},{"$f":"'OB1 - etapa K20 - harmonogram'!BI30","v":0},{"$f":"'OB1 - etapa K20 - harmonogram'!BJ30","v":0},{"$f":"'OB1 - etapa K20 - harmonogram'!BK30","v":0},{"$f":"'OB1 - etapa K20 - harmonogram'!BL30","v":0}]
["SO 104 - Doprava dřevní štěpky do kotelny K20","etapa K20 - Technologická část (PS 104, PS 106, PS 107, PS 108)","K20","EUR",{"$f":"'OB1 - etapa K20 - harmonogram'!J32","v":0},{"$f":"'OB1 - etapa K20 - harmonogram'!K32","v":0},{"$f":"'OB1 - etapa K20 - harmonogram'!L32","v":0},{"$f":"'OB1 - etapa K20 - harmonogram'!M32","v":0},{"$f":"'OB1 - etapa K20 - harmonogram'!N32","v":0},{"$f":"'OB1 - etapa K20 - harmonogram'!O32","v":0},{"$f":"'OB1 - etapa K20 - harmonogram'!P32","v":0},{"$f":"'OB1 - etapa K20 - harmonogram'!Q32","v":0},{"$f":"'OB1 - etapa K20 - harmonogram'!R32","v":0},{"$f":"'OB1 - etapa K20 - harmonogram'!S32","v":0},{"$f":"'OB1 - etapa K20 - harmonogram'!T32","v":0},{"$f":"'OB1 - etapa K20 - harmonogram'!U32","v":0},{"$f":"'OB1 - etapa K20 - harmonogram'!V32","v":0},{"$f":"'OB1 - etapa K20 - harmonogram'!W32","v":0},{"$f":"'OB1 - etapa K20 - harmonogram'!X32","v":0},{"$f":"'OB1 - etapa K20 - harmonogram'!Y32","v":0},{"$f":"'OB1 - etapa K20 - harmonogram'!Z32","v":0},{"$f":"'OB1 - etapa K20 - harmonogram'!AA32","v":0},{"$f":"'OB1 - etapa K20 - harmonogram'!AB32","v":0},{"$f":"'OB1 - etapa K20 - harmonogram'!AC32","v":0},{"$f":"'OB1 - etapa K20 - harmonogram'!AD32","v":0},{"$f":"'OB1 - etapa K20 - harmonogram'!AE32","v":0},{"$f":"'OB1 - etapa K20 - harmonogram'!AF32","v":0},{"$f":"'OB1 - etapa K20 - harmonogram'!AG32","v":0},{"$f":"'OB1 - etapa K20 - harmonogram'!AH32","v":0},{"$f":"'OB1 - etapa K20 - harmonogram'!AI32","v":0},{"$f":"'OB1 - etapa K20 - harmonogram'!AJ32","v":0},{"$f":"'OB1 - etapa K20 - harmonogram'!AK32","v":0},{"$f":"'OB1 - etapa K20 - harmonogram'!AL32","v":0},{"$f":"'OB1 - etapa K20 - harmonogram'!AM32","v":0},{"$f":"'OB1 - etapa K20 - harmonogram'!AN32","v":0},{"$f":"'OB1 - etapa K20 - harmonogram'!AO32","v":0},{"$f":"'OB1 - etapa K20 - harmonogram'!AP32","v":0},{"$f":"'OB1 - etapa K20 - harmonogram'!AQ32","v":0},{"$f":"'OB1 - etapa K20 - harmonogram'!AR32","v":0},{"$f":"'OB1 - etapa K20 - harmonogram'!AS32","v":0},{"$f":"'OB1 - etapa K20 - harmonogram'!AT32","v":0},{"$f":"'OB1 - etapa K20 - harmonogram'!AU32","v":0},{"$f":"'OB1 - etapa K20 - harmonogram'!AV32","v":0},{"$f":"'OB1 - etapa K20 - harmonogram'!AW32","v":0},{"$f":"'OB1 - etapa K20 - harmonogram'!AX32","v":0},{"$f":"'OB1 - etapa K20 - harmonogram'!AY32","v":0},{"$f":"'OB1 - etapa K20 - harmonogram'!AZ32","v":0},{"$f":"'OB1 - etapa K20 - harmonogram'!BA32","v":0},{"$f":"'OB1 - etapa K20 - harmonogram'!BB32","v":0},{"$f":"'OB1 - etapa K20 - harmonogram'!BC32","v":0},{"$f":"'OB1 - etapa K20 - harmonogram'!BD32","v":0},{"$f":"'OB1 - etapa K20 - harmonogram'!BE32","v":0},{"$f":"'OB1 - etapa K20 - harmonogram'!BF32","v":0},{"$f":"'OB1 - etapa K20 - harmonogram'!BG32","v":0},{"$f":"'OB1 - etapa K20 - harmonogram'!BH32","v":0},{"$f":"'OB1 - etapa K20 - harmonogram'!BI32","v":0},{"$f":"'OB1 - etapa K20 - harmonogram'!BJ32","v":0},{"$f":"'OB1 - etapa K20 - harmonogram'!BK32","v":0},{"$f":"'OB1 - etapa K20 - harmonogram'!BL32","v":0}]
[null,"etapa K20 - Stavební část (A4.4)","K20","EUR",{"$f":"'OB1 - etapa K20 - harmonogram'!J34","v":0},{"$f":"'OB1 - etapa K20 - harmonogram'!K34","v":0},{"$f":"'OB1 - etapa K20 - harmonogram'!L34","v":0},{"$f":"'OB1 - etapa K20 - harmonogram'!M34","v":0},{"$f":"'OB1 - etapa K20 - harmonogram'!N34","v":0},{"$f":"'OB1 - etapa K20 - harmonogram'!O34","v":0},{"$f":"'OB1 - etapa K20 - harmonogram'!P34","v":0},{"$f":"'OB1 - etapa K20 - harmonogram'!Q34","v":0},{"$f":"'OB1 - etapa K20 - harmonogram'!R34","v":0},{"$f":"'OB1 - etapa K20 - harmonogram'!S34","v":0},{"$f":"'OB1 - etapa K20 - harmonogram'!T34","v":0},{"$f":"'OB1 - etapa K20 - harmonogram'!U34","v":0},{"$f":"'OB1 - etapa K20 - harmonogram'!V34","v":0},{"$f":"'OB1 - etapa K20 - harmonogram'!W34","v":0},{"$f":"'OB1 - etapa K20 - harmonogram'!X34","v":0},{"$f":"'OB1 - etapa K20 - harmonogram'!Y34","v":0},{"$f":"'OB1 - etapa K20 - harmonogram'!Z34","v":0},{"$f":"'OB1 - etapa K20 - harmonogram'!AA34","v":0},{"$f":"'OB1 - etapa K20 - harmonogram'!AB34","v":0},{"$f":"'OB1 - etapa K20 - harmonogram'!AC34","v":0},{"$f":"'OB1 - etapa K20 - harmonogram'!AD34","v":0},{"$f":"'OB1 - etapa K20 - harmonogram'!AE34","v":0},{"$f":"'OB1 - etapa K20 - harmonogram'!AF34","v":0},{"$f":"'OB1 - etapa K20 - harmonogram'!AG34","v":0},{"$f":"'OB1 - etapa K20 - harmonogram'!AH34","v":0},{"$f":"'OB1 - etapa K20 - harmonogram'!AI34","v":0},{"$f":"'OB1 - etapa K20 - harmonogram'!AJ34","v":0},{"$f":"'OB1 - etapa K20 - harmonogram'!AK34","v":0},{"$f":"'OB1 - etapa K20 - harmonogram'!AL34","v":0},{"$f":"'OB1 - etapa K20 - harmonogram'!AM34","v":0},{"$f":"'OB1 - etapa K20 - harmonogram'!AN34","v":0},{"$f":"'OB1 - etapa K20 - harmonogram'!AO34","v":0},{"$f":"'OB1 - etapa K20 - harmonogram'!AP34","v":0},{"$f":"'OB1 - etapa K20 - harmonogram'!AQ34","v":0},{"$f":"'OB1 - etapa K20 - harmonogram'!AR34","v":0},{"$f":"'OB1 - etapa K20 - harmonogram'!AS34","v":0},{"$f":"'OB1 - etapa K20 - harmonogram'!AT34","v":0},{"$f":"'OB1 - etapa K20 - harmonogram'!AU34","v":0},{"$f":"'OB1 - etapa K20 - harmonogram'!AV34","v":0},{"$f":"'OB1 - etapa K20 - harmonogram'!AW34","v":0},{"$f":"'OB1 - etapa K20 - harmonogram'!AX34","v":0},{"$f":"'OB1 - etapa K20 - harmonogram'!AY34","v":0},{"$f":"'OB1 - etapa K20 - harmonogram'!AZ34","v":0},{"$f":"'OB1 - etapa K20 - harmonogram'!BA34","v":0},{"$f":"'OB1 - etapa K20 - harmonogram'!BB34","v":0},{"$f":"'OB1 - etapa K20 - harmonogram'!BC34","v":0},{"$f":"'OB1 - etapa K20 - harmonogram'!BD34","v":0},{"$f":"'OB1 - etapa K20 - harmonogram'!BE34","v":0},{"$f":"'OB1 - etapa K20 - harmonogram'!BF34","v":0},{"$f":"'OB1 - etapa K20 - harmonogram'!BG34","v":0},{"$f":"'OB1 - etapa K20 - harmonogram'!BH34","v":0},{"$f":"'OB1 - etapa K20 - harmonogram'!BI34","v":0},{"$f":"'OB1 - etapa K20 - harmonogram'!BJ34","v":0},{"$f":"'OB1 - etapa K20 - harmonogram'!BK34","v":0},{"$f":"'OB1 - etapa K20 - harmonogram'!BL34","v":0}]
[null,"etapa K20 - školení zaměstnanců provozu","K20","EUR",{"$f":"'OB1 - etapa K20 - harmonogram'!J38","v":0},{"$f":"'OB1 - etapa K20 - harmonogram'!K38","v":0},{"$f":"'OB1 - etapa K20 - harmonogram'!L38","v":0},{"$f":"'OB1 - etapa K20 - harmonogram'!M38","v":0},{"$f":"'OB1 - etapa K20 - harmonogram'!N38","v":0},{"$f":"'OB1 - etapa K20 - harmonogram'!O38","v":0},{"$f":"'OB1 - etapa K20 - harmonogram'!P38","v":0},{"$f":"'OB1 - etapa K20 - harmonogram'!Q38","v":0},{"$f":"'OB1 - etapa K20 - harmonogram'!R38","v":0},{"$f":"'OB1 - etapa K20 - harmonogram'!S38","v":0},{"$f":"'OB1 - etapa K20 - harmonogram'!T38","v":0},{"$f":"'OB1 - etapa K20 - harmonogram'!U38","v":0},{"$f":"'OB1 - etapa K20 - harmonogram'!V38","v":0},{"$f":"'OB1 - etapa K20 - harmonogram'!W38","v":0},{"$f":"'OB1 - etapa K20 - harmonogram'!X38","v":0},{"$f":"'OB1 - etapa K20 - harmonogram'!Y38","v":0},{"$f":"'OB1 - etapa K20 - harmonogram'!Z38","v":0},{"$f":"'OB1 - etapa K20 - harmonogram'!AA38","v":0},{"$f":"'OB1 - etapa K20 - harmonogram'!AB38","v":0},{"$f":"'OB1 - etapa K20 - harmonogram'!AC38","v":0},{"$f":"'OB1 - etapa K20 - harmonogram'!AD38","v":0},{"$f":"'OB1 - etapa K20 - harmonogram'!AE38","v":0},{"$f":"'OB1 - etapa K20 - harmonogram'!AF38","v":0},{"$f":"'OB1 - etapa K20 - harmonogram'!AG38","v":0},{"$f":"'OB1 - etapa K20 - harmonogram'!AH38","v":0},{"$f":"'OB1 - etapa K20 - harmonogram'!AI38","v":0},{"$f":"'OB1 - etapa K20 - harmonogram'!AJ38","v":0},{"$f":"'OB1 - etapa K20 - harmonogram'!AK38","v":0},{"$f":"'OB1 - etapa K20 - harmonogram'!AL38","v":0},{"$f":"'OB1 - etapa K20 - harmonogram'!AM38","v":0},{"$f":"'OB1 - etapa K20 - harmonogram'!AN38","v":0},{"$f":"'OB1 - etapa K20 - harmonogram'!AO38","v":0},{"$f":"'OB1 - etapa K20 - harmonogram'!AP38","v":0},{"$f":"'OB1 - etapa K20 - harmonogram'!AQ38","v":0},{"$f":"'OB1 - etapa K20 - harmonogram'!AR38","v":0},{"$f":"'OB1 - etapa K20 - harmonogram'!AS38","v":0},{"$f":"'OB1 - etapa K20 - harmonogram'!AT38","v":0},{"$f":"'OB1 - etapa K20 - harmonogram'!AU38","v":0},{"$f":"'OB1 - etapa K20 - harmonogram'!AV38","v":0},{"$f":"'OB1 - etapa K20 - harmonogram'!AW38","v":0},{"$f":"'OB1 - etapa K20 - harmonogram'!AX38","v":0},{"$f":"'OB1 - etapa K20 - harmonogram'!AY38","v":0},{"$f":"'OB1 - etapa K20 - harmonogram'!AZ38","v":0},{"$f":"'OB1 - etapa K20 - harmonogram'!BA38","v":0},{"$f":"'OB1 - etapa K20 - harmonogram'!BB38","v":0},{"$f":"'OB1 - etapa K20 - harmonogram'!BC38","v":0},{"$f":"'OB1 - etapa K20 - harmonogram'!BD38","v":0},{"$f":"'OB1 - etapa K20 - harmonogram'!BE38","v":0},{"$f":"'OB1 - etapa K20 - harmonogram'!BF38","v":0},{"$f":"'OB1 - etapa K20 - harmonogram'!BG38","v":0},{"$f":"'OB1 - etapa K20 - harmonogram'!BH38","v":0},{"$f":"'OB1 - etapa K20 - harmonogram'!BI38","v":0},{"$f":"'OB1 - etapa K20 - harmonogram'!BJ38","v":0},{"$f":"'OB1 - etapa K20 - harmonogram'!BK38","v":0},{"$f":"'OB1 - etapa K20 - harmonogram'!BL38","v":0}]
[null,"etapa K20 - komplexní vyzkoušení","K20","EUR",{"$f":"'OB1 - etapa K20 - harmonogram'!J40","v":0},{"$f":"'OB1 - etapa K20 - harmonogram'!K40","v":0},{"$f":"'OB1 - etapa K20 - harmonogram'!L40","v":0},{"$f":"'OB1 - etapa K20 - harmonogram'!M40","v":0},{"$f":"'OB1 - etapa K20 - harmonogram'!N40","v":0},{"$f":"'OB1 - etapa K20 - harmonogram'!O40","v":0},{"$f":"'OB1 - etapa K20 - harmonogram'!P40","v":0},{"$f":"'OB1 - etapa K20 - harmonogram'!Q40","v":0},{"$f":"'OB1 - etapa K20 - harmonogram'!R40","v":0},{"$f":"'OB1 - etapa K20 - harmonogram'!S40","v":0},{"$f":"'OB1 - etapa K20 - harmonogram'!T40","v":0},{"$f":"'OB1 - etapa K20 - harmonogram'!U40","v":0},{"$f":"'OB1 - etapa K20 - harmonogram'!V40","v":0},{"$f":"'OB1 - etapa K20 - harmonogram'!W40","v":0},{"$f":"'OB1 - etapa K20 - harmonogram'!X40","v":0},{"$f":"'OB1 - etapa K20 - harmonogram'!Y40","v":0},{"$f":"'OB1 - etapa K20 - harmonogram'!Z40","v":0},{"$f":"'OB1 - etapa K20 - harmonogram'!AA40","v":0},{"$f":"'OB1 - etapa K20 - harmonogram'!AB40","v":0},{"$f":"'OB1 - etapa K20 - harmonogram'!AC40","v":0},{"$f":"'OB1 - etapa K20 - harmonogram'!AD40","v":0},{"$f":"'OB1 - etapa K20 - harmonogram'!AE40","v":0},{"$f":"'OB1 - etapa K20 - harmonogram'!AF40","v":0},{"$f":"'OB1 - etapa K20 - harmonogram'!AG40","v":0},{"$f":"'OB1 - etapa K20 - harmonogram'!AH40","v":0},{"$f":"'OB1 - etapa K20 - harmonogram'!AI40","v":0},{"$f":"'OB1 - etapa K20 - harmonogram'!AJ40","v":0},{"$f":"'OB1 - etapa K20 - harmonogram'!AK40","v":0},{"$f":"'OB1 - etapa K20 - harmonogram'!AL40","v":0},{"$f":"'OB1 - etapa K20 - harmonogram'!AM40","v":0},{"$f":"'OB1 - etapa K20 - harmonogram'!AN40","v":0},{"$f":"'OB1 - etapa K20 - harmonogram'!AO40","v":0},{"$f":"'OB1 - etapa K20 - harmonogram'!AP40","v":0},{"$f":"'OB1 - etapa K20 - harmonogram'!AQ40","v":0},{"$f":"'OB1 - etapa K20 - harmonogram'!AR40","v":0},{"$f":"'OB1 - etapa K20 - harmonogram'!AS40","v":0},{"$f":"'OB1 - etapa K20 - harmonogram'!AT40","v":0},{"$f":"'OB1 - etapa K20 - harmonogram'!AU40","v":0},{"$f":"'OB1 - etapa K20 - harmonogram'!AV40","v":0},{"$f":"'OB1 - etapa K20 - harmonogram'!AW40","v":0},{"$f":"'OB1 - etapa K20 - harmonogram'!AX40","v":0},{"$f":"'OB1 - etapa K20 - harmonogram'!AY40","v":0},{"$f":"'OB1 - etapa K20 - harmonogram'!AZ40","v":0},{"$f":"'OB1 - etapa K20 - harmonogram'!BA40","v":0},{"$f":"'OB1 - etapa K20 - harmonogram'!BB40","v":0},{"$f":"'OB1 - etapa K20 - harmonogram'!BC40","v":0},{"$f":"'OB1 - etapa K20 - harmonogram'!BD40","v":0},{"$f":"'OB1 - etapa K20 - harmonogram'!BE40","v":0},{"$f":"'OB1 - etapa K20 - harmonogram'!BF40","v":0},{"$f":"'OB1 - etapa K20 - harmonogram'!BG40","v":0},{"$f":"'OB1 - etapa K20 - harmonogram'!BH40","v":0},{"$f":"'OB1 - etapa K20 - harmonogram'!BI40","v":0},{"$f":"'OB1 - etapa K20 - harmonogram'!BJ40","v":0},{"$f":"'OB1 - etapa K20 - harmonogram'!BK40","v":0},{"$f":"'OB1 - etapa K20 - harmonogram'!BL40","v":0}]
[null,"etapa K20 - zkušební provoz","K20","EUR",{"$f":"'OB1 - etapa K20 - harmonogram'!J42","v":0},{"$f":"'OB1 - etapa K20 - harmonogram'!K42","v":0},{"$f":"'OB1 - etapa K20 - harmonogram'!L42","v":0},{"$f":"'OB1 - etapa K20 - harmonogram'!M42","v":0},{"$f":"'OB1 - etapa K20 - harmonogram'!N42","v":0},{"$f":"'OB1 - etapa K20 - harmonogram'!O42","v":0},{"$f":"'OB1 - etapa K20 - harmonogram'!P42","v":0},{"$f":"'OB1 - etapa K20 - harmonogram'!Q42","v":0},{"$f":"'OB1 - etapa K20 - harmonogram'!R42","v":0},{"$f":"'OB1 - etapa K20 - harmonogram'!S42","v":0},{"$f":"'OB1 - etapa K20 - harmonogram'!T42","v":0},{"$f":"'OB1 - etapa K20 - harmonogram'!U42","v":0},{"$f":"'OB1 - etapa K20 - harmonogram'!V42","v":0},{"$f":"'OB1 - etapa K20 - harmonogram'!W42","v":0},{"$f":"'OB1 - etapa K20 - harmonogram'!X42","v":0},{"$f":"'OB1 - etapa K20 - harmonogram'!Y42","v":0},{"$f":"'OB1 - etapa K20 - harmonogram'!Z42","v":0},{"$f":"'OB1 - etapa K20 - harmonogram'!AA42","v":0},{"$f":"'OB1 - etapa K20 - harmonogram'!AB42","v":0},{"$f":"'OB1 - etapa K20 - harmonogram'!AC42","v":0},{"$f":"'OB1 - etapa K20 - harmonogram'!AD42","v":0},{"$f":"'OB1 - etapa K20 - harmonogram'!AE42","v":0},{"$f":"'OB1 - etapa K20 - harmonogram'!AF42","v":0},{"$f":"'OB1 - etapa K20 - harmonogram'!AG42","v":0},{"$f":"'OB1 - etapa K20 - harmonogram'!AH42","v":0},{"$f":"'OB1 - etapa K20 - harmonogram'!AI42","v":0},{"$f":"'OB1 - etapa K20 - harmonogram'!AJ42","v":0},{"$f":"'OB1 - etapa K20 - harmonogram'!AK42","v":0},{"$f":"'OB1 - etapa K20 - harmonogram'!AL42","v":0},{"$f":"'OB1 - etapa K20 - harmonogram'!AM42","v":0},{"$f":"'OB1 - etapa K20 - harmonogram'!AN42","v":0},{"$f":"'OB1 - etapa K20 - harmonogram'!AO42","v":0},{"$f":"'OB1 - etapa K20 - harmonogram'!AP42","v":0},{"$f":"'OB1 - etapa K20 - harmonogram'!AQ42","v":0},{"$f":"'OB1 - etapa K20 - harmonogram'!AR42","v":0},{"$f":"'OB1 - etapa K20 - harmonogram'!AS42","v":0},{"$f":"'OB1 - etapa K20 - harmonogram'!AT42","v":0},{"$f":"'OB1 - etapa K20 - harmonogram'!AU42","v":0},{"$f":"'OB1 - etapa K20 - harmonogram'!AV42","v":0},{"$f":"'OB1 - etapa K20 - harmonogram'!AW42","v":0},{"$f":"'OB1 - etapa K20 - harmonogram'!AX42","v":0},{"$f":"'OB1 - etapa K20 - harmonogram'!AY42","v":0},{"$f":"'OB1 - etapa K20 - harmonogram'!AZ42","v":0},{"$f":"'OB1 - etapa K20 - harmonogram'!BA42","v":0},{"$f":"'OB1 - etapa K20 - harmonogram'!BB42","v":0},{"$f":"'OB1 - etapa K20 - harmonogram'!BC42","v":0},{"$f":"'OB1 - etapa K20 - harmonogram'!BD42","v":0},{"$f":"'OB1 - etapa K20 - harmonogram'!BE42","v":0},{"$f":"'OB1 - etapa K20 - harmonogram'!BF42","v":0},{"$f":"'OB1 - etapa K20 - harmonogram'!BG42","v":0},{"$f":"'OB1 - etapa K20 - harmonogram'!BH42","v":0},{"$f":"'OB1 - etapa K20 - harmonogram'!BI42","v":0},{"$f":"'OB1 - etapa K20 - harmonogram'!BJ42","v":0},{"$f":"'OB1 - etapa K20 - harmonogram'!BK42","v":0},{"$f":"'OB1 - etapa K20 - harmonogram'!BL42","v":0}]
[null,"etapa K20 - garanční test A","K20","EUR",{"$f":"'OB1 - etapa K20 - harmonogram'!J44","v":0},{"$f":"'OB1 - etapa K20 - harmonogram'!K44","v":0},{"$f":"'OB1 - etapa K20 - harmonogram'!L44","v":0},{"$f":"'OB1 - etapa K20 - harmonogram'!M44","v":0},{"$f":"'OB1 - etapa K20 - harmonogram'!N44","v":0},{"$f":"'OB1 - etapa K20 - harmonogram'!O44","v":0},{"$f":"'OB1 - etapa K20 - harmonogram'!P44","v":0},{"$f":"'OB1 - etapa K20 - harmonogram'!Q44","v":0},{"$f":"'OB1 - etapa K20 - harmonogram'!R44","v":0},{"$f":"'OB1 - etapa K20 - harmonogram'!S44","v":0},{"$f":"'OB1 - etapa K20 - harmonogram'!T44","v":0},{"$f":"'OB1 - etapa K20 - harmonogram'!U44","v":0},{"$f":"'OB1 - etapa K20 - harmonogram'!V44","v":0},{"$f":"'OB1 - etapa K20 - harmonogram'!W44","v":0},{"$f":"'OB1 - etapa K20 - harmonogram'!X44","v":0},{"$f":"'OB1 - etapa K20 - harmonogram'!Y44","v":0},{"$f":"'OB1 - etapa K20 - harmonogram'!Z44","v":0},{"$f":"'OB1 - etapa K20 - harmonogram'!AA44","v":0},{"$f":"'OB1 - etapa K20 - harmonogram'!AB44","v":0},{"$f":"'OB1 - etapa K20 - harmonogram'!AC44","v":0},{"$f":"'OB1 - etapa K20 - harmonogram'!AD44","v":0},{"$f":"'OB1 - etapa K20 - harmonogram'!AE44","v":0},{"$f":"'OB1 - etapa K20 - harmonogram'!AF44","v":0},{"$f":"'OB1 - etapa K20 - harmonogram'!AG44","v":0},{"$f":"'OB1 - etapa K20 - harmonogram'!AH44","v":0},{"$f":"'OB1 - etapa K20 - harmonogram'!AI44","v":0},{"$f":"'OB1 - etapa K20 - harmonogram'!AJ44","v":0},{"$f":"'OB1 - etapa K20 - harmonogram'!AK44","v":0},{"$f":"'OB1 - etapa K20 - harmonogram'!AL44","v":0},{"$f":"'OB1 - etapa K20 - harmonogram'!AM44","v":0},{"$f":"'OB1 - etapa K20 - harmonogram'!AN44","v":0},{"$f":"'OB1 - etapa K20 - harmonogram'!AO44","v":0},{"$f":"'OB1 - etapa K20 - harmonogram'!AP44","v":0},{"$f":"'OB1 - etapa K20 - harmonogram'!AQ44","v":0},{"$f":"'OB1 - etapa K20 - harmonogram'!AR44","v":0},{"$f":"'OB1 - etapa K20 - harmonogram'!AS44","v":0},{"$f":"'OB1 - etapa K20 - harmonogram'!AT44","v":0},{"$f":"'OB1 - etapa K20 - harmonogram'!AU44","v":0},{"$f":"'OB1 - etapa K20 - harmonogram'!AV44","v":0},{"$f":"'OB1 - etapa K20 - harmonogram'!AW44","v":0},{"$f":"'OB1 - etapa K20 - harmonogram'!AX44","v":0},{"$f":"'OB1 - etapa K20 - harmonogram'!AY44","v":0},{"$f":"'OB1 - etapa K20 - harmonogram'!AZ44","v":0},{"$f":"'OB1 - etapa K20 - harmonogram'!BA44","v":0},{"$f":"'OB1 - etapa K20 - harmonogram'!BB44","v":0},{"$f":"'OB1 - etapa K20 - harmonogram'!BC44","v":0},{"$f":"'OB1 - etapa K20 - harmonogram'!BD44","v":0},{"$f":"'OB1 - etapa K20 - harmonogram'!BE44","v":0},{"$f":"'OB1 - etapa K20 - harmonogram'!BF44","v":0},{"$f":"'OB1 - etapa K20 - harmonogram'!BG44","v":0},{"$f":"'OB1 - etapa K20 - harmonogram'!BH44","v":0},{"$f":"'OB1 - etapa K20 - harmonogram'!BI44","v":0},{"$f":"'OB1 - etapa K20 - harmonogram'!BJ44","v":0},{"$f":"'OB1 - etapa K20 - harmonogram'!BK44","v":0},{"$f":"'OB1 - etapa K20 - harmonogram'!BL44","v":0}]
[null,"etapa K20 - předběžné převzetí díla PAC","K20","EUR",{"$f":"'OB1 - etapa K20 - harmonogram'!J46","v":0},{"$f":"'OB1 - etapa K20 - harmonogram'!K46","v":0},{"$f":"'OB1 - etapa K20 - harmonogram'!L46","v":0},{"$f":"'OB1 - etapa K20 - harmonogram'!M46","v":0},{"$f":"'OB1 - etapa K20 - harmonogram'!N46","v":0},{"$f":"'OB1 - etapa K20 - harmonogram'!O46","v":0},{"$f":"'OB1 - etapa K20 - harmonogram'!P46","v":0},{"$f":"'OB1 - etapa K20 - harmonogram'!Q46","v":0},{"$f":"'OB1 - etapa K20 - harmonogram'!R46","v":0},{"$f":"'OB1 - etapa K20 - harmonogram'!S46","v":0},{"$f":"'OB1 - etapa K20 - harmonogram'!T46","v":0},{"$f":"'OB1 - etapa K20 - harmonogram'!U46","v":0},{"$f":"'OB1 - etapa K20 - harmonogram'!V46","v":0},{"$f":"'OB1 - etapa K20 - harmonogram'!W46","v":0},{"$f":"'OB1 - etapa K20 - harmonogram'!X46","v":0},{"$f":"'OB1 - etapa K20 - harmonogram'!Y46","v":0},{"$f":"'OB1 - etapa K20 - harmonogram'!Z46","v":0},{"$f":"'OB1 - etapa K20 - harmonogram'!AA46","v":0},{"$f":"'OB1 - etapa K20 - harmonogram'!AB46","v":0},{"$f":"'OB1 - etapa K20 - harmonogram'!AC46","v":0},{"$f":"'OB1 - etapa K20 - harmonogram'!AD46","v":0},{"$f":"'OB1 - etapa K20 - harmonogram'!AE46","v":0},{"$f":"'OB1 - etapa K20 - harmonogram'!AF46","v":0},{"$f":"'OB1 - etapa K20 - harmonogram'!AG46","v":0},{"$f":"'OB1 - etapa K20 - harmonogram'!AH46","v":0},{"$f":"'OB1 - etapa K20 - harmonogram'!AI46","v":0},{"$f":"'OB1 - etapa K20 - harmonogram'!AJ46","v":0},{"$f":"'OB1 - etapa K20 - harmonogram'!AK46","v":0},{"$f":"'OB1 - etapa K20 - harmonogram'!AL46","v":0},{"$f":"'OB1 - etapa K20 - harmonogram'!AM46","v":0},{"$f":"'OB1 - etapa K20 - harmonogram'!AN46","v":0},{"$f":"'OB1 - etapa K20 - harmonogram'!AO46","v":0},{"$f":"'OB1 - etapa K20 - harmonogram'!AP46","v":0},{"$f":"'OB1 - etapa K20 - harmonogram'!AQ46","v":0},{"$f":"'OB1 - etapa K20 - harmonogram'!AR46","v":0},{"$f":"'OB1 - etapa K20 - harmonogram'!AS46","v":0},{"$f":"'OB1 - etapa K20 - harmonogram'!AT46","v":0},{"$f":"'OB1 - etapa K20 - harmonogram'!AU46","v":0},{"$f":"'OB1 - etapa K20 - harmonogram'!AV46","v":0},{"$f":"'OB1 - etapa K20 - harmonogram'!AW46","v":0},{"$f":"'OB1 - etapa K20 - harmonogram'!AX46","v":0},{"$f":"'OB1 - etapa K20 - harmonogram'!AY46","v":0},{"$f":"'OB1 - etapa K20 - harmonogram'!AZ46","v":0},{"$f":"'OB1 - etapa K20 - harmonogram'!BA46","v":0},{"$f":"'OB1 - etapa K20 - harmonogram'!BB46","v":0},{"$f":"'OB1 - etapa K20 - harmonogram'!BC46","v":0},{"$f":"'OB1 - etapa K20 - harmonogram'!BD46","v":0},{"$f":"'OB1 - etapa K20 - harmonogram'!BE46","v":0},{"$f":"'OB1 - etapa K20 - harmonogram'!BF46","v":0},{"$f":"'OB1 - etapa K20 - harmonogram'!BG46","v":0},{"$f":"'OB1 - etapa K20 - harmonogram'!BH46","v":0},{"$f":"'OB1 - etapa K20 - harmonogram'!BI46","v":0},{"$f":"'OB1 - etapa K20 - harmonogram'!BJ46","v":0},{"$f":"'OB1 - etapa K20 - harmonogram'!BK46","v":0},{"$f":"'OB1 - etapa K20 - harmonogram'!BL46","v":0}]
[null,"etapa K20 - finální převzetí díla FAC","K20","EUR",{"$f":"'OB1 - etapa K20 - harmonogram'!J48","v":0},{"$f":"'OB1 - etapa K20 - harmonogram'!K48","v":0},{"$f":"'OB1 - etapa K20 - harmonogram'!L48","v":0},{"$f":"'OB1 - etapa K20 - harmonogram'!M48","v":0},{"$f":"'OB1 - etapa K20 - harmonogram'!N48","v":0},{"$f":"'OB1 - etapa K20 - harmonogram'!O48","v":0},{"$f":"'OB1 - etapa K20 - harmonogram'!P48","v":0},{"$f":"'OB1 - etapa K20 - harmonogram'!Q48","v":0},{"$f":"'OB1 - etapa K20 - harmonogram'!R48","v":0},{"$f":"'OB1 - etapa K20 - harmonogram'!S48","v":0},{"$f":"'OB1 - etapa K20 - harmonogram'!T48","v":0},{"$f":"'OB1 - etapa K20 - harmonogram'!U48","v":0},{"$f":"'OB1 - etapa K20 - harmonogram'!V48","v":0},{"$f":"'OB1 - etapa K20 - harmonogram'!W48","v":0},{"$f":"'OB1 - etapa K20 - harmonogram'!X48","v":0},{"$f":"'OB1 - etapa K20 - harmonogram'!Y48","v":0},{"$f":"'OB1 - etapa K20 - harmonogram'!Z48","v":0},{"$f":"'OB1 - etapa K20 - harmonogram'!AA48","v":0},{"$f":"'OB1 - etapa K20 - harmonogram'!AB48","v":0},{"$f":"'OB1 - etapa K20 - harmonogram'!AC48","v":0},{"$f":"'OB1 - etapa K20 - harmonogram'!AD48","v":0},{"$f":"'OB1 - etapa K20 - harmonogram'!AE48","v":0},{"$f":"'OB1 - etapa K20 - harmonogram'!AF48","v":0},{"$f":"'OB1 - etapa K20 - harmonogram'!AG48","v":0},{"$f":"'OB1 - etapa K20 - harmonogram'!AH48","v":0},{"$f":"'OB1 - etapa K20 - harmonogram'!AI48","v":0},{"$f":"'OB1 - etapa K20 - harmonogram'!AJ48","v":0},{"$f":"'OB1 - etapa K20 - harmonogram'!AK48","v":0},{"$f":"'OB1 - etapa K20 - harmonogram'!AL48","v":0},{"$f":"'OB1 - etapa K20 - harmonogram'!AM48","v":0},{"$f":"'OB1 - etapa K20 - harmonogram'!AN48","v":0},{"$f":"'OB1 - etapa K20 - harmonogram'!AO48","v":0},{"$f":"'OB1 - etapa K20 - harmonogram'!AP48","v":0},{"$f":"'OB1 - etapa K20 - harmonogram'!AQ48","v":0},{"$f":"'OB1 - etapa K20 - harmonogram'!AR48","v":0},{"$f":"'OB1 - etapa K20 - harmonogram'!AS48","v":0},{"$f":"'OB1 - etapa K20 - harmonogram'!AT48","v":0},{"$f":"'OB1 - etapa K20 - harmonogram'!AU48","v":0},{"$f":"'OB1 - etapa K20 - harmonogram'!AV48","v":0},{"$f":"'OB1 - etapa K20 - harmonogram'!AW48","v":0},{"$f":"'OB1 - etapa K20 - harmonogram'!AX48","v":0},{"$f":"'OB1 - etapa K20 - harmonogram'!AY48","v":0},{"$f":"'OB1 - etapa K20 - harmonogram'!AZ48","v":0},{"$f":"'OB1 - etapa K20 - harmonogram'!BA48","v":0},{"$f":"'OB1 - etapa K20 - harmonogram'!BB48","v":0},{"$f":"'OB1 - etapa K20 - harmonogram'!BC48","v":0},{"$f":"'OB1 - etapa K20 - harmonogram'!BD48","v":0},{"$f":"'OB1 - etapa K20 - harmonogram'!BE48","v":0},{"$f":"'OB1 - etapa K20 - harmonogram'!BF48","v":0},{"$f":"'OB1 - etapa K20 - harmonogram'!BG48","v":0},{"$f":"'OB1 - etapa K20 - harmonogram'!BH48","v":0},{"$f":"'OB1 - etapa K20 - harmonogram'!BI48","v":0},{"$f":"'OB1 - etapa K20 - harmonogram'!BJ48","v":0},{"$f":"'OB1 - etapa K20 - harmonogram'!BK48","v":0},{"$f":"'OB1 - etapa K20 - harmonogram'!BL48","v":0}]
["SO 104 - Doprava dřevní štěpky do kotelny K80","etapa K80 - Technologická část (PS 104, PS 106, PS 107, PS 108)","K80","EUR",{"$f":"'OB1 - etapa K80 - harmonogram'!J10","v":0},{"$f":"'OB1 - etapa K80 - harmonogram'!K10","v":0},{"$f":"'OB1 - etapa K80 - harmonogram'!L10","v":0},{"$f":"'OB1 - etapa K80 - harmonogram'!M10","v":0},{"$f":"'OB1 - etapa K80 - harmonogram'!N10","v":0},{"$f":"'OB1 - etapa K80 - harmonogram'!O10","v":0},{"$f":"'OB1 - etapa K80 - harmonogram'!P10","v":0},{"$f":"'OB1 - etapa K80 - harmonogram'!Q10","v":0},{"$f":"'OB1 - etapa K80 - harmonogram'!R10","v":0},{"$f":"'OB1 - etapa K80 - harmonogram'!S10","v":0},{"$f":"'OB1 - etapa K80 - harmonogram'!T10","v":0},{"$f":"'OB1 - etapa K80 - harmonogram'!U10","v":0},{"$f":"'OB1 - etapa K80 - harmonogram'!V10","v":0},{"$f":"'OB1 - etapa K80 - harmonogram'!W10","v":0},{"$f":"'OB1 - etapa K80 - harmonogram'!X10","v":0},{"$f":"'OB1 - etapa K80 - harmonogram'!Y10","v":0},{"$f":"'OB1 - etapa K80 - harmonogram'!Z10","v":0},{"$f":"'OB1 - etapa K80 - harmonogram'!AA10","v":0},{"$f":"'OB1 - etapa K80 - harmonogram'!AB10","v":0},{"$f":"'OB1 - etapa K80 - harmonogram'!AC10","v":0},{"$f":"'OB1 - etapa K80 - harmonogram'!AD10","v":0},{"$f":"'OB1 - etapa K80 - harmonogram'!AE10","v":0},{"$f":"'OB1 - etapa K80 - harmonogram'!AF10","v":0},{"$f":"'OB1 - etapa K80 - harmonogram'!AG10","v":0},{"$f":"'OB1 - etapa K80 - harmonogram'!AH10","v":0},{"$f":"'OB1 - etapa K80 - harmonogram'!AI10","v":0},{"$f":"'OB1 - etapa K80 - harmonogram'!AJ10","v":0},{"$f":"'OB1 - etapa K80 - harmonogram'!AK10","v":0},{"$f":"'OB1 - etapa K80 - harmonogram'!AL10","v":0},{"$f":"'OB1 - etapa K80 - harmonogram'!AM10","v":0},{"$f":"'OB1 - etapa K80 - harmonogram'!AN10","v":0},{"$f":"'OB1 - etapa K80 - harmonogram'!AO10","v":0},{"$f":"'OB1 - etapa K80 - harmonogram'!AP10","v":0},{"$f":"'OB1 - etapa K80 - harmonogram'!AQ10","v":0},{"$f":"'OB1 - etapa K80 - harmonogram'!AR10","v":0},{"$f":"'OB1 - etapa K80 - harmonogram'!AS10","v":0},{"$f":"'OB1 - etapa K80 - harmonogram'!AT10","v":0},{"$f":"'OB1 - etapa K80 - harmonogram'!AU10","v":0},{"$f":"'OB1 - etapa K80 - harmonogram'!AV10","v":0},{"$f":"'OB1 - etapa K80 - harmonogram'!AW10","v":0},{"$f":"'OB1 - etapa K80 - harmonogram'!AX10","v":0},{"$f":"'OB1 - etapa K80 - harmonogram'!AY10","v":0},{"$f":"'OB1 - etapa K80 - harmonogram'!AZ10","v":0},{"$f":"'OB1 - etapa K80 - harmonogram'!BA10","v":0},{"$f":"'OB1 - etapa K80 - harmonogram'!BB10","v":0},{"$f":"'OB1 - etapa K80 - harmonogram'!BC10","v":0},{"$f":"'OB1 - etapa K80 - harmonogram'!BD10","v":0},{"$f":"'OB1 - etapa K80 - harmonogram'!BE10","v":0},{"$f":"'OB1 - etapa K80 - harmonogram'!BF10","v":0},{"$f":"'OB1 - etapa K80 - harmonogram'!BG10","v":0},{"$f":"'OB1 - etapa K80 - harmonogram'!BH10","v":0},{"$f":"'OB1 - etapa K80 - harmonogram'!BI10","v":0},{"$f":"'OB1 - etapa K80 - harmonogram'!BJ10","v":0},{"$f":"'OB1 - etapa K80 - harmonogram'!BK10","v":0},{"$f":"'OB1 - etapa K80 - harmonogram'!BL10","v":0}]
[null,"etapa K80 - Stavební část (A4.4)","K80","EUR",{"$f":"'OB1 - etapa K80 - harmonogram'!J12","v":0},{"$f":"'OB1 - etapa K80 - harmonogram'!K12","v":0},{"$f":"'OB1 - etapa K80 - harmonogram'!L12","v":0},{"$f":"'OB1 - etapa K80 - harmonogram'!M12","v":0},{"$f":"'OB1 - etapa K80 - harmonogram'!N12","v":0},{"$f":"'OB1 - etapa K80 - harmonogram'!O12","v":0},{"$f":"'OB1 - etapa K80 - harmonogram'!P12","v":0},{"$f":"'OB1 - etapa K80 - harmonogram'!Q12","v":0},{"$f":"'OB1 - etapa K80 - harmonogram'!R12","v":0},{"$f":"'OB1 - etapa K80 - harmonogram'!S12","v":0},{"$f":"'OB1 - etapa K80 - harmonogram'!T12","v":0},{"$f":"'OB1 - etapa K80 - harmonogram'!U12","v":0},{"$f":"'OB1 - etapa K80 - harmonogram'!V12","v":0},{"$f":"'OB1 - etapa K80 - harmonogram'!W12","v":0},{"$f":"'OB1 - etapa K80 - harmonogram'!X12","v":0},{"$f":"'OB1 - etapa K80 - harmonogram'!Y12","v":0},{"$f":"'OB1 - etapa K80 - harmonogram'!Z12","v":0},{"$f":"'OB1 - etapa K80 - harmonogram'!AA12","v":0},{"$f":"'OB1 - etapa K80 - harmonogram'!AB12","v":0},{"$f":"'OB1 - etapa K80 - harmonogram'!AC12","v":0},{"$f":"'OB1 - etapa K80 - harmonogram'!AD12","v":0},{"$f":"'OB1 - etapa K80 - harmonogram'!AE12","v":0},{"$f":"'OB1 - etapa K80 - harmonogram'!AF12","v":0},{"$f":"'OB1 - etapa K80 - harmonogram'!AG12","v":0},{"$f":"'OB1 - etapa K80 - harmonogram'!AH12","v":0},{"$f":"'OB1 - etapa K80 - harmonogram'!AI12","v":0},{"$f":"'OB1 - etapa K80 - harmonogram'!AJ12","v":0},{"$f":"'OB1 - etapa K80 - harmonogram'!AK12","v":0},{"$f":"'OB1 - etapa K80 - harmonogram'!AL12","v":0},{"$f":"'OB1 - etapa K80 - harmonogram'!AM12","v":0},{"$f":"'OB1 - etapa K80 - harmonogram'!AN12","v":0},{"$f":"'OB1 - etapa K80 - harmonogram'!AO12","v":0},{"$f":"'OB1 - etapa K80 - harmonogram'!AP12","v":0},{"$f":"'OB1 - etapa K80 - harmonogram'!AQ12","v":0},{"$f":"'OB1 - etapa K80 - harmonogram'!AR12","v":0},{"$f":"'OB1 - etapa K80 - harmonogram'!AS12","v":0},{"$f":"'OB1 - etapa K80 - harmonogram'!AT12","v":0},{"$f":"'OB1 - etapa K80 - harmonogram'!AU12","v":0},{"$f":"'OB1 - etapa K80 - harmonogram'!AV12","v":0},{"$f":"'OB1 - etapa K80 - harmonogram'!AW12","v":0},{"$f":"'OB1 - etapa K80 - harmonogram'!AX12","v":0},{"$f":"'OB1 - etapa K80 - harmonogram'!AY12","v":0},{"$f":"'OB1 - etapa K80 - harmonogram'!AZ12","v":0},{"$f":"'OB1 - etapa K80 - harmonogram'!BA12","v":0},{"$f":"'OB1 - etapa K80 - harmonogram'!BB12","v":0},{"$f":"'OB1 - etapa K80 - harmonogram'!BC12","v":0},{"$f":"'OB1 - etapa K80 - harmonogram'!BD12","v":0},{"$f":"'OB1 - etapa K80 - harmonogram'!BE12","v":0},{"$f":"'OB1 - etapa K80 - harmonogram'!BF12","v":0},{"$f":"'OB1 - etapa K80 - harmonogram'!BG12","v":0},{"$f":"'OB1 - etapa K80 - harmonogram'!BH12","v":0},{"$f":"'OB1 - etapa K80 - harmonogram'!BI12","v":0},{"$f":"'OB1 - etapa K80 - harmonogram'!BJ12","v":0},{"$f":"'OB1 - etapa K80 - harmonogram'!BK12","v":0},{"$f":"'OB1 - etapa K80 - harmonogram'!BL12","v":0}]
[null,"etapa K80 - komplexní vyzkoušení","K80","EUR",{"$f":"'OB1 - etapa K80 - harmonogram'!J14","v":0},{"$f":"'OB1 - etapa K80 - harmonogram'!K14","v":0},{"$f":"'OB1 - etapa K80 - harmonogram'!L14","v":0},{"$f":"'OB1 - etapa K80 - harmonogram'!M14","v":0},{"$f":"'OB1 - etapa K80 - harmonogram'!N14","v":0},{"$f":"'OB1 - etapa K80 - harmonogram'!O14","v":0},{"$f":"'OB1 - etapa K80 - harmonogram'!P14","v":0},{"$f":"'OB1 - etapa K80 - harmonogram'!Q14","v":0},{"$f":"'OB1 - etapa K80 - harmonogram'!R14","v":0},{"$f":"'OB1 - etapa K80 - harmonogram'!S14","v":0},{"$f":"'OB1 - etapa K80 - harmonogram'!T14","v":0},{"$f":"'OB1 - etapa K80 - harmonogram'!U14","v":0},{"$f":"'OB1 - etapa K80 - harmonogram'!V14","v":0},{"$f":"'OB1 - etapa K80 - harmonogram'!W14","v":0},{"$f":"'OB1 - etapa K80 - harmonogram'!X14","v":0},{"$f":"'OB1 - etapa K80 - harmonogram'!Y14","v":0},{"$f":"'OB1 - etapa K80 - harmonogram'!Z14","v":0},{"$f":"'OB1 - etapa K80 - harmonogram'!AA14","v":0},{"$f":"'OB1 - etapa K80 - harmonogram'!AB14","v":0},{"$f":"'OB1 - etapa K80 - harmonogram'!AC14","v":0},{"$f":"'OB1 - etapa K80 - harmonogram'!AD14","v":0},{"$f":"'OB1 - etapa K80 - harmonogram'!AE14","v":0},{"$f":"'OB1 - etapa K80 - harmonogram'!AF14","v":0},{"$f":"'OB1 - etapa K80 - harmonogram'!AG14","v":0},{"$f":"'OB1 - etapa K80 - harmonogram'!AH14","v":0},{"$f":"'OB1 - etapa K80 - harmonogram'!AI14","v":0},{"$f":"'OB1 - etapa K80 - harmonogram'!AJ14","v":0},{"$f":"'OB1 - etapa K80 - harmonogram'!AK14","v":0},{"$f":"'OB1 - etapa K80 - harmonogram'!AL14","v":0},{"$f":"'OB1 - etapa K80 - harmonogram'!AM14","v":0},{"$f":"'OB1 - etapa K80 - harmonogram'!AN14","v":0},{"$f":"'OB1 - etapa K80 - harmonogram'!AO14","v":0},{"$f":"'OB1 - etapa K80 - harmonogram'!AP14","v":0},{"$f":"'OB1 - etapa K80 - harmonogram'!AQ14","v":0},{"$f":"'OB1 - etapa K80 - harmonogram'!AR14","v":0},{"$f":"'OB1 - etapa K80 - harmonogram'!AS14","v":0},{"$f":"'OB1 - etapa K80 - harmonogram'!AT14","v":0},{"$f":"'OB1 - etapa K80 - harmonogram'!AU14","v":0},{"$f":"'OB1 - etapa K80 - harmonogram'!AV14","v":0},{"$f":"'OB1 - etapa K80 - harmonogram'!AW14","v":0},{"$f":"'OB1 - etapa K80 - harmonogram'!AX14","v":0},{"$f":"'OB1 - etapa K80 - harmonogram'!AY14","v":0},{"$f":"'OB1 - etapa K80 - harmonogram'!AZ14","v":0},{"$f":"'OB1 - etapa K80 - harmonogram'!BA14","v":0},{"$f":"'OB1 - etapa K80 - harmonogram'!BB14","v":0},{"$f":"'OB1 - etapa K80 - harmonogram'!BC14","v":0},{"$f":"'OB1 - etapa K80 - harmonogram'!BD14","v":0},{"$f":"'OB1 - etapa K80 - harmonogram'!BE14","v":0},{"$f":"'OB1 - etapa K80 - harmonogram'!BF14","v":0},{"$f":"'OB1 - etapa K80 - harmonogram'!BG14","v":0},{"$f":"'OB1 - etapa K80 - harmonogram'!BH14","v":0},{"$f":"'OB1 - etapa K80 - harmonogram'!BI14","v":0},{"$f":"'OB1 - etapa K80 - harmonogram'!BJ14","v":0},{"$f":"'OB1 - etapa K80 - harmonogram'!BK14","v":0},{"$f":"'OB1 - etapa K80 - harmonogram'!BL14","v":0}]
[null,"etapa K80 - zkušební provoz","K80","EUR",{"$f":"'OB1 - etapa K80 - harmonogram'!J16","v":0},{"$f":"'OB1 - etapa K80 - harmonogram'!K16","v":0},{"$f":"'OB1 - etapa K80 - harmonogram'!L16","v":0},{"$f":"'OB1 - etapa K80 - harmonogram'!M16","v":0},{"$f":"'OB1 - etapa K80 - harmonogram'!N16","v":0},{"$f":"'OB1 - etapa K80 - harmonogram'!O16","v":0},{"$f":"'OB1 - etapa K80 - harmonogram'!P16","v":0},{"$f":"'OB1 - etapa K80 - harmonogram'!Q16","v":0},{"$f":"'OB1 - etapa K80 - harmonogram'!R16","v":0},{"$f":"'OB1 - etapa K80 - harmonogram'!S16","v":0},{"$f":"'OB1 - etapa K80 - harmonogram'!T16","v":0},{"$f":"'OB1 - etapa K80 - harmonogram'!U16","v":0},{"$f":"'OB1 - etapa K80 - harmonogram'!V16","v":0},{"$f":"'OB1 - etapa K80 - harmonogram'!W16","v":0},{"$f":"'OB1 - etapa K80 - harmonogram'!X16","v":0},{"$f":"'OB1 - etapa K80 - harmonogram'!Y16","v":0},{"$f":"'OB1 - etapa K80 - harmonogram'!Z16","v":0},{"$f":"'OB1 - etapa K80 - harmonogram'!AA16","v":0},{"$f":"'OB1 - etapa K80 - harmonogram'!AB16","v":0},{"$f":"'OB1 - etapa K80 - harmonogram'!AC16","v":0},{"$f":"'OB1 - etapa K80 - harmonogram'!AD16","v":0},{"$f":"'OB1 - etapa K80 - harmonogram'!AE16","v":0},{"$f":"'OB1 - etapa K80 - harmonogram'!AF16","v":0},{"$f":"'OB1 - etapa K80 - harmonogram'!AG16","v":0},{"$f":"'OB1 - etapa K80 - harmonogram'!AH16","v":0},{"$f":"'OB1 - etapa K80 - harmonogram'!AI16","v":0},{"$f":"'OB1 - etapa K80 - harmonogram'!AJ16","v":0},{"$f":"'OB1 - etapa K80 - harmonogram'!AK16","v":0},{"$f":"'OB1 - etapa K80 - harmonogram'!AL16","v":0},{"$f":"'OB1 - etapa K80 - harmonogram'!AM16","v":0},{"$f":"'OB1 - etapa K80 - harmonogram'!AN16","v":0},{"$f":"'OB1 - etapa K80 - harmonogram'!AO16","v":0},{"$f":"'OB1 - etapa K80 - harmonogram'!AP16","v":0},{"$f":"'OB1 - etapa K80 - harmonogram'!AQ16","v":0},{"$f":"'OB1 - etapa K80 - harmonogram'!AR16","v":0},{"$f":"'OB1 - etapa K80 - harmonogram'!AS16","v":0},{"$f":"'OB1 - etapa K80 - harmonogram'!AT16","v":0},{"$f":"'OB1 - etapa K80 - harmonogram'!AU16","v":0},{"$f":"'OB1 - etapa K80 - harmonogram'!AV16","v":0},{"$f":"'OB1 - etapa K80 - harmonogram'!AW16","v":0},{"$f":"'OB1 - etapa K80 - harmonogram'!AX16","v":0},{"$f":"'OB1 - etapa K80 - harmonogram'!AY16","v":0},{"$f":"'OB1 - etapa K80 - harmonogram'!AZ16","v":0},{"$f":"'OB1 - etapa K80 - harmonogram'!BA16","v":0},{"$f":"'OB1 - etapa K80 - harmonogram'!BB16","v":0},{"$f":"'OB1 - etapa K80 - harmonogram'!BC16","v":0},{"$f":"'OB1 - etapa K80 - harmonogram'!BD16","v":0},{"$f":"'OB1 - etapa K80 - harmonogram'!BE16","v":0},{"$f":"'OB1 - etapa K80 - harmonogram'!BF16","v":0},{"$f":"'OB1 - etapa K80 - harmonogram'!BG16","v":0},{"$f":"'OB1 - etapa K80 - harmonogram'!BH16","v":0},{"$f":"'OB1 - etapa K80 - harmonogram'!BI16","v":0},{"$f":"'OB1 - etapa K80 - harmonogram'!BJ16","v":0},{"$f":"'OB1 - etapa K80 - harmonogram'!BK16","v":0},{"$f":"'OB1 - etapa K80 - harmonogram'!BL16","v":0}]
[null,"etapa K80 - garanční test A","K80","EUR",{"$f":"'OB1 - etapa K80 - harmonogram'!J18","v":0},{"$f":"'OB1 - etapa K80 - harmonogram'!K18","v":0},{"$f":"'OB1 - etapa K80 - harmonogram'!L18","v":0},{"$f":"'OB1 - etapa K80 - harmonogram'!M18","v":0},{"$f":"'OB1 - etapa K80 - harmonogram'!N18","v":0},{"$f":"'OB1 - etapa K80 - harmonogram'!O18","v":0},{"$f":"'OB1 - etapa K80 - harmonogram'!P18","v":0},{"$f":"'OB1 - etapa K80 - harmonogram'!Q18","v":0},{"$f":"'OB1 - etapa K80 - harmonogram'!R18","v":0},{"$f":"'OB1 - etapa K80 - harmonogram'!S18","v":0},{"$f":"'OB1 - etapa K80 - harmonogram'!T18","v":0},{"$f":"'OB1 - etapa K80 - harmonogram'!U18","v":0},{"$f":"'OB1 - etapa K80 - harmonogram'!V18","v":0},{"$f":"'OB1 - etapa K80 - harmonogram'!W18","v":0},{"$f":"'OB1 - etapa K80 - harmonogram'!X18","v":0},{"$f":"'OB1 - etapa K80 - harmonogram'!Y18","v":0},{"$f":"'OB1 - etapa K80 - harmonogram'!Z18","v":0},{"$f":"'OB1 - etapa K80 - harmonogram'!AA18","v":0},{"$f":"'OB1 - etapa K80 - harmonogram'!AB18","v":0},{"$f":"'OB1 - etapa K80 - harmonogram'!AC18","v":0},{"$f":"'OB1 - etapa K80 - harmonogram'!AD18","v":0},{"$f":"'OB1 - etapa K80 - harmonogram'!AE18","v":0},{"$f":"'OB1 - etapa K80 - harmonogram'!AF18","v":0},{"$f":"'OB1 - etapa K80 - harmonogram'!AG18","v":0},{"$f":"'OB1 - etapa K80 - harmonogram'!AH18","v":0},{"$f":"'OB1 - etapa K80 - harmonogram'!AI18","v":0},{"$f":"'OB1 - etapa K80 - harmonogram'!AJ18","v":0},{"$f":"'OB1 - etapa K80 - harmonogram'!AK18","v":0},{"$f":"'OB1 - etapa K80 - harmonogram'!AL18","v":0},{"$f":"'OB1 - etapa K80 - harmonogram'!AM18","v":0},{"$f":"'OB1 - etapa K80 - harmonogram'!AN18","v":0},{"$f":"'OB1 - etapa K80 - harmonogram'!AO18","v":0},{"$f":"'OB1 - etapa K80 - harmonogram'!AP18","v":0},{"$f":"'OB1 - etapa K80 - harmonogram'!AQ18","v":0},{"$f":"'OB1 - etapa K80 - harmonogram'!AR18","v":0},{"$f":"'OB1 - etapa K80 - harmonogram'!AS18","v":0},{"$f":"'OB1 - etapa K80 - harmonogram'!AT18","v":0},{"$f":"'OB1 - etapa K80 - harmonogram'!AU18","v":0},{"$f":"'OB1 - etapa K80 - harmonogram'!AV18","v":0},{"$f":"'OB1 - etapa K80 - harmonogram'!AW18","v":0},{"$f":"'OB1 - etapa K80 - harmonogram'!AX18","v":0},{"$f":"'OB1 - etapa K80 - harmonogram'!AY18","v":0},{"$f":"'OB1 - etapa K80 - harmonogram'!AZ18","v":0},{"$f":"'OB1 - etapa K80 - harmonogram'!BA18","v":0},{"$f":"'OB1 - etapa K80 - harmonogram'!BB18","v":0},{"$f":"'OB1 - etapa K80 - harmonogram'!BC18","v":0},{"$f":"'OB1 - etapa K80 - harmonogram'!BD18","v":0},{"$f":"'OB1 - etapa K80 - harmonogram'!BE18","v":0},{"$f":"'OB1 - etapa K80 - harmonogram'!BF18","v":0},{"$f":"'OB1 - etapa K80 - harmonogram'!BG18","v":0},{"$f":"'OB1 - etapa K80 - harmonogram'!BH18","v":0},{"$f":"'OB1 - etapa K80 - harmonogram'!BI18","v":0},{"$f":"'OB1 - etapa K80 - harmonogram'!BJ18","v":0},{"$f":"'OB1 - etapa K80 - harmonogram'!BK18","v":0},{"$f":"'OB1 - etapa K80 - harmonogram'!BL18","v":0}]
[null,"etapa K80 - předběžné převzetí díla PAC","K80","EUR",{"$f":"'OB1 - etapa K80 - harmonogram'!J20","v":0},{"$f":"'OB1 - etapa K80 - harmonogram'!K20","v":0},{"$f":"'OB1 - etapa K80 - harmonogram'!L20","v":0},{"$f":"'OB1 - etapa K80 - harmonogram'!M20","v":0},{"$f":"'OB1 - etapa K80 - harmonogram'!N20","v":0},{"$f":"'OB1 - etapa K80 - harmonogram'!O20","v":0},{"$f":"'OB1 - etapa K80 - harmonogram'!P20","v":0},{"$f":"'OB1 - etapa K80 - harmonogram'!Q20","v":0},{"$f":"'OB1 - etapa K80 - harmonogram'!R20","v":0},{"$f":"'OB1 - etapa K80 - harmonogram'!S20","v":0},{"$f":"'OB1 - etapa K80 - harmonogram'!T20","v":0},{"$f":"'OB1 - etapa K80 - harmonogram'!U20","v":0},{"$f":"'OB1 - etapa K80 - harmonogram'!V20","v":0},{"$f":"'OB1 - etapa K80 - harmonogram'!W20","v":0},{"$f":"'OB1 - etapa K80 - harmonogram'!X20","v":0},{"$f":"'OB1 - etapa K80 - harmonogram'!Y20","v":0},{"$f":"'OB1 - etapa K80 - harmonogram'!Z20","v":0},{"$f":"'OB1 - etapa K80 - harmonogram'!AA20","v":0},{"$f":"'OB1 - etapa K80 - harmonogram'!AB20","v":0},{"$f":"'OB1 - etapa K80 - harmonogram'!AC20","v":0},{"$f":"'OB1 - etapa K80 - harmonogram'!AD20","v":0},{"$f":"'OB1 - etapa K80 - harmonogram'!AE20","v":0},{"$f":"'OB1 - etapa K80 - harmonogram'!AF20","v":0},{"$f":"'OB1 - etapa K80 - harmonogram'!AG20","v":0},{"$f":"'OB1 - etapa K80 - harmonogram'!AH20","v":0},{"$f":"'OB1 - etapa K80 - harmonogram'!AI20","v":0},{"$f":"'OB1 - etapa K80 - harmonogram'!AJ20","v":0},{"$f":"'OB1 - etapa K80 - harmonogram'!AK20","v":0},{"$f":"'OB1 - etapa K80 - harmonogram'!AL20","v":0},{"$f":"'OB1 - etapa K80 - harmonogram'!AM20","v":0},{"$f":"'OB1 - etapa K80 - harmonogram'!AN20","v":0},{"$f":"'OB1 - etapa K80 - harmonogram'!AO20","v":0},{"$f":"'OB1 - etapa K80 - harmonogram'!AP20","v":0},{"$f":"'OB1 - etapa K80 - harmonogram'!AQ20","v":0},{"$f":"'OB1 - etapa K80 - harmonogram'!AR20","v":0},{"$f":"'OB1 - etapa K80 - harmonogram'!AS20","v":0},{"$f":"'OB1 - etapa K80 - harmonogram'!AT20","v":0},{"$f":"'OB1 - etapa K80 - harmonogram'!AU20","v":0},{"$f":"'OB1 - etapa K80 - harmonogram'!AV20","v":0},{"$f":"'OB1 - etapa K80 - harmonogram'!AW20","v":0},{"$f":"'OB1 - etapa K80 - harmonogram'!AX20","v":0},{"$f":"'OB1 - etapa K80 - harmonogram'!AY20","v":0},{"$f":"'OB1 - etapa K80 - harmonogram'!AZ20","v":0},{"$f":"'OB1 - etapa K80 - harmonogram'!BA20","v":0},{"$f":"'OB1 - etapa K80 - harmonogram'!BB20","v":0},{"$f":"'OB1 - etapa K80 - harmonogram'!BC20","v":0},{"$f":"'OB1 - etapa K80 - harmonogram'!BD20","v":0},{"$f":"'OB1 - etapa K80 - harmonogram'!BE20","v":0},{"$f":"'OB1 - etapa K80 - harmonogram'!BF20","v":0},{"$f":"'OB1 - etapa K80 - harmonogram'!BG20","v":0},{"$f":"'OB1 - etapa K80 - harmonogram'!BH20","v":0},{"$f":"'OB1 - etapa K80 - harmonogram'!BI20","v":0},{"$f":"'OB1 - etapa K80 - harmonogram'!BJ20","v":0},{"$f":"'OB1 - etapa K80 - harmonogram'!BK20","v":0},{"$f":"'OB1 - etapa K80 - harmonogram'!BL20","v":0}]
[null,"etapa K80 - finální převzetí díla FAC","K80","EUR",{"$f":"'OB1 - etapa K80 - harmonogram'!J22","v":0},{"$f":"'OB1 - etapa K80 - harmonogram'!K22","v":0},{"$f":"'OB1 - etapa K80 - harmonogram'!L22","v":0},{"$f":"'OB1 - etapa K80 - harmonogram'!M22","v":0},{"$f":"'OB1 - etapa K80 - harmonogram'!N22","v":0},{"$f":"'OB1 - etapa K80 - harmonogram'!O22","v":0},{"$f":"'OB1 - etapa K80 - harmonogram'!P22","v":0},{"$f":"'OB1 - etapa K80 - harmonogram'!Q22","v":0},{"$f":"'OB1 - etapa K80 - harmonogram'!R22","v":0},{"$f":"'OB1 - etapa K80 - harmonogram'!S22","v":0},{"$f":"'OB1 - etapa K80 - harmonogram'!T22","v":0},{"$f":"'OB1 - etapa K80 - harmonogram'!U22","v":0},{"$f":"'OB1 - etapa K80 - harmonogram'!V22","v":0},{"$f":"'OB1 - etapa K80 - harmonogram'!W22","v":0},{"$f":"'OB1 - etapa K80 - harmonogram'!X22","v":0},{"$f":"'OB1 - etapa K80 - harmonogram'!Y22","v":0},{"$f":"'OB1 - etapa K80 - harmonogram'!Z22","v":0},{"$f":"'OB1 - etapa K80 - harmonogram'!AA22","v":0},{"$f":"'OB1 - etapa K80 - harmonogram'!AB22","v":0},{"$f":"'OB1 - etapa K80 - harmonogram'!AC22","v":0},{"$f":"'OB1 - etapa K80 - harmonogram'!AD22","v":0},{"$f":"'OB1 - etapa K80 - harmonogram'!AE22","v":0},{"$f":"'OB1 - etapa K80 - harmonogram'!AF22","v":0},{"$f":"'OB1 - etapa K80 - harmonogram'!AG22","v":0},{"$f":"'OB1 - etapa K80 - harmonogram'!AH22","v":0},{"$f":"'OB1 - etapa K80 - harmonogram'!AI22","v":0},{"$f":"'OB1 - etapa K80 - harmonogram'!AJ22","v":0},{"$f":"'OB1 - etapa K80 - harmonogram'!AK22","v":0},{"$f":"'OB1 - etapa K80 - harmonogram'!AL22","v":0},{"$f":"'OB1 - etapa K80 - harmonogram'!AM22","v":0},{"$f":"'OB1 - etapa K80 - harmonogram'!AN22","v":0},{"$f":"'OB1 - etapa K80 - harmonogram'!AO22","v":0},{"$f":"'OB1 - etapa K80 - harmonogram'!AP22","v":0},{"$f":"'OB1 - etapa K80 - harmonogram'!AQ22","v":0},{"$f":"'OB1 - etapa K80 - harmonogram'!AR22","v":0},{"$f":"'OB1 - etapa K80 - harmonogram'!AS22","v":0},{"$f":"'OB1 - etapa K80 - harmonogram'!AT22","v":0},{"$f":"'OB1 - etapa K80 - harmonogram'!AU22","v":0},{"$f":"'OB1 - etapa K80 - harmonogram'!AV22","v":0},{"$f":"'OB1 - etapa K80 - harmonogram'!AW22","v":0},{"$f":"'OB1 - etapa K80 - harmonogram'!AX22","v":0},{"$f":"'OB1 - etapa K80 - harmonogram'!AY22","v":0},{"$f":"'OB1 - etapa K80 - harmonogram'!AZ22","v":0},{"$f":"'OB1 - etapa K80 - harmonogram'!BA22","v":0},{"$f":"'OB1 - etapa K80 - harmonogram'!BB22","v":0},{"$f":"'OB1 - etapa K80 - harmonogram'!BC22","v":0},{"$f":"'OB1 - etapa K80 - harmonogram'!BD22","v":0},{"$f":"'OB1 - etapa K80 - harmonogram'!BE22","v":0},{"$f":"'OB1 - etapa K80 - harmonogram'!BF22","v":0},{"$f":"'OB1 - etapa K80 - harmonogram'!BG22","v":0},{"$f":"'OB1 - etapa K80 - harmonogram'!BH22","v":0},{"$f":"'OB1 - etapa K80 - harmonogram'!BI22","v":0},{"$f":"'OB1 - etapa K80 - harmonogram'!BJ22","v":0},{"$f":"'OB1 - etapa K80 - harmonogram'!BK22","v":0},{"$f":"'OB1 - etapa K80 - harmonogram'!BL22","v":0}]
["SO 104 - Doprava dřevní štěpky do kotelny K90","etapa K90 - Technologická část (PS 104, PS 106, PS 107, PS 108)","K90","EUR",{"$f":"'OB1 - etapa K90 - harmonogram'!J10","v":0},{"$f":"'OB1 - etapa K90 - harmonogram'!K10","v":0},{"$f":"'OB1 - etapa K90 - harmonogram'!L10","v":0},{"$f":"'OB1 - etapa K90 - harmonogram'!M10","v":0},{"$f":"'OB1 - etapa K90 - harmonogram'!N10","v":0},{"$f":"'OB1 - etapa K90 - harmonogram'!O10","v":0},{"$f":"'OB1 - etapa K90 - harmonogram'!P10","v":0},{"$f":"'OB1 - etapa K90 - harmonogram'!Q10","v":0},{"$f":"'OB1 - etapa K90 - harmonogram'!R10","v":0},{"$f":"'OB1 - etapa K90 - harmonogram'!S10","v":0},{"$f":"'OB1 - etapa K90 - harmonogram'!T10","v":0},{"$f":"'OB1 - etapa K90 - harmonogram'!U10","v":0},{"$f":"'OB1 - etapa K90 - harmonogram'!V10","v":0},{"$f":"'OB1 - etapa K90 - harmonogram'!W10","v":0},{"$f":"'OB1 - etapa K90 - harmonogram'!X10","v":0},{"$f":"'OB1 - etapa K90 - harmonogram'!Y10","v":0},{"$f":"'OB1 - etapa K90 - harmonogram'!Z10","v":0},{"$f":"'OB1 - etapa K90 - harmonogram'!AA10","v":0},{"$f":"'OB1 - etapa K90 - harmonogram'!AB10","v":0},{"$f":"'OB1 - etapa K90 - harmonogram'!AC10","v":0},{"$f":"'OB1 - etapa K90 - harmonogram'!AD10","v":0},{"$f":"'OB1 - etapa K90 - harmonogram'!AE10","v":0},{"$f":"'OB1 - etapa K90 - harmonogram'!AF10","v":0},{"$f":"'OB1 - etapa K90 - harmonogram'!AG10","v":0},{"$f":"'OB1 - etapa K90 - harmonogram'!AH10","v":0},{"$f":"'OB1 - etapa K90 - harmonogram'!AI10","v":0},{"$f":"'OB1 - etapa K90 - harmonogram'!AJ10","v":0},{"$f":"'OB1 - etapa K90 - harmonogram'!AK10","v":0},{"$f":"'OB1 - etapa K90 - harmonogram'!AL10","v":0},{"$f":"'OB1 - etapa K90 - harmonogram'!AM10","v":0},{"$f":"'OB1 - etapa K90 - harmonogram'!AN10","v":0},{"$f":"'OB1 - etapa K90 - harmonogram'!AO10","v":0},{"$f":"'OB1 - etapa K90 - harmonogram'!AP10","v":0},{"$f":"'OB1 - etapa K90 - harmonogram'!AQ10","v":0},{"$f":"'OB1 - etapa K90 - harmonogram'!AR10","v":0},{"$f":"'OB1 - etapa K90 - harmonogram'!AS10","v":0},{"$f":"'OB1 - etapa K90 - harmonogram'!AT10","v":0},{"$f":"'OB1 - etapa K90 - harmonogram'!AU10","v":0},{"$f":"'OB1 - etapa K90 - harmonogram'!AV10","v":0},{"$f":"'OB1 - etapa K90 - harmonogram'!AW10","v":0},{"$f":"'OB1 - etapa K90 - harmonogram'!AX10","v":0},{"$f":"'OB1 - etapa K90 - harmonogram'!AY10","v":0},{"$f":"'OB1 - etapa K90 - harmonogram'!AZ10","v":0},{"$f":"'OB1 - etapa K90 - harmonogram'!BA10","v":0},{"$f":"'OB1 - etapa K90 - harmonogram'!BB10","v":0},{"$f":"'OB1 - etapa K90 - harmonogram'!BC10","v":0},{"$f":"'OB1 - etapa K90 - harmonogram'!BD10","v":0},{"$f":"'OB1 - etapa K90 - harmonogram'!BE10","v":0},{"$f":"'OB1 - etapa K90 - harmonogram'!BF10","v":0},{"$f":"'OB1 - etapa K90 - harmonogram'!BG10","v":0},{"$f":"'OB1 - etapa K90 - harmonogram'!BH10","v":0},{"$f":"'OB1 - etapa K90 - harmonogram'!BI10","v":0},{"$f":"'OB1 - etapa K90 - harmonogram'!BJ10","v":0},{"$f":"'OB1 - etapa K90 - harmonogram'!BK10","v":0},{"$f":"'OB1 - etapa K90 - harmonogram'!BL10","v":0}]
[null,"etapa K90 - Stavební část (A4.4)","K90","EUR",{"$f":"'OB1 - etapa K90 - harmonogram'!J12","v":0},{"$f":"'OB1 - etapa K90 - harmonogram'!K12","v":0},{"$f":"'OB1 - etapa K90 - harmonogram'!L12","v":0},{"$f":"'OB1 - etapa K90 - harmonogram'!M12","v":0},{"$f":"'OB1 - etapa K90 - harmonogram'!N12","v":0},{"$f":"'OB1 - etapa K90 - harmonogram'!O12","v":0},{"$f":"'OB1 - etapa K90 - harmonogram'!P12","v":0},{"$f":"'OB1 - etapa K90 - harmonogram'!Q12","v":0},{"$f":"'OB1 - etapa K90 - harmonogram'!R12","v":0},{"$f":"'OB1 - etapa K90 - harmonogram'!S12","v":0},{"$f":"'OB1 - etapa K90 - harmonogram'!T12","v":0},{"$f":"'OB1 - etapa K90 - harmonogram'!U12","v":0},{"$f":"'OB1 - etapa K90 - harmonogram'!V12","v":0},{"$f":"'OB1 - etapa K90 - harmonogram'!W12","v":0},{"$f":"'OB1 - etapa K90 - harmonogram'!X12","v":0},{"$f":"'OB1 - etapa K90 - harmonogram'!Y12","v":0},{"$f":"'OB1 - etapa K90 - harmonogram'!Z12","v":0},{"$f":"'OB1 - etapa K90 - harmonogram'!AA12","v":0},{"$f":"'OB1 - etapa K90 - harmonogram'!AB12","v":0},{"$f":"'OB1 - etapa K90 - harmonogram'!AC12","v":0},{"$f":"'OB1 - etapa K90 - harmonogram'!AD12","v":0},{"$f":"'OB1 - etapa K90 - harmonogram'!AE12","v":0},{"$f":"'OB1 - etapa K90 - harmonogram'!AF12","v":0},{"$f":"'OB1 - etapa K90 - harmonogram'!AG12","v":0},{"$f":"'OB1 - etapa K90 - harmonogram'!AH12","v":0},{"$f":"'OB1 - etapa K90 - harmonogram'!AI12","v":0},{"$f":"'OB1 - etapa K90 - harmonogram'!AJ12","v":0},{"$f":"'OB1 - etapa K90 - harmonogram'!AK12","v":0},{"$f":"'OB1 - etapa K90 - harmonogram'!AL12","v":0},{"$f":"'OB1 - etapa K90 - harmonogram'!AM12","v":0},{"$f":"'OB1 - etapa K90 - harmonogram'!AN12","v":0},{"$f":"'OB1 - etapa K90 - harmonogram'!AO12","v":0},{"$f":"'OB1 - etapa K90 - harmonogram'!AP12","v":0},{"$f":"'OB1 - etapa K90 - harmonogram'!AQ12","v":0},{"$f":"'OB1 - etapa K90 - harmonogram'!AR12","v":0},{"$f":"'OB1 - etapa K90 - harmonogram'!AS12","v":0},{"$f":"'OB1 - etapa K90 - harmonogram'!AT12","v":0},{"$f":"'OB1 - etapa K90 - harmonogram'!AU12","v":0},{"$f":"'OB1 - etapa K90 - harmonogram'!AV12","v":0},{"$f":"'OB1 - etapa K90 - harmonogram'!AW12","v":0},{"$f":"'OB1 - etapa K90 - harmonogram'!AX12","v":0},{"$f":"'OB1 - etapa K90 - harmonogram'!AY12","v":0},{"$f":"'OB1 - etapa K90 - harmonogram'!AZ12","v":0},{"$f":"'OB1 - etapa K90 - harmonogram'!BA12","v":0},{"$f":"'OB1 - etapa K90 - harmonogram'!BB12","v":0},{"$f":"'OB1 - etapa K90 - harmonogram'!BC12","v":0},{"$f":"'OB1 - etapa K90 - harmonogram'!BD12","v":0},{"$f":"'OB1 - etapa K90 - harmonogram'!BE12","v":0},{"$f":"'OB1 - etapa K90 - harmonogram'!BF12","v":0},{"$f":"'OB1 - etapa K90 - harmonogram'!BG12","v":0},{"$f":"'OB1 - etapa K90 - harmonogram'!BH12","v":0},{"$f":"'OB1 - etapa K90 - harmonogram'!BI12","v":0},{"$f":"'OB1 - etapa K90 - harmonogram'!BJ12","v":0},{"$f":"'OB1 - etapa K90 - harmonogram'!BK12","v":0},{"$f":"'OB1 - etapa K90 - harmonogram'!BL12","v":0}]
[null,"etapa K90 - komplexní vyzkoušení","K90","EUR",{"$f":"'OB1 - etapa K90 - harmonogram'!J14","v":0},{"$f":"'OB1 - etapa K90 - harmonogram'!K15","v":0},{"$f":"'OB1 - etapa K90 - harmonogram'!L15","v":0},{"$f":"'OB1 - etapa K90 - harmonogram'!M15","v":0},{"$f":"'OB1 - etapa K90 - harmonogram'!N15","v":0},{"$f":"'OB1 - etapa K90 - harmonogram'!O15","v":0},{"$f":"'OB1 - etapa K90 - harmonogram'!P15","v":0},{"$f":"'OB1 - etapa K90 - harmonogram'!Q15","v":0},{"$f":"'OB1 - etapa K90 - harmonogram'!R15","v":0},{"$f":"'OB1 - etapa K90 - harmonogram'!S15","v":0},{"$f":"'OB1 - etapa K90 - harmonogram'!T15","v":0},{"$f":"'OB1 - etapa K90 - harmonogram'!U15","v":0},{"$f":"'OB1 - etapa K90 - harmonogram'!V15","v":0},{"$f":"'OB1 - etapa K90 - harmonogram'!W15","v":0},{"$f":"'OB1 - etapa K90 - harmonogram'!X15","v":0},{"$f":"'OB1 - etapa K90 - harmonogram'!Y15","v":0},{"$f":"'OB1 - etapa K90 - harmonogram'!Z15","v":0},{"$f":"'OB1 - etapa K90 - harmonogram'!AA15","v":0},{"$f":"'OB1 - etapa K90 - harmonogram'!AB15","v":0},{"$f":"'OB1 - etapa K90 - harmonogram'!AC15","v":0},{"$f":"'OB1 - etapa K90 - harmonogram'!AD15","v":0},{"$f":"'OB1 - etapa K90 - harmonogram'!AE15","v":0},{"$f":"'OB1 - etapa K90 - harmonogram'!AF15","v":0},{"$f":"'OB1 - etapa K90 - harmonogram'!AG15","v":0},{"$f":"'OB1 - etapa K90 - harmonogram'!AH15","v":0},{"$f":"'OB1 - etapa K90 - harmonogram'!AI15","v":0},{"$f":"'OB1 - etapa K90 - harmonogram'!AJ15","v":0},{"$f":"'OB1 - etapa K90 - harmonogram'!AK15","v":0},{"$f":"'OB1 - etapa K90 - harmonogram'!AL15","v":0},{"$f":"'OB1 - etapa K90 - harmonogram'!AM15","v":0},{"$f":"'OB1 - etapa K90 - harmonogram'!AN15","v":0},{"$f":"'OB1 - etapa K90 - harmonogram'!AO15","v":0},{"$f":"'OB1 - etapa K90 - harmonogram'!AP15","v":0},{"$f":"'OB1 - etapa K90 - harmonogram'!AQ15","v":0},{"$f":"'OB1 - etapa K90 - harmonogram'!AR15","v":0},{"$f":"'OB1 - etapa K90 - harmonogram'!AS15","v":0},{"$f":"'OB1 - etapa K90 - harmonogram'!AT15","v":0},{"$f":"'OB1 - etapa K90 - harmonogram'!AU15","v":0},{"$f":"'OB1 - etapa K90 - harmonogram'!AV15","v":0},{"$f":"'OB1 - etapa K90 - harmonogram'!AW15","v":0},{"$f":"'OB1 - etapa K90 - harmonogram'!AX15","v":0},{"$f":"'OB1 - etapa K90 - harmonogram'!AY15","v":0},{"$f":"'OB1 - etapa K90 - harmonogram'!AZ15","v":0},{"$f":"'OB1 - etapa K90 - harmonogram'!BA15","v":0},{"$f":"'OB1 - etapa K90 - harmonogram'!BB15","v":0},{"$f":"'OB1 - etapa K90 - harmonogram'!BC15","v":0},{"$f":"'OB1 - etapa K90 - harmonogram'!BD15","v":0},{"$f":"'OB1 - etapa K90 - harmonogram'!BE15","v":0},{"$f":"'OB1 - etapa K90 - harmonogram'!BF15","v":0},{"$f":"'OB1 - etapa K90 - harmonogram'!BG15","v":0},{"$f":"'OB1 - etapa K90 - harmonogram'!BH15","v":0},{"$f":"'OB1 - etapa K90 - harmonogram'!BI15","v":0},{"$f":"'OB1 - etapa K90 - harmonogram'!BJ15","v":0},{"$f":"'OB1 - etapa K90 - harmonogram'!BK15","v":0},{"$f":"'OB1 - etapa K90 - harmonogram'!BL15","v":0}]
[null,"etapa K90 - zkušební provoz","K90","EUR",{"$f":"'OB1 - etapa K90 - harmonogram'!J16","v":0},{"$f":"'OB1 - etapa K90 - harmonogram'!K16","v":0},{"$f":"'OB1 - etapa K90 - harmonogram'!L16","v":0},{"$f":"'OB1 - etapa K90 - harmonogram'!M16","v":0},{"$f":"'OB1 - etapa K90 - harmonogram'!N16","v":0},{"$f":"'OB1 - etapa K90 - harmonogram'!O16","v":0},{"$f":"'OB1 - etapa K90 - harmonogram'!P16","v":0},{"$f":"'OB1 - etapa K90 - harmonogram'!Q16","v":0},{"$f":"'OB1 - etapa K90 - harmonogram'!R16","v":0},{"$f":"'OB1 - etapa K90 - harmonogram'!S16","v":0},{"$f":"'OB1 - etapa K90 - harmonogram'!T16","v":0},{"$f":"'OB1 - etapa K90 - harmonogram'!U16","v":0},{"$f":"'OB1 - etapa K90 - harmonogram'!V16","v":0},{"$f":"'OB1 - etapa K90 - harmonogram'!W16","v":0},{"$f":"'OB1 - etapa K90 - harmonogram'!X16","v":0},{"$f":"'OB1 - etapa K90 - harmonogram'!Y16","v":0},{"$f":"'OB1 - etapa K90 - harmonogram'!Z16","v":0},{"$f":"'OB1 - etapa K90 - harmonogram'!AA16","v":0},{"$f":"'OB1 - etapa K90 - harmonogram'!AB16","v":0},{"$f":"'OB1 - etapa K90 - harmonogram'!AC16","v":0},{"$f":"'OB1 - etapa K90 - harmonogram'!AD16","v":0},{"$f":"'OB1 - etapa K90 - harmonogram'!AE16","v":0},{"$f":"'OB1 - etapa K90 - harmonogram'!AF16","v":0},{"$f":"'OB1 - etapa K90 - harmonogram'!AG16","v":0},{"$f":"'OB1 - etapa K90 - harmonogram'!AH16","v":0},{"$f":"'OB1 - etapa K90 - harmonogram'!AI16","v":0},{"$f":"'OB1 - etapa K90 - harmonogram'!AJ16","v":0},{"$f":"'OB1 - etapa K90 - harmonogram'!AK16","v":0},{"$f":"'OB1 - etapa K90 - harmonogram'!AL16","v":0},{"$f":"'OB1 - etapa K90 - harmonogram'!AM16","v":0},{"$f":"'OB1 - etapa K90 - harmonogram'!AN16","v":0},{"$f":"'OB1 - etapa K90 - harmonogram'!AO16","v":0},{"$f":"'OB1 - etapa K90 - harmonogram'!AP16","v":0},{"$f":"'OB1 - etapa K90 - harmonogram'!AQ16","v":0},{"$f":"'OB1 - etapa K90 - harmonogram'!AR16","v":0},{"$f":"'OB1 - etapa K90 - harmonogram'!AS16","v":0},{"$f":"'OB1 - etapa K90 - harmonogram'!AT16","v":0},{"$f":"'OB1 - etapa K90 - harmonogram'!AU16","v":0},{"$f":"'OB1 - etapa K90 - harmonogram'!AV16","v":0},{"$f":"'OB1 - etapa K90 - harmonogram'!AW16","v":0},{"$f":"'OB1 - etapa K90 - harmonogram'!AX16","v":0},{"$f":"'OB1 - etapa K90 - harmonogram'!AY16","v":0},{"$f":"'OB1 - etapa K90 - harmonogram'!AZ16","v":0},{"$f":"'OB1 - etapa K90 - harmonogram'!BA16","v":0},{"$f":"'OB1 - etapa K90 - harmonogram'!BB16","v":0},{"$f":"'OB1 - etapa K90 - harmonogram'!BC16","v":0},{"$f":"'OB1 - etapa K90 - harmonogram'!BD16","v":0},{"$f":"'OB1 - etapa K90 - harmonogram'!BE16","v":0},{"$f":"'OB1 - etapa K90 - harmonogram'!BF16","v":0},{"$f":"'OB1 - etapa K90 - harmonogram'!BG16","v":0},{"$f":"'OB1 - etapa K90 - harmonogram'!BH16","v":0},{"$f":"'OB1 - etapa K90 - harmonogram'!BI16","v":0},{"$f":"'OB1 - etapa K90 - harmonogram'!BJ16","v":0},{"$f":"'OB1 - etapa K90 - harmonogram'!BK16","v":0},{"$f":"'OB1 - etapa K90 - harmonogram'!BL16","v":0}]
[null,"etapa K90 - garanční test A","K90","EUR",{"$f":"'OB1 - etapa K90 - harmonogram'!J18","v":0},{"$f":"'OB1 - etapa K90 - harmonogram'!K18","v":0},{"$f":"'OB1 - etapa K90 - harmonogram'!L18","v":0},{"$f":"'OB1 - etapa K90 - harmonogram'!M18","v":0},{"$f":"'OB1 - etapa K90 - harmonogram'!N18","v":0},{"$f":"'OB1 - etapa K90 - harmonogram'!O18","v":0},{"$f":"'OB1 - etapa K90 - harmonogram'!P18","v":0},{"$f":"'OB1 - etapa K90 - harmonogram'!Q18","v":0},{"$f":"'OB1 - etapa K90 - harmonogram'!R18","v":0},{"$f":"'OB1 - etapa K90 - harmonogram'!S18","v":0},{"$f":"'OB1 - etapa K90 - harmonogram'!T18","v":0},{"$f":"'OB1 - etapa K90 - harmonogram'!U18","v":0},{"$f":"'OB1 - etapa K90 - harmonogram'!V18","v":0},{"$f":"'OB1 - etapa K90 - harmonogram'!W18","v":0},{"$f":"'OB1 - etapa K90 - harmonogram'!X18","v":0},{"$f":"'OB1 - etapa K90 - harmonogram'!Y18","v":0},{"$f":"'OB1 - etapa K90 - harmonogram'!Z18","v":0},{"$f":"'OB1 - etapa K90 - harmonogram'!AA18","v":0},{"$f":"'OB1 - etapa K90 - harmonogram'!AB18","v":0},{"$f":"'OB1 - etapa K90 - harmonogram'!AC18","v":0},{"$f":"'OB1 - etapa K90 - harmonogram'!AD18","v":0},{"$f":"'OB1 - etapa K90 - harmonogram'!AE18","v":0},{"$f":"'OB1 - etapa K90 - harmonogram'!AF18","v":0},{"$f":"'OB1 - etapa K90 - harmonogram'!AG18","v":0},{"$f":"'OB1 - etapa K90 - harmonogram'!AH18","v":0},{"$f":"'OB1 - etapa K90 - harmonogram'!AI18","v":0},{"$f":"'OB1 - etapa K90 - harmonogram'!AJ18","v":0},{"$f":"'OB1 - etapa K90 - harmonogram'!AK18","v":0},{"$f":"'OB1 - etapa K90 - harmonogram'!AL18","v":0},{"$f":"'OB1 - etapa K90 - harmonogram'!AM18","v":0},{"$f":"'OB1 - etapa K90 - harmonogram'!AN18","v":0},{"$f":"'OB1 - etapa K90 - harmonogram'!AO18","v":0},{"$f":"'OB1 - etapa K90 - harmonogram'!AP18","v":0},{"$f":"'OB1 - etapa K90 - harmonogram'!AQ18","v":0},{"$f":"'OB1 - etapa K90 - harmonogram'!AR18","v":0},{"$f":"'OB1 - etapa K90 - harmonogram'!AS18","v":0},{"$f":"'OB1 - etapa K90 - harmonogram'!AT18","v":0},{"$f":"'OB1 - etapa K90 - harmonogram'!AU18","v":0},{"$f":"'OB1 - etapa K90 - harmonogram'!AV18","v":0},{"$f":"'OB1 - etapa K90 - harmonogram'!AW18","v":0},{"$f":"'OB1 - etapa K90 - harmonogram'!AX18","v":0},{"$f":"'OB1 - etapa K90 - harmonogram'!AY18","v":0},{"$f":"'OB1 - etapa K90 - harmonogram'!AZ18","v":0},{"$f":"'OB1 - etapa K90 - harmonogram'!BA18","v":0},{"$f":"'OB1 - etapa K90 - harmonogram'!BB18","v":0},{"$f":"'OB1 - etapa K90 - harmonogram'!BC18","v":0},{"$f":"'OB1 - etapa K90 - harmonogram'!BD18","v":0},{"$f":"'OB1 - etapa K90 - harmonogram'!BE18","v":0},{"$f":"'OB1 - etapa K90 - harmonogram'!BF18","v":0},{"$f":"'OB1 - etapa K90 - harmonogram'!BG18","v":0},{"$f":"'OB1 - etapa K90 - harmonogram'!BH18","v":0},{"$f":"'OB1 - etapa K90 - harmonogram'!BI18","v":0},{"$f":"'OB1 - etapa K90 - harmonogram'!BJ18","v":0},{"$f":"'OB1 - etapa K90 - harmonogram'!BK18","v":0},{"$f":"'OB1 - etapa K90 - harmonogram'!BL18","v":0}]
[null,"etapa K90 - předběžné převzetí díla PAC","K90","EUR",{"$f":"'OB1 - etapa K90 - harmonogram'!J20","v":0},{"$f":"'OB1 - etapa K90 - harmonogram'!K20","v":0},{"$f":"'OB1 - etapa K90 - harmonogram'!L20","v":0},{"$f":"'OB1 - etapa K90 - harmonogram'!M20","v":0},{"$f":"'OB1 - etapa K90 - harmonogram'!N20","v":0},{"$f":"'OB1 - etapa K90 - harmonogram'!O20","v":0},{"$f":"'OB1 - etapa K90 - harmonogram'!P20","v":0},{"$f":"'OB1 - etapa K90 - harmonogram'!Q20","v":0},{"$f":"'OB1 - etapa K90 - harmonogram'!R20","v":0},{"$f":"'OB1 - etapa K90 - harmonogram'!S20","v":0},{"$f":"'OB1 - etapa K90 - harmonogram'!T20","v":0},{"$f":"'OB1 - etapa K90 - harmonogram'!U20","v":0},{"$f":"'OB1 - etapa K90 - harmonogram'!V20","v":0},{"$f":"'OB1 - etapa K90 - harmonogram'!W20","v":0},{"$f":"'OB1 - etapa K90 - harmonogram'!X20","v":0},{"$f":"'OB1 - etapa K90 - harmonogram'!Y20","v":0},{"$f":"'OB1 - etapa K90 - harmonogram'!Z20","v":0},{"$f":"'OB1 - etapa K90 - harmonogram'!AA20","v":0},{"$f":"'OB1 - etapa K90 - harmonogram'!AB20","v":0},{"$f":"'OB1 - etapa K90 - harmonogram'!AC20","v":0},{"$f":"'OB1 - etapa K90 - harmonogram'!AD20","v":0},{"$f":"'OB1 - etapa K90 - harmonogram'!AE20","v":0},{"$f":"'OB1 - etapa K90 - harmonogram'!AF20","v":0},{"$f":"'OB1 - etapa K90 - harmonogram'!AG20","v":0},{"$f":"'OB1 - etapa K90 - harmonogram'!AH20","v":0},{"$f":"'OB1 - etapa K90 - harmonogram'!AI20","v":0},{"$f":"'OB1 - etapa K90 - harmonogram'!AJ20","v":0},{"$f":"'OB1 - etapa K90 - harmonogram'!AK20","v":0},{"$f":"'OB1 - etapa K90 - harmonogram'!AL20","v":0},{"$f":"'OB1 - etapa K90 - harmonogram'!AM20","v":0},{"$f":"'OB1 - etapa K90 - harmonogram'!AN20","v":0},{"$f":"'OB1 - etapa K90 - harmonogram'!AO20","v":0},{"$f":"'OB1 - etapa K90 - harmonogram'!AP20","v":0},{"$f":"'OB1 - etapa K90 - harmonogram'!AQ20","v":0},{"$f":"'OB1 - etapa K90 - harmonogram'!AR20","v":0},{"$f":"'OB1 - etapa K90 - harmonogram'!AS20","v":0},{"$f":"'OB1 - etapa K90 - harmonogram'!AT20","v":0},{"$f":"'OB1 - etapa K90 - harmonogram'!AU20","v":0},{"$f":"'OB1 - etapa K90 - harmonogram'!AV20","v":0},{"$f":"'OB1 - etapa K90 - harmonogram'!AW20","v":0},{"$f":"'OB1 - etapa K90 - harmonogram'!AX20","v":0},{"$f":"'OB1 - etapa K90 - harmonogram'!AY20","v":0},{"$f":"'OB1 - etapa K90 - harmonogram'!AZ20","v":0},{"$f":"'OB1 - etapa K90 - harmonogram'!BA20","v":0},{"$f":"'OB1 - etapa K90 - harmonogram'!BB20","v":0},{"$f":"'OB1 - etapa K90 - harmonogram'!BC20","v":0},{"$f":"'OB1 - etapa K90 - harmonogram'!BD20","v":0},{"$f":"'OB1 - etapa K90 - harmonogram'!BE20","v":0},{"$f":"'OB1 - etapa K90 - harmonogram'!BF20","v":0},{"$f":"'OB1 - etapa K90 - harmonogram'!BG20","v":0},{"$f":"'OB1 - etapa K90 - harmonogram'!BH20","v":0},{"$f":"'OB1 - etapa K90 - harmonogram'!BI20","v":0},{"$f":"'OB1 - etapa K90 - harmonogram'!BJ20","v":0},{"$f":"'OB1 - etapa K90 - harmonogram'!BK20","v":0},{"$f":"'OB1 - etapa K90 - harmonogram'!BL20","v":0}]
[null,"etapa K90 - finální převzetí díla FAC","K90","EUR",{"$f":"'OB1 - etapa K90 - harmonogram'!J22","v":0},{"$f":"'OB1 - etapa K90 - harmonogram'!K22","v":0},{"$f":"'OB1 - etapa K90 - harmonogram'!L22","v":0},{"$f":"'OB1 - etapa K90 - harmonogram'!M22","v":0},{"$f":"'OB1 - etapa K90 - harmonogram'!N22","v":0},{"$f":"'OB1 - etapa K90 - harmonogram'!O22","v":0},{"$f":"'OB1 - etapa K90 - harmonogram'!P22","v":0},{"$f":"'OB1 - etapa K90 - harmonogram'!Q22","v":0},{"$f":"'OB1 - etapa K90 - harmonogram'!R22","v":0},{"$f":"'OB1 - etapa K90 - harmonogram'!S22","v":0},{"$f":"'OB1 - etapa K90 - harmonogram'!T22","v":0},{"$f":"'OB1 - etapa K90 - harmonogram'!U22","v":0},{"$f":"'OB1 - etapa K90 - harmonogram'!V22","v":0},{"$f":"'OB1 - etapa K90 - harmonogram'!W22","v":0},{"$f":"'OB1 - etapa K90 - harmonogram'!X22","v":0},{"$f":"'OB1 - etapa K90 - harmonogram'!Y22","v":0},{"$f":"'OB1 - etapa K90 - harmonogram'!Z22","v":0},{"$f":"'OB1 - etapa K90 - harmonogram'!AA22","v":0},{"$f":"'OB1 - etapa K90 - harmonogram'!AB22","v":0},{"$f":"'OB1 - etapa K90 - harmonogram'!AC22","v":0},{"$f":"'OB1 - etapa K90 - harmonogram'!AD22","v":0},{"$f":"'OB1 - etapa K90 - harmonogram'!AE22","v":0},{"$f":"'OB1 - etapa K90 - harmonogram'!AF22","v":0},{"$f":"'OB1 - etapa K90 - harmonogram'!AG22","v":0},{"$f":"'OB1 - etapa K90 - harmonogram'!AH22","v":0},{"$f":"'OB1 - etapa K90 - harmonogram'!AI22","v":0},{"$f":"'OB1 - etapa K90 - harmonogram'!AJ22","v":0},{"$f":"'OB1 - etapa K90 - harmonogram'!AK22","v":0},{"$f":"'OB1 - etapa K90 - harmonogram'!AL22","v":0},{"$f":"'OB1 - etapa K90 - harmonogram'!AM22","v":0},{"$f":"'OB1 - etapa K90 - harmonogram'!AN22","v":0},{"$f":"'OB1 - etapa K90 - harmonogram'!AO22","v":0},{"$f":"'OB1 - etapa K90 - harmonogram'!AP22","v":0},{"$f":"'OB1 - etapa K90 - harmonogram'!AQ22","v":0},{"$f":"'OB1 - etapa K90 - harmonogram'!AR22","v":0},{"$f":"'OB1 - etapa K90 - harmonogram'!AS22","v":0},{"$f":"'OB1 - etapa K90 - harmonogram'!AT22","v":0},{"$f":"'OB1 - etapa K90 - harmonogram'!AU22","v":0},{"$f":"'OB1 - etapa K90 - harmonogram'!AV22","v":0},{"$f":"'OB1 - etapa K90 - harmonogram'!AW22","v":0},{"$f":"'OB1 - etapa K90 - harmonogram'!AX22","v":0},{"$f":"'OB1 - etapa K90 - harmonogram'!AY22","v":0},{"$f":"'OB1 - etapa K90 - harmonogram'!AZ22","v":0},{"$f":"'OB1 - etapa K90 - harmonogram'!BA22","v":0},{"$f":"'OB1 - etapa K90 - harmonogram'!BB22","v":0},{"$f":"'OB1 - etapa K90 - harmonogram'!BC22","v":0},{"$f":"'OB1 - etapa K90 - harmonogram'!BD22","v":0},{"$f":"'OB1 - etapa K90 - harmonogram'!BE22","v":0},{"$f":"'OB1 - etapa K90 - harmonogram'!BF22","v":0},{"$f":"'OB1 - etapa K90 - harmonogram'!BG22","v":0},{"$f":"'OB1 - etapa K90 - harmonogram'!BH22","v":0},{"$f":"'OB1 - etapa K90 - harmonogram'!BI22","v":0},{"$f":"'OB1 - etapa K90 - harmonogram'!BJ22","v":0},{"$f":"'OB1 - etapa K90 - harmonogram'!BK22","v":0},{"$f":"'OB1 - etapa K90 - harmonogram'!BL22","v":0}]
[]
[null,"Dílčí ceny po měsících  ",null,null,{"$f":"SUM(E7:E38)","v":0},0,0,0,0,0,0,0,0,0,0,0,0,0,0,0,0,0,0,0,0,0,0,0,0,0,0,0,0,0,0,0,0,0,0,0,0,0,0,0,0,0,0,0,0,0,0,0,0,0,0,0,0,0,0]
[null,"Cena celkem",null,null,{"$f":"SUM(E40:BG40)","v":0}]
[]
[null,"Poznámka"]
[null,"Zhotovitel na tomto listu nevyplňuje žádné hodnoty. Hodnoty jsou přenášeny z předcházejících listů."]
[null,"Vstupní technická jednání "]
[null,"Závazné technické parametry pro OB 6 (Stavba) "]
[null,"Závazné technické parametry pro OB 1 (Palivové hospodářství) "]
[null,"Závazné technické parametry pro ostatní OB, pro ostatní dodavatele technologických celků"]
[null,"Odsouhlasená prováděcí dokumentace pro nový kotel K20"]
[null,"Předání a převzetí staveniště pro K20"]
[null,"neobsazeno"]
[null,"Kotelna K20 - vlastní kotel včetně všech komponentů"]
[null,"Kotelna K20 - provozní zásobníky paliva včetně dopravy štěpky do kotle"]
[null,"Kotelna K20 - ventilátory (vzduchové, spalinové, recirkulační) včetně vnitřních spalinovodů"]
[null,"Kotelna K20 - tkaninový filtr"]
[null,"Kotelna K20 - technologie DSI"]
[null,"Kotelna K20 - popelové hospodářství"]
[null,"Kotelna K20 - elektroinstalace"]
[null,"Kotelna K20 - ASŘ"]
[null,"Kotelna K20 - kompresorová stanice"]
[null,"Kotelna K20 - připojení médií"]
[null,"Kotelna K20 - venkovní rozvody spalinovodů včetně napojení na komín"]
[null,"Kotelna K20 - venkovní konstrukce potrubního mostu (připojení popelového hospodářství a SNCR)"]
[null,"Kotelna K20 - opláštění a zastřešení, dokončení všech stavebních činností"]
[null,"Kotelna K20 - další výše nevyjmenované položky"]
[null,"Kotelna K20 - dokončení stavebních prací"]
[null,"Kotelna K20 - ukončení montážních prací"]
[null,"Kotelna K20 - školení zaměstnanců provozu"]
[null,"Kotelna K20 - příprava ke kompexnímu vyzkoušení"]
[null,"Kotelna K20 - komplexní vyzkoušení"]
[null,"Kotelna K20 - zkušební provoz"]
[null,"Kotelna K20 - garanční test A"]
[null,"Kotelna K20 - předběžné převzetí díla PAC"]
[null,"Kotelna K20 - garanční test B"]
[null,"Kotelna K20 - finální převzetí díla FAC"]