{"text_format":"1","workbook":"xlsx","n_sheets":9,"sheets":["OB1 - stage K20","OB1 - stage K80","OB1 - stage K90","total","OB1 - stage K20 - timetable","OB1 - stage K80 - timetable","OB1 - stage K90 - timetable","timetable","financ. performance - timetable"],"not_rendered":{"charts":0,"images":2,"macros":1,"external_links":0,"defined_names":0,"comments":0,"pivot_tables":0},"unopened":[],"bounds":{"document_bytes":16777216,"sheet_cells":100000,"rows_first":2000,"rows_last":500,"rows_between":2000,"halvings":0,"cell_chars":16384,"cell_head_chars":4096},"cells_cut":0,"cells_raw":0,"read":"whole","date_system":"1900"}

{"sheet":"OB1 - stage K20","index":0,"n_rows":101,"n_cols":8,"rows_kept":101,"cut":false,"hidden":false,"merged":[[74,0,85,0],[95,0,97,7],[1,0,1,7],[10,0,19,0],[33,0,38,0],[26,0,32,0],[20,0,25,0],[62,0,73,0],[3,7,4,7],[3,0,3,1],[39,0,49,0],[50,0,61,0]]}
[]
["Annex K to the tender documentation - price offer and timetable"]
[]
["Tender price for the work OB 1",null,"Amount","Unit price","Delivery price","Installation price","Item price","Note"]
["Milestones","Item","(pcs, m, m2)","(EUR / pcs without VAT)","(EUR without VAT)","(EUR without VAT)","(EUR without VAT)"]
["Binding technical parameters for OB 6",null,"-","-",null,"-",{"$f":"E6","v":0}]
["Binding technical parameters for OB 2",null,"-","-",null,"-",{"$f":"E7","v":0}]
["Binding technical parameters for other OB",null,"-","-",null,"-",0]
["Implementation documentation for OB 1",null,"-","-",null,"-",{"$f":"E9","v":0}]
[null,"Subtotal","-","-",{"$f":"SUM(E6:E9)","v":0},"-",{"$f":"SUM(G6:G9)","v":0}]
["SO 101, SO 106 - Sorting and substation building (according to Annexes A1-13)","PS 101 - Receipt of wood chips by railways",null,null,{"$f":"C11*D11","v":0},null,{"$f":"E11+F11","v":0}]
[null,"PS 102 - Receipt of wood chips by road transport",null,null,{"$f":"C12*D12","v":0},null,{"$f":"E12+F12","v":0}]
[null,"PS 103 - Sorting and treatment of wood chips",null,null,0,null,{"$f":"E13+F13","v":0}]
[null,"PS 104 - Belt transport of wood chips",null,null,{"$f":"C14*D14","v":0},null,{"$f":"E14+F14","v":0}]
[null,"PS 106 - Air handling of wood chip management, dedusting",null,null,0,null,0]
[null,"PS 107 - Electrical part, wood chip management",null,null,0,null,0]
[null,"PS 108 - Automatic process control system, wood chip management",null,null,0,null,0]
[null,"Automated wood chip sampling system - complete delivery",null,null,0,null,0]
[null,"Other",null,null,{"$f":"C19*D19","v":0},null,{"$f":"E19+F19","v":0}]
[null,"Subtotal","-","-",{"$f":"SUM(E11:E19)","v":0},{"$f":"SUM(F11:F19)","v":0},{"$f":"SUM(G11:G19)","v":0}]
["SO 103 - Transport of wood chips from SO 101 to SO 102 (according to Annexes A1-13)","PS 104 - Belt transport of wood chips",null,null,{"$f":"C21*D21","v":0},null,{"$f":"E21+F21","v":0}]
[null,"PS 106 - Air handling of wood chip management, dedusting",null,null,0,null,0]
[null,"PS 107 - Electrical part, wood chip management",null,null,0,null,0]
[null,"PS 108 - Automatic process control system, wood chip management",null,null,{"$f":"C24*D24","v":0},null,{"$f":"E24+F24","v":0}]
[null,"Other",null,null,0,null,0]
[null,"Subtotal","-","-",{"$f":"SUM(E21:E25)","v":0},{"$f":"SUM(F21:F25)","v":0},{"$f":"SUM(G21:G25)","v":0}]
["SO 102 - Wood chip storage technology (according to Annexes A1-13)","PS 104 - Belt transport of wood chips",null,null,0,null,0]
[null,"PS 105 - Wood chip storage technology",null,null,0,null,0]
[null,"PS 106 - Air handling of wood chip management, dedusting",null,null,{"$f":"C29*D29","v":0},null,{"$f":"E29+F29","v":0}]
[null,"PS 107 - Electrical part, wood chip management",null,null,{"$f":"C30*D30","v":0},null,{"$f":"E30+F30","v":0}]
[null,"PS 108 - Automatic process control system, wood chip management",null,null,0,null,0]
[null,"Other",null,null,0,null,0]
[null,"Subtotal","-","-",{"$f":"SUM(E27:E32)","v":0},0,{"$f":"SUM(G27:G32)","v":0}]
["SO 104 - Transport of wood chips to boiler rooms (K20) (according to Annexes A1-13)","PS 104 - Belt transport of wood chips",null,null,{"$f":"C34*D34","v":0},null,{"$f":"E34+F34","v":0}]
[null,"PS 106 - Air handling of wood chip management system, dedusting",null,null,0,null,0]
[null,"PS 107 - Electrical part, wood chip management",null,null,0,null,0]
[null,"PS 108 - Automatic process control system, wood chip management",null,null,0,null,0]
[null,"Other",null,null,0,null,0]
[null,"Subtotal","-","-",{"$f":"SUM(E34:E38)","v":0},{"$f":"SUM(F34:F38)","v":0},{"$f":"SUM(G34:G38)","v":0}]
["SO 101, SO 106 - A4.4 Construction part","Sheathing",null,null,0,null,0]
[null,"Roof cladding including roof drainage",null,null,0,null,0]
[null,"Internal non-load bearing structures, floors, surface finishes, hole fillers",null,null,{"$f":"C42*D42","v":0},null,{"$f":"E42+F42","v":0}]
[null,"Staircases, ladders, service platforms, handrails, auxiliary steel structures",null,null,0,null,0]
[null,"Waterproofing, thermal and acoustic insulation, vibration isolation",null,null,0,null,0]
[null,"Internal wiring of HVAC building installations (medical technology, central heating and cooling, HVAC, electrical)",null,null,0,null,0]
[null,"Technological steel structures, accesses, footbridges, staircases",null,null,0,null,0]
[null,"Construction temporary structures",null,null,0,null,0]
[null,"Lifting equipment",null,null,0,null,0]
[null,"Other",null,null,0,null,0]
[null,"Subtotal","-","-",{"$f":"SUM(E40:E49)","v":0},0,{"$f":"SUM(G40:G49)","v":0}]
["SO 102.1 - A4.4 Construction part","Sheathing",null,null,0,null,0]
[null,"Roof cladding including roof drainage",null,null,0,null,0]
[null,"Internal non-load bearing structures, floors, surface finishes, hole fillers",null,null,0,null,0]
[null,"Staircases, ladders, service platforms, railings, auxiliary steel structures, retaining elements on the roof structure",null,null,0,null,0]
[null,"Waterproofing, thermal and acoustic insulation, vibration isolation",null,null,0,null,0]
[null,"Internal wiring of HVAC building installations (medical technology, central heating and cooling, HVAC, electrical).",null,null,0,null,0]
[null,"Technological steel structures, accesses, footbridges, staircases",null,null,0,null,0]
[null,"Construction temporary structures",null,null,{"$f":"C58*D58","v":0},null,{"$f":"E58+F58","v":0}]
[null,"Lifting equipment, lift",null,null,{"$f":"C59*D59","v":0},null,{"$f":"E59+F59","v":0}]
[null,"Other",null,null,{"$f":"C60*D60","v":0},null,{"$f":"E60+F60","v":0}]
[null,null,null,null,0,null,0]
[null,"Subtotal","-","-",{"$f":"SUM(E51:E61)","v":0},{"$f":"SUM(F51:F61)","v":0},0]
["SO 103.1 - A4.4 Construction part","Sheathing",null,null,0,null,0]
[null,"Roof cladding including roof drainage",null,null,{"$f":"C64*D64","v":0},null,{"$f":"E64+F64","v":0}]
[null,"Internal non-load bearing structures, floors, surface finishes, hole fillers",null,null,0,null,0]
[null,"Staircases, ladders, service platforms, handrails, auxiliary steel structures",null,null,0,null,0]
[null,"Waterproofing, thermal and acoustic insulation, vibration isolation",null,null,0,null,0]
[null,"Internal wiring of HVAC building installations (medical technology, central heating and cooling, HVAC, electrical)",null,null,0,null,0]
[null,"Technological steel structures, accesses, footbridges, staircases",null,null,0,null,0]
[null,"Construction temporary structures",null,null,{"$f":"C70*D70","v":0},null,{"$f":"E70+F70","v":0}]
[null,"Lifting equipment",null,null,{"$f":"C71*D71","v":0},null,{"$f":"E71+F71","v":0}]
[null,"Other",null,null,0,null,0]
[null,null,null,null,0,null,0]
[null,"Subtotal","-","-",{"$f":"SUM(E63:E73)","v":0},{"$f":"SUM(F63:F73)","v":0},{"$f":"SUM(G63:G73)","v":0}]
["SO 104.1 - A4.4 Construction part","Sheathing",null,null,{"$f":"C75*D75","v":0},null,{"$f":"E75+F75","v":0}]
[null,"Roof cladding including roof drainage",null,null,0,null,0]
[null,"Internal non-load bearing structures, floors, surface finishes, hole fillers",null,null,0,null,0]
[null,"Staircases, ladders, service platforms, handrails, auxiliary steel structures",null,null,0,null,0]
[null,"Waterproofing, thermal and acoustic insulation, vibration isolation",null,null,0,null,0]
[null,"Internal wiring of HVAC building installations (medical technology, central heating and cooling, HVAC, electrical)",null,null,0,null,0]
[null,"Technological steel structures, accesses, footbridges, staircases",null,null,0,null,0]
[null,"Construction temporary structures",null,null,0,null,0]
[null,"Lifting equipment",null,null,0,null,0]
[null,"Other",null,null,0,null,0]
[null,null,null,null,0,null,0]
[null,"Subtotal","-","-",{"$f":"SUM(E75:E85)","v":0},{"$f":"SUM(F75:F85)","v":0},{"$f":"SUM(G75:G85)","v":0}]
["Training of operation staff",null,"-","-",null,"-",{"$f":"E87","v":0}]
["Comprehensive testing",null,"-","-",null,"-",{"$f":"E88","v":0}]
["Test operation",null,"-","-",null,"-",0]
["Warranty test A",null,"-","-",null,"-",0]
["Preliminary acceptance of the PAC work",null,"-","-",null,"-",0]
["Final acceptance of the work FAC",null,"-","-",null,"-",0]
["Total *",null,null,null,{"$f":"E10+E20+E26+E33+E39+E50+E62+E74+E86+E87+E88+E89+E90+E91+E92","v":0},{"$f":"F20+F26+F33+F39+F50+F62+F74+F86","v":0},{"$f":"G10+G20+G26+G33+G39+G50+G62+G74+G86+G87+G88+G89+G90+G91+G92","v":0}]
[]
["Note:"]
["* The item  'total ' is always considered as complete for the functional unit and includes the prices of all performances provided by the contractor under the contract or those to be provided under the contract to achieve the purpose of the contract, without such performances being expressly mentioned here or in the contract. Items not specified but necessary for the functional unit shall be included under the heading 'Other'."]
[]
[]
[]
["The values of cells 'E93', 'F93' and 'G93' are transferred to the sheet 'total'."]
["The contractor shall fill in columns 'C', 'D', 'E' and 'F' only in uncoloured cells."]

{"sheet":"OB1 - stage K80","index":1,"n_rows":36,"n_cols":8,"rows_kept":36,"cut":false,"hidden":false,"merged":[[3,0,3,1],[1,0,1,7],[30,0,32,7],[11,0,21,0],[5,0,10,0],[3,7,4,7]]}
[]
["Annex K to the tender documentation - price offer and timetable"]
[]
["Tender price OB1 - stage K80",null,"Amount","Unit price","Delivery price","Installation price","Item price","Note"]
["Milestones","Item","(pcs, m, m2)","(EUR / pcs without VAT)","(EUR without VAT)","(EUR without VAT)","(EUR without VAT)"]
["SO 104 - Technical part A1-13 (without A4.4)","PS 104 - Belt transport of wood chips",null,null,{"$f":"C6*D6","v":0},null,{"$f":"E6+F6","v":0}]
[null,"PS 106 - Air handling of wood chip management, dedusting",null,null,0,null,0]
[null,"PS 107 - Electrical part, wood chip management",null,null,0,null,0]
[null,"PS 108 - Automatic process control system, wood chip management",null,null,0,null,0]
[null,"Other",null,null,0,null,0]
[null,"Subtotal","-","-",{"$f":"SUM(E6:E10)","v":0},{"$f":"SUM(F6:F10)","v":0},{"$f":"SUM(G6:G10)","v":0}]
["SO 104.1 - A4.4 Construction part","Sheathing",null,null,{"$f":"C12*D12","v":0},null,{"$f":"E12+F12","v":0}]
[null,"Roof cladding including roof drainage",null,null,0,null,0]
[null,"Internal non-load bearing structures, floors, surface finishes, hole fillers",null,null,0,null,0]
[null,"Staircases, ladders, service platforms, handrails, auxiliary steel structures",null,null,0,null,0]
[null,"Waterproofing, thermal and acoustic insulation, vibration isolation",null,null,0,null,0]
[null,"Internal wiring of HVAC building installations (medical technology, central heating and cooling, HVAC, electrical)",null,null,0,null,0]
[null,"Technological steel structures, accesses, footbridges, staircases",null,null,{"$f":"C18*D18","v":0},null,{"$f":"E18+F18","v":0}]
[null,"Construction and technical provisions, dismantling",null,null,0,null,0]
[null,"Lifting equipment",null,null,0,null,0]
[null,"Other",null,null,0,null,0]
[null,"Subtotal","-","-",{"$f":"SUM(E12:E21)","v":0},0,{"$f":"SUM(G12:G21)","v":0}]
["Comprehensive testing",null,"-","-",null,"-",{"$f":"E23","v":0}]
["Test operation",null,"-","-",null,"-",0]
["Warranty test A",null,"-","-",null,"-",0]
["Preliminary acceptance of the PAC work",null,"-","-",null,"-",0]
["Final acceptance of the work FAC",null,"-","-",null,"-",0]
["Total *",null,null,null,{"$f":"E11+E22+E23+E24+E25+E26+E27","v":0},{"$f":"F11+F22","v":0},{"$f":"G11+G22+G23+G24+G25+G26+G27","v":0}]
[]
["Note:"]
["* The item  'total ' is always considered as complete for the functional unit and includes the prices of all performances provided by the contractor under the contract or those to be provided under the contract to achieve the purpose of the contract, without such performances being expressly mentioned here or in the contract. Items not specified but necessary for the functional unit shall be included under the heading 'Other'."]
[]
[]
[]
["The values of cells 'E35', 'F35' and 'G35' are transferred to the sheet 'total'. "]
["The contractor shall fill in columns 'C', 'D', 'E' and 'F' only in uncoloured cells."]

{"sheet":"OB1 - stage K90","index":2,"n_rows":36,"n_cols":8,"rows_kept":36,"cut":false,"hidden":false,"merged":[[1,0,1,7],[3,0,3,1],[3,7,4,7],[30,0,33,7],[27,0,27,1],[5,0,10,0],[11,0,21,0]]}
[]
["Annex K to the tender documentation - price offer and timetable"]
[]
["Tender price OB1 - stage K90",null,"Amount","Unit price","Delivery price","Installation price","Item price","Note"]
["Milestones","Item","(pcs, m, m2)","(EUR / pcs without VAT)","(EUR without VAT)","(EUR without VAT)","(EUR without VAT)"]
["SO 104 - Technical part A1-13 (without A4.4)","PS 104 - Belt transport of wood chips",null,null,{"$f":"C6*D6","v":0},null,{"$f":"E6+F6","v":0}]
[null,"PS 106 - Air handling of wood chip management, dedusting",null,null,0,null,0]
[null,"PS 107 - Electrical part, wood chip management",null,null,0,null,0]
[null,"PS 108 - Automatic process control system, wood chip management",null,null,0,null,0]
[null,"Other",null,null,0,null,0]
[null,"Subtotal","-","-",{"$f":"SUM(E6:E10)","v":0},{"$f":"SUM(F6:F10)","v":0},{"$f":"SUM(G6:G10)","v":0}]
["SO 104.1 - A4.4 Construction part","Sheathing",null,null,{"$f":"C12*D12","v":0},null,{"$f":"E12+F12","v":0}]
[null,"Roof cladding including roof drainage",null,null,0,null,0]
[null,"Internal non-load bearing structures, floors, surface finishes, hole fillers",null,null,0,null,0]
[null,"Staircases, ladders, service platforms, handrails, auxiliary steel structures",null,null,0,null,0]
[null,"Waterproofing, thermal and acoustic insulation, vibration isolation",null,null,0,null,0]
[null,"Internal wiring of HVAC building installations (medical technology, central heating and cooling, HVAC, electrical)",null,null,0,null,0]
[null,"Technological steel structures, accesses, footbridges, staircases",null,null,0,null,0]
[null,"Construction and technical provisions, dismantling",null,null,0,null,0]
[null,"Lifting equipment",null,null,0,null,0]
[null,"Other",null,null,0,null,0]
[null,"Subtotal","-","-",{"$f":"SUM(E12:E21)","v":0},0,{"$f":"SUM(G12:G21)","v":0}]
["Comprehensive testing",null,"-","-",null,"-",{"$f":"E23","v":0}]
["Test operation",null,"-","-",null,"-",0]
["Warranty test A",null,"-","-",null,"-",0]
["Preliminary acceptance of the PAC work",null,"-","-",null,"-",0]
["Final acceptance of the work FAC",null,"-","-",null,"-",0]
["Total *",null,null,null,{"$f":"E11+E22+E23+E24+E25+E26+E27","v":0},{"$f":"F11+F22","v":0},{"$f":"G11+G22+G23+G24+G25+G26+G27","v":0}]
[]
["Note:"]
["* The item  'total ' is always considered as complete for the functional unit and includes the prices of all performances provided by the contractor under the contract or those to be provided under the contract to achieve the purpose of the contract, without such performances being expressly mentioned here or in the contract. Items not specified but necessary for the functional unit shall be included under the heading 'Other'."]
[]
[]
[]
["The values of cells 'E93', 'F93' and 'G93' are transferred to the sheet 'total'."]
["The contractor shall fill in columns 'C', 'D', 'E' and 'F' only in uncoloured cells."]

{"sheet":"total","index":3,"n_rows":14,"n_cols":4,"rows_kept":14,"cut":false,"hidden":false,"merged":[[3,0,3,3],[1,0,1,7]]}
[]
["Annex K to the tender documentation - price offer and timetable"]
[]
["Summary - total tender price"]
["Stage","Delivery price (EUR)","Installation price (EUR)","Total item price (EUR)"]
["OB1 - stage K20",{"$f":"'OB1 - stage K20'!E93","v":0},{"$f":"'OB1 - stage K20'!F93","v":0},{"$f":"'OB1 - stage K20'!G93","v":0}]
["OB1 - stage K80",{"$f":"'OB1 - stage K80'!E28","v":0},{"$f":"'OB1 - stage K80'!F28","v":0},{"$f":"'OB1 - stage K80'!G28","v":0}]
["OB1 - stage K90",{"$f":"'OB1 - stage K90'!E28","v":0},{"$f":"'OB1 - stage K90'!F28","v":0},{"$f":"'OB1 - stage K90'!G28","v":0}]
["Total price (without VAT)",{"$f":"SUM(B6:B8)","v":0},{"$f":"SUM(C6:C8)","v":0},{"$f":"SUM(D6:D8)","v":0}]
[]
["Note:"]
[" - no values are filled in this sheet"]
[" - all price values are transferred to the spreadsheet from sheets 'OB1 - stage K20', 'OB1 - stage K80' a 'OB1 - stage K90'"]
["*the time schedule must be filled in only after the price tables have been completed"]

{"sheet":"OB1 - stage K20 - timetable","index":4,"n_rows":75,"n_cols":64,"rows_kept":75,"cut":false,"hidden":false,"merged":[[49,9,49,63],[17,0,20,0],[21,0,24,0],[25,0,28,0],[29,0,32,0],[43,3,44,3],[45,3,46,3],[48,1,48,8],[49,1,49,8],[35,3,36,3],[37,3,38,3],[39,3,40,3],[41,3,42,3],[35,6,36,6],[37,6,38,6],[39,6,40,6],[41,6,42,6],[43,6,44,6],[45,6,46,6],[43,1,44,1],[43,2,44,2],[31,6,32,6],[45,1,46,1],[45,2,46,2],[37,1,38,1],[37,2,38,2],[39,1,40,1],[39,2,40,2],[25,6,26,6],[27,6,28,6],[27,7,28,7],[29,7,30,7],[31,7,32,7],[35,7,36,7],[37,7,38,7],[39,7,40,7],[41,7,42,7],[43,7,44,7],[45,7,46,7],[29,6,30,6],[23,2,24,2],[25,1,26,1],[27,1,28,1],[27,2,28,2],[29,2,30,2],[31,3,32,3],[31,1,32,1],[31,2,32,2],[29,1,30,1],[27,3,28,3],[29,3,30,3],[8,6,9,6],[10,6,11,6],[12,6,13,6],[14,6,15,6],[17,6,18,6],[19,6,20,6],[21,6,22,6],[23,6,24,6],[10,3,11,3],[14,1,15,1],[14,2,15,2],[25,2,26,2],[8,3,9,3],[8,2,9,2],[10,1,11,1],[10,2,11,2],[8,1,9,1],[19,1,20,1],[12,3,13,3],[14,3,15,3],[17,3,18,3],[19,3,20,3],[21,3,22,3],[23,3,24,3],[25,3,26,3],[17,1,18,1],[17,2,18,2],[19,2,20,2],[21,1,22,1],[21,2,22,2],[23,1,24,1],[41,1,42,1],[41,2,42,2],[35,1,36,1],[35,2,36,2],[43,4,44,4],[45,4,46,4],[8,4,9,4],[10,4,11,4],[12,4,13,4],[14,4,15,4],[17,4,18,4],[19,4,20,4],[21,4,22,4],[23,4,24,4],[25,4,26,4],[27,4,28,4],[29,4,30,4],[31,4,32,4],[35,4,36,4],[37,4,38,4],[39,4,40,4],[41,4,42,4],[12,1,13,1],[12,2,13,2],[43,5,44,5],[45,5,46,5],[8,5,9,5],[10,5,11,5],[12,5,13,5],[14,5,15,5],[17,5,18,5],[19,5,20,5],[21,5,22,5],[23,5,24,5],[25,5,26,5],[27,5,28,5],[29,5,30,5],[31,5,32,5],[35,5,36,5],[37,5,38,5],[39,5,40,5],[41,5,42,5],[3,9,3,63],[3,0,4,0],[3,1,4,1],[3,2,4,2],[3,3,4,3],[3,4,4,4],[3,5,4,5],[3,6,4,6],[3,8,4,8],[8,7,9,7],[10,7,11,7],[12,7,13,7],[14,7,15,7],[17,7,18,7],[19,7,20,7],[21,7,22,7],[23,7,24,7],[25,7,26,7]]}
[]
[null,"Annex K to the tender documentation - price offer and timetable"]
[]
["Technological and construction units","Milestones","Stage","Comment","Earliest beginning (month)","Latest End (month)","Price per item without VAT (EUR)",null,"Deadline / price without VAT (EUR)","Period"]
[null,null,null,null,null,null,null,null,null,"2024-06-01","2024-07-02","2024-08-02","2024-09-02","2024-10-03","2024-11-03","2024-12-04","2025-01-04","2025-02-04","2025-03-07","2025-04-07","2025-05-08","2025-06-08","2025-07-09","2025-08-09","2025-09-09","2025-10-10","2025-11-10","2025-12-11","2026-01-11","2026-02-11","2026-03-14","2026-04-14","2026-05-15","2026-06-15","2026-07-16","2026-08-16","2026-09-16","2026-10-17","2026-11-17","2026-12-18","2027-01-18","2027-02-18","2027-03-21","2027-04-21","2027-05-22","2027-06-22","2027-07-23","2027-08-23","2027-09-23","2027-10-24","2027-11-24","2027-12-25","2028-01-25","2028-02-25","2028-03-27","2028-04-27","2028-05-28","2028-06-28","2028-07-29","2028-08-29","2028-09-29","2028-10-30","2028-11-30","2028-12-31"]
[null,0,0,20,null,null,null,null,null,1,2,3,4,5,6,7,8,9,10,11,12,13,14,15,16,17,18,19,20,21,22,23,24,25,26,27,28,29,30,31,32,33,34,35,36,37,38,39,40,41,42,43,44,45,46,47,48,49,50,51,52,53,54,55]
[null,"Signing the contract",null,null,null,null,null,null,"deadline"]
[null,"Initial technical negotiations ","K20",null,null,null,null,null,"deadline"]
[null,"Binding technical parameters for OB 6 (Construction) ","K20","e.g. loads for upper silo construction",1,4,{"$f":"SUM(J10:BL10)","v":0},null,"deadline"]
[null,null,null,null,null,null,null,null,"price"]
[null,"Binding technical parameters for OB 2 (Boilers) ","K20","e.g. compressed air consumption and quality",1,4,{"$f":"SUM(J12:BL12)","v":0},null,"deadline"]
[null,null,null,null,null,null,null,null,"price"]
[null,"Binding technical parameters for other OB, for other suppliers of technological units","K20",null,1,4,{"$f":"SUM(J14:BL14)","v":0},null,"deadline"]
[null,null,null,null,null,null,null,null,"price"]
[null,"Approved implementation documentation OB1 - Fuel management","K20",null,1,12,{"$f":"SUM(J16:BL16)","v":0},null,"deadline"]
[null,null,null,null,null,null,null,null,"price"]
[null,"Handover and acceptance of the construction site","K20",null,1,12,null,null,"deadline"]
["SO 101, SO 106 - Building of sorting plant and substation","A1-A13 - Technological part (PS 101,PS 102, PS 103, PS 104, PS 106, PS 107, PS 108)","K20",null,11,19,{"$f":"SUM(J19:BL19)","v":0},null,"deadline"]
[null,null,null,null,null,null,null,null,"price"]
[null,"A4.4 - Construction part (SO 101, SO 106)","K20",null,11,19,{"$f":"SUM(J21:BL21)","v":0},null,"deadline"]
[null,null,null,null,null,null,null,null,"price"]
["SO 103 - Transport of wood chips","A1-A13 - Technological part (PS 103, PS 104, PS 106, PS 107, PS 108)","K20",null,11,29,{"$f":"SUM(J23:BL23)","v":0},null,"deadline"]
[null,null,null,null,null,null,null,null,"price"]
[null,"A4.4 -Construction part (SO 103)","K20",null,11,29,{"$f":"SUM(J25:BL25)","v":0},null,"deadline"]
[null,null,null,null,null,null,null,null,"price"]
["SO 102 - Wood chip storage technology","A1-A13 - Technological part (PS 105, PS 106, PS 107, PS 108)","K20",null,20,29,{"$f":"SUM(J27:BL27)","v":0},null,"deadline"]
[null,null,null,null,null,null,null,null,"price"]
[null,"A4.4 - Construction part (SO 102)","K20",null,20,29,{"$f":"SUM(J29:BL29)","v":0},null,"deadline"]
[null,null,null,null,null,null,null,null,"price"]
["SO 104 - Transport of wood chips to boiler room K20","A1-A13 - Technological part (PS 104, PS 106, PS 107, PS 108)","K20",null,11,29,{"$f":"SUM(J31:BL31)","v":0},null,"deadline"]
[null,null,null,null,null,null,null,null,"price"]
[null,"A4.4 - Construction part (SO 104)","K20",null,11,29,{"$f":"SUM(J33:BL33)","v":0},null,"deadline"]
[null,null,null,null,null,null,null,null,"price"]
[null,"OB1 - stage K20 -  completion of construction works","K20","including the return of site equipment",1,31,null,null,"deadline"]
[null,"OB1 - stage K20 - completion of installation works","K20","including return of site equipment",1,31,null,null,"deadline"]
[null,"OB1 - stage K20 - training of operation staff","K20",null,1,43,{"$f":"SUM(J37:BL37)","v":0},null,"deadline"]
[null,null,null,null,null,null,null,null,"price"]
[null,"OB1 - stage K20 - comprehensive testing","K20",null,28,31,{"$f":"SUM(J39:BL39)","v":0},null,"deadline"]
[null,null,null,null,null,null,null,null,"price"]
[null,"OB1 - stage K20 - test operation","K20",null,28,31,{"$f":"SUM(J41:BL41)","v":0},null,"deadline"]
[null,null,null,null,null,null,null,null,"price"]
[null,"OB1 - stage K20 - warranty test A","K20",null,28,31,{"$f":"SUM(J43:BL43)","v":0},null,"deadline"]
[null,null,null,null,null,null,null,null,"price"]
[null,"OB1 - stage K20 - preliminary acceptance of the PAC work","K20",null,28,32,{"$f":"SUM(J45:BL45)","v":0},null,"deadline"]
[null,null,null,null,null,null,null,null,"price"]
[null,"OB1 - stage K20 - final acceptance of the work FAC","K20",null,31,56,{"$f":"SUM(J47:BL47)","v":0},null,"deadline"]
[null,null,null,null,null,null,null,null,"price"]
[]
[null,"partial prices by month",null,null,null,null,null,null,null,{"$f":"SUM(J7:J47)","v":0},0,0,0,0,0,0,0,0,0,0,0,0,0,0,0,0,0,0,0,0,0,0,0,0,0,0,0,0,0,0,0,0,0,0,0,0,0,0,0,0,0,0,0,0,0,0,0,0,0,0,0,0,0,0]
[null,"total price",null,null,null,null,null,null,null,{"$f":"SUM(J49:BL49)","v":0}]
[]
[null,"Note:"]
[null,"The Contractor fills in only the numerical values 'start expectation (week)' and 'end expectation (week)' in the windows that open after clicking 'fill'",null,null,null,null,null,null,null,null,null,null,"Signing the contract"]
[null,null,null,null,null,null,null,null,null,null,null,null,"Initial technical negotiations "]
[null,null,null,null,null,null,null,null,null,null,null,null,"Binding technical parameters for OB 6 (Construction) "]
[null,null,null,null,null,null,null,null,null,null,null,null,"Binding technical parameters for OB 2 (Boilers) "]
[null,null,null,null,null,null,null,null,null,null,null,null,"Binding technical parameters for other OB, for other suppliers of technological units"]
[null,null,null,null,null,null,null,null,null,null,null,null,"Approved implementation documentation OB1 - Fuel management"]
[null,null,null,null,null,null,null,null,null,null,null,null,"Handover and acceptance of the construction site"]
[null,null,null,null,null,null,null,null,null,null,null,null,"A1-A13 - Technological part (PS 101,PS 102, PS 103, PS 104, PS 106, PS 107, PS 108)"]
[null,null,null,null,null,null,null,null,null,null,null,null,"A4.4 - Construction part (SO 101, SO 106)"]
[null,null,null,null,null,null,null,null,null,null,null,null,"A1-A13 - Technological part (PS 103, PS 104, PS 106, PS 107, PS 108)"]
[null,null,null,null,null,null,null,null,null,null,null,null,"A4.4 -Construction part (SO 103)"]
[null,null,null,null,null,null,null,null,null,null,null,null,"A1-A13 - Technological part (PS 105, PS 106, PS 107, PS 108)"]
[null,null,null,null,null,null,null,null,null,null,null,null,"A4.4 - Construction part (SO 102)"]
[null,"The price data is transferred to the table from the previous sheets.",null,null,null,null,null,null,null,null,null,null,"A1-A13 - Technological part (PS 104, PS 106, PS 107, PS 108)"]
[null,null,null,null,null,null,null,null,null,null,null,null,"A4.4 - Construction part (SO 104)"]
[null,null,null,null,null,null,null,null,null,null,null,null,"OB1 - stage K20 -  completion of construction works"]
[null,null,null,null,null,null,null,null,null,null,null,null,"OB1 - stage K20 - completion of installation works"]
[null,null,null,null,null,null,null,null,null,null,null,null,"OB1 - stage K20 - training of operation staff"]
[null,null,null,null,null,null,null,null,null,null,null,null,"OB1 - stage K20 - comprehensive testing"]
[null,null,null,null,null,null,null,null,null,null,null,null,"OB1 - stage K20 - test operation"]
[null,null,null,null,null,null,null,null,null,null,null,null,"OB1 - stage K20 - warranty test A"]
[null,null,null,null,null,null,null,null,null,null,null,null,"OB1 - stage K20 - preliminary acceptance of the PAC work"]
[null,null,null,null,null,null,null,null,null,null,null,null,"OB1 - stage K20 - final acceptance of the work FAC"]

{"sheet":"OB1 - stage K80 - timetable","index":5,"n_rows":40,"n_cols":64,"rows_kept":40,"cut":false,"hidden":false,"merged":[[7,0,10,0],[23,9,23,63],[23,1,23,8],[7,1,8,1],[7,2,8,2],[7,3,8,3],[9,1,10,1],[9,2,10,2],[9,3,10,3],[22,1,22,8],[11,1,12,1],[11,2,12,2],[13,1,14,1],[15,3,16,3],[17,3,18,3],[19,3,20,3],[13,3,14,3],[3,9,3,63],[11,3,12,3],[13,2,14,2],[13,6,14,6],[15,6,16,6],[17,6,18,6],[19,6,20,6],[3,8,4,8],[7,7,8,7],[7,4,8,4],[9,4,10,4],[11,4,12,4],[7,5,8,5],[9,5,10,5],[19,1,20,1],[19,2,20,2],[15,1,16,1],[15,2,16,2],[17,1,18,1],[17,2,18,2],[19,7,20,7],[9,7,10,7],[11,7,12,7],[13,7,14,7],[15,7,16,7],[17,7,18,7],[3,0,4,0],[3,1,4,1],[3,2,4,2],[3,3,4,3],[3,4,4,4],[3,5,4,5],[3,6,4,6],[13,4,14,4],[15,4,16,4],[17,4,18,4],[11,5,12,5],[7,6,8,6],[9,6,10,6],[11,6,12,6],[19,4,20,4],[13,5,14,5],[15,5,16,5],[17,5,18,5],[19,5,20,5]]}
[]
[null,"Annex K to the tender documentation - price offer and timetable"]
[]
["Technological and construction units","Milestones","Stage","Comment","Earliest beginning (month)","Latest End (month)","Price per item without VAT (EUR)",null,"Deadline / price without VAT (EUR)","Period"]
[null,null,null,null,null,null,null,null,null,"2024-06-01","2024-07-02","2024-08-02","2024-09-02","2024-10-03","2024-11-03","2024-12-04","2025-01-04","2025-02-04","2025-03-07","2025-04-07","2025-05-08","2025-06-08","2025-07-09","2025-08-09","2025-09-09","2025-10-10","2025-11-10","2025-12-11","2026-01-11","2026-02-11","2026-03-14","2026-04-14","2026-05-15","2026-06-15","2026-07-16","2026-08-16","2026-09-16","2026-10-17","2026-11-17","2026-12-18","2027-01-18","2027-02-18","2027-03-21","2027-04-21","2027-05-22","2027-06-22","2027-07-23","2027-08-23","2027-09-23","2027-10-24","2027-11-24","2027-12-25","2028-01-25","2028-02-25","2028-03-27","2028-04-27","2028-05-28","2028-06-28","2028-07-29","2028-08-29","2028-09-29","2028-10-30","2028-11-30","2028-12-31"]
[null,1,1,80,null,null,null,null,null,1,2,3,4,5,6,7,8,9,10,11,12,13,14,15,16,17,18,19,20,21,22,23,24,25,26,27,28,29,30,31,32,33,34,35,36,37,38,39,40,41,42,43,44,45,46,47,48,49,50,51,52,53,54,55]
[null,"Handover and acceptance of the construction site","K80",null,1,12,null,null,"deadline"]
["SO 104 - Transport of wood chips to boiler room K80","A1-A13 - Technological part (PS 104, PS 106, PS 107, PS 108)","K80",null,11,29,{"$f":"SUM(J9:BL9)","v":0},null,"deadline"]
[null,null,null,null,null,null,null,null,"price"]
[null,"A4.4 - Construction part (SO 104)","K80",null,11,29,{"$f":"SUM(J11:BL11)","v":0},null,"deadline"]
[null,null,null,null,null,null,null,null,"price"]
[null,"OB1 - stage K80 - comprehensive testing","K80",null,28,42,{"$f":"SUM(J13:BL13)","v":0},null,"deadline"]
[null,null,null,null,null,null,null,null,"price"]
[null,"OB1 - stage K80 - test operation","K80",null,28,42,{"$f":"SUM(J15:BL15)","v":0},null,"deadline"]
[null,null,null,null,null,null,null,null,"price"]
[null,"OB1 - stage K80 - warranty test A","K80",null,28,42,{"$f":"SUM(J17:BL17)","v":0},null,"deadline"]
[null,null,null,null,null,null,null,null,"price"]
[null,"OB1 - stage K80 - preliminary acceptance of the PAC work","K80",null,28,42,{"$f":"SUM(J19:BL19)","v":0},null,"deadline"]
[null,null,null,null,null,null,null,null,"price"]
[null,"OB1 - stage K80 - final acceptance of the work FAC","K80",null,42,66,{"$f":"SUM(J21:BL21)","v":0},null,"deadline"]
[null,null,null,null,null,null,null,null,"price"]
[]
[null,"partial prices by month",null,null,null,null,null,null,null,{"$f":"SUM(J8:J21)","v":0},0,0,0,0,0,0,0,0,0,0,0,0,0,0,0,0,0,0,0,0,0,0,0,0,0,0,0,0,0,0,0,0,0,0,0,0,0,0,0,0,0,0,0,0,0,0,0,0,0,0,0,0,0,0]
[null,"total price",null,null,null,null,null,null,null,{"$f":"SUM(J23:BL23)","v":0}]
[]
[null,"Note:"]
[null,"The Contractor fills in only the numerical values 'start expectation (week)' and 'end expectation (week)' in the windows that open after clicking 'fill'.",null,null,null,null,null,null,null,null,null,null,"Handover and acceptance of the construction site"]
[null,null,null,null,null,null,null,null,null,null,null,null,"A1-A13 - Technological part (PS 104, PS 106, PS 107, PS 108)"]
[null,null,null,null,null,null,null,null,null,null,null,null,"A4.4 - Construction part (SO 104)"]
[null,null,null,null,null,null,null,null,null,null,null,null,"OB1 - stage K80 - comprehensive testing"]
[null,null,null,null,null,null,null,null,null,null,null,null,"OB1 - stage K80 - test operation"]
[null,null,null,null,null,null,null,null,null,null,null,null,"OB1 - stage K80 - warranty test A"]
[null,null,null,null,null,null,null,null,null,null,null,null,"OB1 - stage K80 - preliminary acceptance of the PAC work"]
[null,null,null,null,null,null,null,null,null,null,null,null,"OB1 - stage K80 - final acceptance of the work FAC"]
[]
[]
[]
[]
[]
[null,"The price data is transferred to the table from the previous sheets."]

{"sheet":"OB1 - stage K90 - timetable","index":6,"n_rows":49,"n_cols":64,"rows_kept":49,"cut":false,"hidden":false,"merged":[[24,9,24,63],[8,0,11,0],[10,1,11,1],[10,2,11,2],[10,3,11,3],[24,1,24,8],[12,3,13,3],[14,3,15,3],[16,3,17,3],[20,3,21,3],[12,1,13,1],[12,2,13,2],[20,1,21,1],[20,2,21,2],[14,1,15,1],[14,2,15,2],[16,1,17,1],[16,2,17,2],[23,1,23,8],[16,4,17,4],[18,4,19,4],[20,4,21,4],[18,5,19,5],[20,5,21,5],[18,1,19,1],[18,2,19,2],[18,3,19,3],[18,6,19,6],[20,6,21,6],[12,6,13,6],[14,6,15,6],[16,6,17,6],[18,7,19,7],[20,7,21,7],[12,7,13,7],[14,7,15,7],[16,7,17,7],[8,5,9,5],[10,5,11,5],[12,5,13,5],[14,5,15,5],[16,5,17,5],[4,0,5,0],[8,4,9,4],[10,4,11,4],[12,4,13,4],[14,4,15,4],[8,1,9,1],[8,2,9,2],[8,3,9,3],[4,5,5,5],[4,4,5,4],[4,3,5,3],[4,2,5,2],[4,1,5,1],[4,9,4,63],[4,8,5,8],[4,6,5,6],[8,6,9,6],[10,6,11,6],[8,7,9,7],[10,7,11,7]]}
[]
[null,"Annex K to the tender documentation - price offer and timetable"]
[]
[]
["Technological and construction units","Milestones","Stage","Comment","Earliest beginning (month)","Latest End (month)","Price per item without VAT (EUR)",null,"Deadline / price without VAT (EUR)","Period"]
[null,null,null,null,null,null,null,null,null,"2024-06-01","2024-07-02","2024-08-02","2024-09-02","2024-10-03","2024-11-03","2024-12-04","2025-01-04","2025-02-04","2025-03-07","2025-04-07","2025-05-08","2025-06-08","2025-07-09","2025-08-09","2025-09-09","2025-10-10","2025-11-10","2025-12-11","2026-01-11","2026-02-11","2026-03-14","2026-04-14","2026-05-15","2026-06-15","2026-07-16","2026-08-16","2026-09-16","2026-10-17","2026-11-17","2026-12-18","2027-01-18","2027-02-18","2027-03-21","2027-04-21","2027-05-22","2027-06-22","2027-07-23","2027-08-23","2027-09-23","2027-10-24","2027-11-24","2027-12-25","2028-01-25","2028-02-25","2028-03-27","2028-04-27","2028-05-28","2028-06-28","2028-07-29","2028-08-29","2028-09-29","2028-10-30","2028-11-30","2028-12-31"]
[null,1,1,90,null,null,null,null,null,1,2,3,4,5,6,7,8,9,10,11,12,13,14,15,16,17,18,19,20,21,22,23,24,25,26,27,28,29,30,31,32,33,34,35,36,37,38,39,40,41,42,43,44,45,46,47,48,49,50,51,52,53,54,55]
[null,"Handover and acceptance of the construction site","K90",null,1,12,null,null,"deadline"]
["SO 104 - Transport of wood chips to boiler room K90","A1-A13 - Technological part (PS 104, PS 106, PS 107, PS 108)","K90",null,11,29,{"$f":"SUM(J9:BL9)","v":0},null,"deadline"]
[null,null,null,null,null,null,{"$f":"SUM(J11:BL11)","v":0},null,"price"]
[null,"A4.4 - Construction part (SO 104)","K90",null,11,29,{"$f":"SUM(J11:BL11)","v":0},null,"deadline"]
[null,null,null,null,null,null,{"$f":"SUM(#REF!)","v":{"$error":"#REF!"}},null,"price"]
[null,"OB1 - stage K90 - comprehensive testing","K90",null,28,42,{"$f":"SUM(J14:BL14)","v":0},null,"deadline"]
[null,null,null,null,null,null,null,null,"price"]
[null,"OB1 - stage K90 - test operation","K90",null,28,42,{"$f":"SUM(J16:BL16)","v":0},null,"deadline"]
[null,null,null,null,null,null,null,null,"price"]
[null,"OB1 - stage K90 - warranty test A","K90",null,28,42,{"$f":"SUM(J18:BL18)","v":0},null,"deadline"]
[null,null,null,null,null,null,null,null,"price"]
[null,"OB1 - stage K90 - preliminary acceptance of the PAC work\n","K90",null,28,42,{"$f":"SUM(J20:BL20)","v":0},null,"deadline"]
[null,null,null,null,null,null,null,null,"price"]
[null,"OB1 - stage K90 - final acceptance of the work FAC","K90",null,42,66,{"$f":"SUM(J22:BL22)","v":0},null,"deadline"]
[null,null,null,null,null,null,null,null,"price"]
[]
[null,"partial prices by month",null,null,null,null,null,null,null,{"$f":"SUM(J9:J22)","v":0},0,0,0,0,0,0,0,0,0,0,0,0,0,0,0,0,0,0,0,0,0,0,0,0,0,0,0,0,0,0,0,0,0,0,0,0,0,0,0,0,0,0,0,0,0,0,0,0,0,0,0,0,0,0]
[null,"total price",null,null,null,null,null,null,null,{"$f":"SUM(J24:BL24)","v":0}]
[]
[null,"Note:"]
[null,"The Contractor fills in only the numerical values 'start expectation (week)' and 'end expectation (week)' in the windows that open after clicking 'fill'.",null,null,null,null,null,null,null,null,"Podpis smlouvy",null,"Handover and acceptance of the construction site"]
[null,null,null,null,null,null,null,null,null,null,"Vstupní technická jednání ",null,"A1-A13 - Technological part (PS 104, PS 106, PS 107, PS 108)"]
[null,null,null,null,null,null,null,null,null,null,"Závazné technické parametry pro OB 6 (Stavba) ",null,"A4.4 - Construction part (SO 104)"]
[null,null,null,null,null,null,null,null,null,null,"OB1 - etapa K90 - ekonomizér",null,"OB1 - stage K90 - comprehensive testing"]
[null,null,null,null,null,null,null,null,null,null,"OB1 - etapa K90 - vyzdívky",null,"OB1 - stage K90 - test operation"]
[null,null,null,null,null,null,null,null,null,null,"OB1 - etapa K90 - dno spalovací komory",null,"OB1 - stage K90 - warranty test A"]
[null,null,null,null,null,null,null,null,null,null,"OB1 - etapa K90 - spalinovody včetně tkaninového filtru",null,"OB1 - stage K90 - preliminary acceptance of the PAC work\n"]
[null,null,null,null,null,null,null,null,null,null,"OB1 - etapa K90 - elektroinstalace",null,"OB1 - stage K90 - final acceptance of the work FAC"]
[null,null,null,null,null,null,null,null,null,null,"OB1 - etapa K90 - úprava ASŘ"]
[null,null,null,null,null,null,null,null,null,null,"OB1 - etapa K90 - stavební konstrukce"]
[null,null,null,null,null,null,null,null,null,null,"OB1 - etapa K90 - popelové hospodářství (dopravní rozvody, sila)"]
[null,null,null,null,null,null,null,null,null,null,"OB1 - etapa K90 - další výše nevyjmenované položky"]
[null,"The price data is transferred to the table from the previous sheets.",null,null,null,null,null,null,null,null,"OB1 - etapa K90 - dokončení stavebních prací"]
[null,null,null,null,null,null,null,null,null,null,"OB1 - etapa K90 - ukončení montážních prací"]
[null,null,null,null,null,null,null,null,null,null,"OB1 - etapa K90 - školení zaměstnanců provozu"]
[null,null,null,null,null,null,null,null,null,null,"OB1 - etapa K90 - příprava ke kompexnímu vyzkoušení"]
[null,null,null,null,null,null,null,null,null,null,"OB1 - etapa K90 - komplexní vyzkoušení"]
[null,null,null,null,null,null,null,null,null,null,"OB1 - etapa K90 - zkušební provoz"]
[null,null,null,null,null,null,null,null,null,null,"OB1 - etapa K90 - garanční test A"]
[null,null,null,null,null,null,null,null,null,null,"OB1 - etapa K90 - předběžné převzetí díla PAC"]
[null,null,null,null,null,null,null,null,null,null,"OB1 - etapa K90 - garanční test B"]
[null,null,null,null,null,null,null,null,null,null,"OB1 - etapa K90 - finální převzetí díla FAC"]

{"sheet":"timetable","index":7,"n_rows":74,"n_cols":58,"rows_kept":74,"cut":false,"hidden":false,"merged":[[3,0,4,0],[3,1,4,1],[3,2,4,2],[38,0,39,0],[3,3,3,57],[17,0,18,0],[19,0,20,0],[30,0,31,0],[13,0,14,0],[15,0,16,0]]}
[]
[null,"Annex K to the tender documentation - price offer and timetable"]
[]
["Technological and construction units","Milestones","Stage","Period"]
[null,null,null,"2024-06-01","2024-07-02","2024-08-02","2024-09-02","2024-10-03","2024-11-03","2024-12-04","2025-01-04","2025-02-04","2025-03-07","2025-04-07","2025-05-08","2025-06-08","2025-07-09","2025-08-09","2025-09-09","2025-10-10","2025-11-10","2025-12-11","2026-01-11","2026-02-11","2026-03-14","2026-04-14","2026-05-15","2026-06-15","2026-07-16","2026-08-16","2026-09-16","2026-10-17","2026-11-17","2026-12-18","2027-01-18","2027-02-18","2027-03-21","2027-04-21","2027-05-22","2027-06-22","2027-07-23","2027-08-23","2027-09-23","2027-10-24","2027-11-24","2027-12-25","2028-01-25","2028-02-25","2028-03-27","2028-04-27","2028-05-28","2028-06-28","2028-07-29","2028-08-29","2028-09-29","2028-10-30","2028-11-30","2028-12-31"]
[null,1,1,1,2,3,4,5,6,7,8,9,10,11,12,13,14,15,16,17,18,19,20,21,22,23,24,25,26,27,28,29,30,31,32,33,34,35,36,37,38,39,40,41,42,43,44,45,46,47,48,49,50,51,52,53,54,55]
[null,"Signing the contract","K20/K80/K90",{"$f":"'OB1 - stage K20 - timetable'!J7","v":0},{"$f":"'OB1 - stage K20 - timetable'!K7","v":0},{"$f":"'OB1 - stage K20 - timetable'!L7","v":0},{"$f":"'OB1 - stage K20 - timetable'!M7","v":0},{"$f":"'OB1 - stage K20 - timetable'!N7","v":0},{"$f":"'OB1 - stage K20 - timetable'!O7","v":0},{"$f":"'OB1 - stage K20 - timetable'!P7","v":0},{"$f":"'OB1 - stage K20 - timetable'!Q7","v":0},{"$f":"'OB1 - stage K20 - timetable'!R7","v":0},{"$f":"'OB1 - stage K20 - timetable'!S7","v":0},{"$f":"'OB1 - stage K20 - timetable'!T7","v":0},{"$f":"'OB1 - stage K20 - timetable'!U7","v":0},{"$f":"'OB1 - stage K20 - timetable'!V7","v":0},{"$f":"'OB1 - stage K20 - timetable'!W7","v":0},{"$f":"'OB1 - stage K20 - timetable'!X7","v":0},{"$f":"'OB1 - stage K20 - timetable'!Y7","v":0},{"$f":"'OB1 - stage K20 - timetable'!Z7","v":0},{"$f":"'OB1 - stage K20 - timetable'!AA7","v":0},{"$f":"'OB1 - stage K20 - timetable'!AB7","v":0},{"$f":"'OB1 - stage K20 - timetable'!AC7","v":0},{"$f":"'OB1 - stage K20 - timetable'!AD7","v":0},{"$f":"'OB1 - stage K20 - timetable'!AE7","v":0},{"$f":"'OB1 - stage K20 - timetable'!AF7","v":0},{"$f":"'OB1 - stage K20 - timetable'!AG7","v":0},{"$f":"'OB1 - stage K20 - timetable'!AH7","v":0},{"$f":"'OB1 - stage K20 - timetable'!AI7","v":0},{"$f":"'OB1 - stage K20 - timetable'!AJ7","v":0},{"$f":"'OB1 - stage K20 - timetable'!AK7","v":0},{"$f":"'OB1 - stage K20 - timetable'!AL7","v":0},{"$f":"'OB1 - stage K20 - timetable'!AM7","v":0},{"$f":"'OB1 - stage K20 - timetable'!AN7","v":0},{"$f":"'OB1 - stage K20 - timetable'!AO7","v":0},{"$f":"'OB1 - stage K20 - timetable'!AP7","v":0},{"$f":"'OB1 - stage K20 - timetable'!AQ7","v":0},{"$f":"'OB1 - stage K20 - timetable'!AR7","v":0},{"$f":"'OB1 - stage K20 - timetable'!AS7","v":0},{"$f":"'OB1 - stage K20 - timetable'!AT7","v":0},{"$f":"'OB1 - stage K20 - timetable'!AU7","v":0},{"$f":"'OB1 - stage K20 - timetable'!AV7","v":0},{"$f":"'OB1 - stage K20 - timetable'!AW7","v":0},{"$f":"'OB1 - stage K20 - timetable'!AX7","v":0},{"$f":"'OB1 - stage K20 - timetable'!AY7","v":0},{"$f":"'OB1 - stage K20 - timetable'!AZ7","v":0},{"$f":"'OB1 - stage K20 - timetable'!BA7","v":0},{"$f":"'OB1 - stage K20 - timetable'!BB7","v":0},{"$f":"'OB1 - stage K20 - timetable'!BC7","v":0},{"$f":"'OB1 - stage K20 - timetable'!BD7","v":0},{"$f":"'OB1 - stage K20 - timetable'!BE7","v":0},{"$f":"'OB1 - stage K20 - timetable'!BF7","v":0},{"$f":"'OB1 - stage K20 - timetable'!BG7","v":0},{"$f":"'OB1 - stage K20 - timetable'!BH7","v":0},{"$f":"'OB1 - stage K20 - timetable'!BI7","v":0},{"$f":"'OB1 - stage K20 - timetable'!BJ7","v":0},{"$f":"'OB1 - stage K20 - timetable'!BK7","v":0},{"$f":"'OB1 - stage K20 - timetable'!BL7","v":0}]
[null,"stage K20 - initial technical negotiations","K20",{"$f":"'OB1 - stage K20 - timetable'!J8","v":0},{"$f":"'OB1 - stage K20 - timetable'!K8","v":0},{"$f":"'OB1 - stage K20 - timetable'!L8","v":0},{"$f":"'OB1 - stage K20 - timetable'!M8","v":0},{"$f":"'OB1 - stage K20 - timetable'!N8","v":0},{"$f":"'OB1 - stage K20 - timetable'!O8","v":0},{"$f":"'OB1 - stage K20 - timetable'!P8","v":0},{"$f":"'OB1 - stage K20 - timetable'!Q8","v":0},{"$f":"'OB1 - stage K20 - timetable'!R8","v":0},{"$f":"'OB1 - stage K20 - timetable'!S8","v":0},{"$f":"'OB1 - stage K20 - timetable'!T8","v":0},{"$f":"'OB1 - stage K20 - timetable'!U8","v":0},{"$f":"'OB1 - stage K20 - timetable'!V8","v":0},{"$f":"'OB1 - stage K20 - timetable'!W8","v":0},{"$f":"'OB1 - stage K20 - timetable'!X8","v":0},{"$f":"'OB1 - stage K20 - timetable'!Y8","v":0},{"$f":"'OB1 - stage K20 - timetable'!Z8","v":0},{"$f":"'OB1 - stage K20 - timetable'!AA8","v":0},{"$f":"'OB1 - stage K20 - timetable'!AB8","v":0},{"$f":"'OB1 - stage K20 - timetable'!AC8","v":0},{"$f":"'OB1 - stage K20 - timetable'!AD8","v":0},{"$f":"'OB1 - stage K20 - timetable'!AE8","v":0},{"$f":"'OB1 - stage K20 - timetable'!AF8","v":0},{"$f":"'OB1 - stage K20 - timetable'!AG8","v":0},{"$f":"'OB1 - stage K20 - timetable'!AH8","v":0},{"$f":"'OB1 - stage K20 - timetable'!AI8","v":0},{"$f":"'OB1 - stage K20 - timetable'!AJ8","v":0},{"$f":"'OB1 - stage K20 - timetable'!AK8","v":0},{"$f":"'OB1 - stage K20 - timetable'!AL8","v":0},{"$f":"'OB1 - stage K20 - timetable'!AM8","v":0},{"$f":"'OB1 - stage K20 - timetable'!AN8","v":0},{"$f":"'OB1 - stage K20 - timetable'!AO8","v":0},{"$f":"'OB1 - stage K20 - timetable'!AP8","v":0},{"$f":"'OB1 - stage K20 - timetable'!AQ8","v":0},{"$f":"'OB1 - stage K20 - timetable'!AR8","v":0},{"$f":"'OB1 - stage K20 - timetable'!AS8","v":0},{"$f":"'OB1 - stage K20 - timetable'!AT8","v":0},{"$f":"'OB1 - stage K20 - timetable'!AU8","v":0},{"$f":"'OB1 - stage K20 - timetable'!AV8","v":0},{"$f":"'OB1 - stage K20 - timetable'!AW8","v":0},{"$f":"'OB1 - stage K20 - timetable'!AX8","v":0},{"$f":"'OB1 - stage K20 - timetable'!AY8","v":0},{"$f":"'OB1 - stage K20 - timetable'!AZ8","v":0},{"$f":"'OB1 - stage K20 - timetable'!BA8","v":0},{"$f":"'OB1 - stage K20 - timetable'!BB8","v":0},{"$f":"'OB1 - stage K20 - timetable'!BC8","v":0},{"$f":"'OB1 - stage K20 - timetable'!BD8","v":0},{"$f":"'OB1 - stage K20 - timetable'!BE8","v":0},{"$f":"'OB1 - stage K20 - timetable'!BF8","v":0},{"$f":"'OB1 - stage K20 - timetable'!BG8","v":0},{"$f":"'OB1 - stage K20 - timetable'!BH8","v":0},{"$f":"'OB1 - stage K20 - timetable'!BI8","v":0},{"$f":"'OB1 - stage K20 - timetable'!BJ8","v":0},{"$f":"'OB1 - stage K20 - timetable'!BK8","v":0},{"$f":"'OB1 - stage K20 - timetable'!BL8","v":0}]
[null,"stage K20 - binding technical parameters for OB 6 (Construction) ","K20",{"$f":"'OB1 - stage K20 - timetable'!J9","v":0},{"$f":"'OB1 - stage K20 - timetable'!K9","v":0},{"$f":"'OB1 - stage K20 - timetable'!L9","v":0},{"$f":"'OB1 - stage K20 - timetable'!M9","v":0},{"$f":"'OB1 - stage K20 - timetable'!N9","v":0},{"$f":"'OB1 - stage K20 - timetable'!O9","v":0},{"$f":"'OB1 - stage K20 - timetable'!P9","v":0},{"$f":"'OB1 - stage K20 - timetable'!Q9","v":0},{"$f":"'OB1 - stage K20 - timetable'!R9","v":0},{"$f":"'OB1 - stage K20 - timetable'!S9","v":0},{"$f":"'OB1 - stage K20 - timetable'!T9","v":0},{"$f":"'OB1 - stage K20 - timetable'!U9","v":0},{"$f":"'OB1 - stage K20 - timetable'!V9","v":0},{"$f":"'OB1 - stage K20 - timetable'!W9","v":0},{"$f":"'OB1 - stage K20 - timetable'!X9","v":0},{"$f":"'OB1 - stage K20 - timetable'!Y9","v":0},{"$f":"'OB1 - stage K20 - timetable'!Z9","v":0},{"$f":"'OB1 - stage K20 - timetable'!AA9","v":0},{"$f":"'OB1 - stage K20 - timetable'!AB9","v":0},{"$f":"'OB1 - stage K20 - timetable'!AC9","v":0},{"$f":"'OB1 - stage K20 - timetable'!AD9","v":0},{"$f":"'OB1 - stage K20 - timetable'!AE9","v":0},{"$f":"'OB1 - stage K20 - timetable'!AF9","v":0},{"$f":"'OB1 - stage K20 - timetable'!AG9","v":0},{"$f":"'OB1 - stage K20 - timetable'!AH9","v":0},{"$f":"'OB1 - stage K20 - timetable'!AI9","v":0},{"$f":"'OB1 - stage K20 - timetable'!AJ9","v":0},{"$f":"'OB1 - stage K20 - timetable'!AK9","v":0},{"$f":"'OB1 - stage K20 - timetable'!AL9","v":0},{"$f":"'OB1 - stage K20 - timetable'!AM9","v":0},{"$f":"'OB1 - stage K20 - timetable'!AN9","v":0},{"$f":"'OB1 - stage K20 - timetable'!AO9","v":0},{"$f":"'OB1 - stage K20 - timetable'!AP9","v":0},{"$f":"'OB1 - stage K20 - timetable'!AQ9","v":0},{"$f":"'OB1 - stage K20 - timetable'!AR9","v":0},{"$f":"'OB1 - stage K20 - timetable'!AS9","v":0},{"$f":"'OB1 - stage K20 - timetable'!AT9","v":0},{"$f":"'OB1 - stage K20 - timetable'!AU9","v":0},{"$f":"'OB1 - stage K20 - timetable'!AV9","v":0},{"$f":"'OB1 - stage K20 - timetable'!AW9","v":0},{"$f":"'OB1 - stage K20 - timetable'!AX9","v":0},{"$f":"'OB1 - stage K20 - timetable'!AY9","v":0},{"$f":"'OB1 - stage K20 - timetable'!AZ9","v":0},{"$f":"'OB1 - stage K20 - timetable'!BA9","v":0},{"$f":"'OB1 - stage K20 - timetable'!BB9","v":0},{"$f":"'OB1 - stage K20 - timetable'!BC9","v":0},{"$f":"'OB1 - stage K20 - timetable'!BD9","v":0},{"$f":"'OB1 - stage K20 - timetable'!BE9","v":0},{"$f":"'OB1 - stage K20 - timetable'!BF9","v":0},{"$f":"'OB1 - stage K20 - timetable'!BG9","v":0},{"$f":"'OB1 - stage K20 - timetable'!BH9","v":0},{"$f":"'OB1 - stage K20 - timetable'!BI9","v":0},{"$f":"'OB1 - stage K20 - timetable'!BJ9","v":0},{"$f":"'OB1 - stage K20 - timetable'!BK9","v":0},{"$f":"'OB1 - stage K20 - timetable'!BL9","v":0}]
[null,"stage K20 - binding technical parameters for OB 2 (Boilers) ","K20",{"$f":"'OB1 - stage K20 - timetable'!J11","v":0},{"$f":"'OB1 - stage K20 - timetable'!K11","v":0},{"$f":"'OB1 - stage K20 - timetable'!L11","v":0},{"$f":"'OB1 - stage K20 - timetable'!M11","v":0},{"$f":"'OB1 - stage K20 - timetable'!N11","v":0},{"$f":"'OB1 - stage K20 - timetable'!O11","v":0},{"$f":"'OB1 - stage K20 - timetable'!P11","v":0},{"$f":"'OB1 - stage K20 - timetable'!Q11","v":0},{"$f":"'OB1 - stage K20 - timetable'!R11","v":0},{"$f":"'OB1 - stage K20 - timetable'!S11","v":0},{"$f":"'OB1 - stage K20 - timetable'!T11","v":0},{"$f":"'OB1 - stage K20 - timetable'!U11","v":0},{"$f":"'OB1 - stage K20 - timetable'!V11","v":0},{"$f":"'OB1 - stage K20 - timetable'!W11","v":0},{"$f":"'OB1 - stage K20 - timetable'!X11","v":0},{"$f":"'OB1 - stage K20 - timetable'!Y11","v":0},{"$f":"'OB1 - stage K20 - timetable'!Z11","v":0},{"$f":"'OB1 - stage K20 - timetable'!AA11","v":0},{"$f":"'OB1 - stage K20 - timetable'!AB11","v":0},{"$f":"'OB1 - stage K20 - timetable'!AC11","v":0},{"$f":"'OB1 - stage K20 - timetable'!AD11","v":0},{"$f":"'OB1 - stage K20 - timetable'!AE11","v":0},{"$f":"'OB1 - stage K20 - timetable'!AF11","v":0},{"$f":"'OB1 - stage K20 - timetable'!AG11","v":0},{"$f":"'OB1 - stage K20 - timetable'!AH11","v":0},{"$f":"'OB1 - stage K20 - timetable'!AI11","v":0},{"$f":"'OB1 - stage K20 - timetable'!AJ11","v":0},{"$f":"'OB1 - stage K20 - timetable'!AK11","v":0},{"$f":"'OB1 - stage K20 - timetable'!AL11","v":0},{"$f":"'OB1 - stage K20 - timetable'!AM11","v":0},{"$f":"'OB1 - stage K20 - timetable'!AN11","v":0},{"$f":"'OB1 - stage K20 - timetable'!AO11","v":0},{"$f":"'OB1 - stage K20 - timetable'!AP11","v":0},{"$f":"'OB1 - stage K20 - timetable'!AQ11","v":0},{"$f":"'OB1 - stage K20 - timetable'!AR11","v":0},{"$f":"'OB1 - stage K20 - timetable'!AS11","v":0},{"$f":"'OB1 - stage K20 - timetable'!AT11","v":0},{"$f":"'OB1 - stage K20 - timetable'!AU11","v":0},{"$f":"'OB1 - stage K20 - timetable'!AV11","v":0},{"$f":"'OB1 - stage K20 - timetable'!AW11","v":0},{"$f":"'OB1 - stage K20 - timetable'!AX11","v":0},{"$f":"'OB1 - stage K20 - timetable'!AY11","v":0},{"$f":"'OB1 - stage K20 - timetable'!AZ11","v":0},{"$f":"'OB1 - stage K20 - timetable'!BA11","v":0},{"$f":"'OB1 - stage K20 - timetable'!BB11","v":0},{"$f":"'OB1 - stage K20 - timetable'!BC11","v":0},{"$f":"'OB1 - stage K20 - timetable'!BD11","v":0},{"$f":"'OB1 - stage K20 - timetable'!BE11","v":0},{"$f":"'OB1 - stage K20 - timetable'!BF11","v":0},{"$f":"'OB1 - stage K20 - timetable'!BG11","v":0},{"$f":"'OB1 - stage K20 - timetable'!BH11","v":0},{"$f":"'OB1 - stage K20 - timetable'!BI11","v":0},{"$f":"'OB1 - stage K20 - timetable'!BJ11","v":0},{"$f":"'OB1 - stage K20 - timetable'!BK11","v":0},{"$f":"'OB1 - stage K20 - timetable'!BL11","v":0}]
[null,"stage K20 - binding technical parameters for other OB, for other suppliers of technological units","K20",{"$f":"'OB1 - stage K20 - timetable'!J13","v":0},{"$f":"'OB1 - stage K20 - timetable'!K13","v":0},{"$f":"'OB1 - stage K20 - timetable'!L13","v":0},{"$f":"'OB1 - stage K20 - timetable'!M13","v":0},{"$f":"'OB1 - stage K20 - timetable'!N13","v":0},{"$f":"'OB1 - stage K20 - timetable'!O13","v":0},{"$f":"'OB1 - stage K20 - timetable'!P13","v":0},{"$f":"'OB1 - stage K20 - timetable'!Q13","v":0},{"$f":"'OB1 - stage K20 - timetable'!R13","v":0},{"$f":"'OB1 - stage K20 - timetable'!S13","v":0},{"$f":"'OB1 - stage K20 - timetable'!T13","v":0},{"$f":"'OB1 - stage K20 - timetable'!U13","v":0},{"$f":"'OB1 - stage K20 - timetable'!V13","v":0},{"$f":"'OB1 - stage K20 - timetable'!W13","v":0},{"$f":"'OB1 - stage K20 - timetable'!X13","v":0},{"$f":"'OB1 - stage K20 - timetable'!Y13","v":0},{"$f":"'OB1 - stage K20 - timetable'!Z13","v":0},{"$f":"'OB1 - stage K20 - timetable'!AA13","v":0},{"$f":"'OB1 - stage K20 - timetable'!AB13","v":0},{"$f":"'OB1 - stage K20 - timetable'!AC13","v":0},{"$f":"'OB1 - stage K20 - timetable'!AD13","v":0},{"$f":"'OB1 - stage K20 - timetable'!AE13","v":0},{"$f":"'OB1 - stage K20 - timetable'!AF13","v":0},{"$f":"'OB1 - stage K20 - timetable'!AG13","v":0},{"$f":"'OB1 - stage K20 - timetable'!AH13","v":0},{"$f":"'OB1 - stage K20 - timetable'!AI13","v":0},{"$f":"'OB1 - stage K20 - timetable'!AJ13","v":0},{"$f":"'OB1 - stage K20 - timetable'!AK13","v":0},{"$f":"'OB1 - stage K20 - timetable'!AL13","v":0},{"$f":"'OB1 - stage K20 - timetable'!AM13","v":0},{"$f":"'OB1 - stage K20 - timetable'!AN13","v":0},{"$f":"'OB1 - stage K20 - timetable'!AO13","v":0},{"$f":"'OB1 - stage K20 - timetable'!AP13","v":0},{"$f":"'OB1 - stage K20 - timetable'!AQ13","v":0},{"$f":"'OB1 - stage K20 - timetable'!AR13","v":0},{"$f":"'OB1 - stage K20 - timetable'!AS13","v":0},{"$f":"'OB1 - stage K20 - timetable'!AT13","v":0},{"$f":"'OB1 - stage K20 - timetable'!AU13","v":0},{"$f":"'OB1 - stage K20 - timetable'!AV13","v":0},{"$f":"'OB1 - stage K20 - timetable'!AW13","v":0},{"$f":"'OB1 - stage K20 - timetable'!AX13","v":0},{"$f":"'OB1 - stage K20 - timetable'!AY13","v":0},{"$f":"'OB1 - stage K20 - timetable'!AZ13","v":0},{"$f":"'OB1 - stage K20 - timetable'!BA13","v":0},{"$f":"'OB1 - stage K20 - timetable'!BB13","v":0},{"$f":"'OB1 - stage K20 - timetable'!BC13","v":0},{"$f":"'OB1 - stage K20 - timetable'!BD13","v":0},{"$f":"'OB1 - stage K20 - timetable'!BE13","v":0},{"$f":"'OB1 - stage K20 - timetable'!BF13","v":0},{"$f":"'OB1 - stage K20 - timetable'!BG13","v":0},{"$f":"'OB1 - stage K20 - timetable'!BH13","v":0},{"$f":"'OB1 - stage K20 - timetable'!BI13","v":0},{"$f":"'OB1 - stage K20 - timetable'!BJ13","v":0},{"$f":"'OB1 - stage K20 - timetable'!BK13","v":0},{"$f":"'OB1 - stage K20 - timetable'!BL13","v":0}]
[null,"stage K20 - approved implementation documentation OB1 - Fuel management","K20",{"$f":"'OB1 - stage K20 - timetable'!J15","v":0},{"$f":"'OB1 - stage K20 - timetable'!K15","v":0},{"$f":"'OB1 - stage K20 - timetable'!L15","v":0},{"$f":"'OB1 - stage K20 - timetable'!M15","v":0},{"$f":"'OB1 - stage K20 - timetable'!N15","v":0},{"$f":"'OB1 - stage K20 - timetable'!O15","v":0},{"$f":"'OB1 - stage K20 - timetable'!P15","v":0},{"$f":"'OB1 - stage K20 - timetable'!Q15","v":0},{"$f":"'OB1 - stage K20 - timetable'!R15","v":0},{"$f":"'OB1 - stage K20 - timetable'!S15","v":0},{"$f":"'OB1 - stage K20 - timetable'!T15","v":0},{"$f":"'OB1 - stage K20 - timetable'!U15","v":0},{"$f":"'OB1 - stage K20 - timetable'!V15","v":0},{"$f":"'OB1 - stage K20 - timetable'!W15","v":0},{"$f":"'OB1 - stage K20 - timetable'!X15","v":0},{"$f":"'OB1 - stage K20 - timetable'!Y15","v":0},{"$f":"'OB1 - stage K20 - timetable'!Z15","v":0},{"$f":"'OB1 - stage K20 - timetable'!AA15","v":0},{"$f":"'OB1 - stage K20 - timetable'!AB15","v":0},{"$f":"'OB1 - stage K20 - timetable'!AC15","v":0},{"$f":"'OB1 - stage K20 - timetable'!AD15","v":0},{"$f":"'OB1 - stage K20 - timetable'!AE15","v":0},{"$f":"'OB1 - stage K20 - timetable'!AF15","v":0},{"$f":"'OB1 - stage K20 - timetable'!AG15","v":0},{"$f":"'OB1 - stage K20 - timetable'!AH15","v":0},{"$f":"'OB1 - stage K20 - timetable'!AI15","v":0},{"$f":"'OB1 - stage K20 - timetable'!AJ15","v":0},{"$f":"'OB1 - stage K20 - timetable'!AK15","v":0},{"$f":"'OB1 - stage K20 - timetable'!AL15","v":0},{"$f":"'OB1 - stage K20 - timetable'!AM15","v":0},{"$f":"'OB1 - stage K20 - timetable'!AN15","v":0},{"$f":"'OB1 - stage K20 - timetable'!AO15","v":0},{"$f":"'OB1 - stage K20 - timetable'!AP15","v":0},{"$f":"'OB1 - stage K20 - timetable'!AQ15","v":0},{"$f":"'OB1 - stage K20 - timetable'!AR15","v":0},{"$f":"'OB1 - stage K20 - timetable'!AS15","v":0},{"$f":"'OB1 - stage K20 - timetable'!AT15","v":0},{"$f":"'OB1 - stage K20 - timetable'!AU15","v":0},{"$f":"'OB1 - stage K20 - timetable'!AV15","v":0},{"$f":"'OB1 - stage K20 - timetable'!AW15","v":0},{"$f":"'OB1 - stage K20 - timetable'!AX15","v":0},{"$f":"'OB1 - stage K20 - timetable'!AY15","v":0},{"$f":"'OB1 - stage K20 - timetable'!AZ15","v":0},{"$f":"'OB1 - stage K20 - timetable'!BA15","v":0},{"$f":"'OB1 - stage K20 - timetable'!BB15","v":0},{"$f":"'OB1 - stage K20 - timetable'!BC15","v":0},{"$f":"'OB1 - stage K20 - timetable'!BD15","v":0},{"$f":"'OB1 - stage K20 - timetable'!BE15","v":0},{"$f":"'OB1 - stage K20 - timetable'!BF15","v":0},{"$f":"'OB1 - stage K20 - timetable'!BG15","v":0},{"$f":"'OB1 - stage K20 - timetable'!BH15","v":0},{"$f":"'OB1 - stage K20 - timetable'!BI15","v":0},{"$f":"'OB1 - stage K20 - timetable'!BJ15","v":0},{"$f":"'OB1 - stage K20 - timetable'!BK15","v":0},{"$f":"'OB1 - stage K20 - timetable'!BL15","v":0}]
[null,"stage K20 - handover and acceptance of the construction site ","K20",{"$f":"'OB1 - stage K20 - timetable'!J17","v":0},{"$f":"'OB1 - stage K20 - timetable'!K17","v":0},{"$f":"'OB1 - stage K20 - timetable'!L17","v":0},{"$f":"'OB1 - stage K20 - timetable'!M17","v":0},{"$f":"'OB1 - stage K20 - timetable'!N17","v":0},{"$f":"'OB1 - stage K20 - timetable'!O17","v":0},{"$f":"'OB1 - stage K20 - timetable'!P17","v":0},{"$f":"'OB1 - stage K20 - timetable'!Q17","v":0},{"$f":"'OB1 - stage K20 - timetable'!R17","v":0},{"$f":"'OB1 - stage K20 - timetable'!S17","v":0},{"$f":"'OB1 - stage K20 - timetable'!T17","v":0},{"$f":"'OB1 - stage K20 - timetable'!U17","v":0},{"$f":"'OB1 - stage K20 - timetable'!V17","v":0},{"$f":"'OB1 - stage K20 - timetable'!W17","v":0},{"$f":"'OB1 - stage K20 - timetable'!X17","v":0},{"$f":"'OB1 - stage K20 - timetable'!Y17","v":0},{"$f":"'OB1 - stage K20 - timetable'!Z17","v":0},{"$f":"'OB1 - stage K20 - timetable'!AA17","v":0},{"$f":"'OB1 - stage K20 - timetable'!AB17","v":0},{"$f":"'OB1 - stage K20 - timetable'!AC17","v":0},{"$f":"'OB1 - stage K20 - timetable'!AD17","v":0},{"$f":"'OB1 - stage K20 - timetable'!AE17","v":0},{"$f":"'OB1 - stage K20 - timetable'!AF17","v":0},{"$f":"'OB1 - stage K20 - timetable'!AG17","v":0},{"$f":"'OB1 - stage K20 - timetable'!AH17","v":0},{"$f":"'OB1 - stage K20 - timetable'!AI17","v":0},{"$f":"'OB1 - stage K20 - timetable'!AJ17","v":0},{"$f":"'OB1 - stage K20 - timetable'!AK17","v":0},{"$f":"'OB1 - stage K20 - timetable'!AL17","v":0},{"$f":"'OB1 - stage K20 - timetable'!AM17","v":0},{"$f":"'OB1 - stage K20 - timetable'!AN17","v":0},{"$f":"'OB1 - stage K20 - timetable'!AO17","v":0},{"$f":"'OB1 - stage K20 - timetable'!AP17","v":0},{"$f":"'OB1 - stage K20 - timetable'!AQ17","v":0},{"$f":"'OB1 - stage K20 - timetable'!AR17","v":0},{"$f":"'OB1 - stage K20 - timetable'!AS17","v":0},{"$f":"'OB1 - stage K20 - timetable'!AT17","v":0},{"$f":"'OB1 - stage K20 - timetable'!AU17","v":0},{"$f":"'OB1 - stage K20 - timetable'!AV17","v":0},{"$f":"'OB1 - stage K20 - timetable'!AW17","v":0},{"$f":"'OB1 - stage K20 - timetable'!AX17","v":0},{"$f":"'OB1 - stage K20 - timetable'!AY17","v":0},{"$f":"'OB1 - stage K20 - timetable'!AZ17","v":0},{"$f":"'OB1 - stage K20 - timetable'!BA17","v":0},{"$f":"'OB1 - stage K20 - timetable'!BB17","v":0},{"$f":"'OB1 - stage K20 - timetable'!BC17","v":0},{"$f":"'OB1 - stage K20 - timetable'!BD17","v":0},{"$f":"'OB1 - stage K20 - timetable'!BE17","v":0},{"$f":"'OB1 - stage K20 - timetable'!BF17","v":0},{"$f":"'OB1 - stage K20 - timetable'!BG17","v":0},{"$f":"'OB1 - stage K20 - timetable'!BH17","v":0},{"$f":"'OB1 - stage K20 - timetable'!BI17","v":0},{"$f":"'OB1 - stage K20 - timetable'!BJ17","v":0},{"$f":"'OB1 - stage K20 - timetable'!BK17","v":0},{"$f":"'OB1 - stage K20 - timetable'!BL17","v":0}]
["SO 101, SO 106 - Building of sorting plant and substation","stage K20 - technological part (PS 101, PS 102, PS 103, PS 104, PS 106, PS 107, PS 108)","K20",{"$f":"'OB1 - stage K20 - timetable'!J18","v":0},{"$f":"'OB1 - stage K20 - timetable'!K18","v":0},{"$f":"'OB1 - stage K20 - timetable'!L18","v":0},{"$f":"'OB1 - stage K20 - timetable'!M18","v":0},{"$f":"'OB1 - stage K20 - timetable'!N18","v":0},{"$f":"'OB1 - stage K20 - timetable'!O18","v":0},{"$f":"'OB1 - stage K20 - timetable'!P18","v":0},{"$f":"'OB1 - stage K20 - timetable'!Q18","v":0},{"$f":"'OB1 - stage K20 - timetable'!R18","v":0},{"$f":"'OB1 - stage K20 - timetable'!S18","v":0},{"$f":"'OB1 - stage K20 - timetable'!T18","v":0},{"$f":"'OB1 - stage K20 - timetable'!U18","v":0},{"$f":"'OB1 - stage K20 - timetable'!V18","v":0},{"$f":"'OB1 - stage K20 - timetable'!W18","v":0},{"$f":"'OB1 - stage K20 - timetable'!X18","v":0},{"$f":"'OB1 - stage K20 - timetable'!Y18","v":0},{"$f":"'OB1 - stage K20 - timetable'!Z18","v":0},{"$f":"'OB1 - stage K20 - timetable'!AA18","v":0},{"$f":"'OB1 - stage K20 - timetable'!AB18","v":0},{"$f":"'OB1 - stage K20 - timetable'!AC18","v":0},{"$f":"'OB1 - stage K20 - timetable'!AD18","v":0},{"$f":"'OB1 - stage K20 - timetable'!AE18","v":0},{"$f":"'OB1 - stage K20 - timetable'!AF18","v":0},{"$f":"'OB1 - stage K20 - timetable'!AG18","v":0},{"$f":"'OB1 - stage K20 - timetable'!AH18","v":0},{"$f":"'OB1 - stage K20 - timetable'!AI18","v":0},{"$f":"'OB1 - stage K20 - timetable'!AJ18","v":0},{"$f":"'OB1 - stage K20 - timetable'!AK18","v":0},{"$f":"'OB1 - stage K20 - timetable'!AL18","v":0},{"$f":"'OB1 - stage K20 - timetable'!AM18","v":0},{"$f":"'OB1 - stage K20 - timetable'!AN18","v":0},{"$f":"'OB1 - stage K20 - timetable'!AO18","v":0},{"$f":"'OB1 - stage K20 - timetable'!AP18","v":0},{"$f":"'OB1 - stage K20 - timetable'!AQ18","v":0},{"$f":"'OB1 - stage K20 - timetable'!AR18","v":0},{"$f":"'OB1 - stage K20 - timetable'!AS18","v":0},{"$f":"'OB1 - stage K20 - timetable'!AT18","v":0},{"$f":"'OB1 - stage K20 - timetable'!AU18","v":0},{"$f":"'OB1 - stage K20 - timetable'!AV18","v":0},{"$f":"'OB1 - stage K20 - timetable'!AW18","v":0},{"$f":"'OB1 - stage K20 - timetable'!AX18","v":0},{"$f":"'OB1 - stage K20 - timetable'!AY18","v":0},{"$f":"'OB1 - stage K20 - timetable'!AZ18","v":0},{"$f":"'OB1 - stage K20 - timetable'!BA18","v":0},{"$f":"'OB1 - stage K20 - timetable'!BB18","v":0},{"$f":"'OB1 - stage K20 - timetable'!BC18","v":0},{"$f":"'OB1 - stage K20 - timetable'!BD18","v":0},{"$f":"'OB1 - stage K20 - timetable'!BE18","v":0},{"$f":"'OB1 - stage K20 - timetable'!BF18","v":0},{"$f":"'OB1 - stage K20 - timetable'!BG18","v":0},{"$f":"'OB1 - stage K20 - timetable'!BH18","v":0},{"$f":"'OB1 - stage K20 - timetable'!BI18","v":0},{"$f":"'OB1 - stage K20 - timetable'!BJ18","v":0},{"$f":"'OB1 - stage K20 - timetable'!BK18","v":0},{"$f":"'OB1 - stage K20 - timetable'!BL18","v":0}]
[null,"stage K20 - construction part (A4.4)","K20",{"$f":"'OB1 - stage K20 - timetable'!J20","v":0},{"$f":"'OB1 - stage K20 - timetable'!K20","v":0},{"$f":"'OB1 - stage K20 - timetable'!L20","v":0},{"$f":"'OB1 - stage K20 - timetable'!M20","v":0},{"$f":"'OB1 - stage K20 - timetable'!N20","v":0},{"$f":"'OB1 - stage K20 - timetable'!O20","v":0},{"$f":"'OB1 - stage K20 - timetable'!P20","v":0},{"$f":"'OB1 - stage K20 - timetable'!Q20","v":0},{"$f":"'OB1 - stage K20 - timetable'!R20","v":0},{"$f":"'OB1 - stage K20 - timetable'!S20","v":0},{"$f":"'OB1 - stage K20 - timetable'!T20","v":0},{"$f":"'OB1 - stage K20 - timetable'!U20","v":0},{"$f":"'OB1 - stage K20 - timetable'!V20","v":0},{"$f":"'OB1 - stage K20 - timetable'!W20","v":0},{"$f":"'OB1 - stage K20 - timetable'!X20","v":0},{"$f":"'OB1 - stage K20 - timetable'!Y20","v":0},{"$f":"'OB1 - stage K20 - timetable'!Z20","v":0},{"$f":"'OB1 - stage K20 - timetable'!AA20","v":0},{"$f":"'OB1 - stage K20 - timetable'!AB20","v":0},{"$f":"'OB1 - stage K20 - timetable'!AC20","v":0},{"$f":"'OB1 - stage K20 - timetable'!AD20","v":0},{"$f":"'OB1 - stage K20 - timetable'!AE20","v":0},{"$f":"'OB1 - stage K20 - timetable'!AF20","v":0},{"$f":"'OB1 - stage K20 - timetable'!AG20","v":0},{"$f":"'OB1 - stage K20 - timetable'!AH20","v":0},{"$f":"'OB1 - stage K20 - timetable'!AI20","v":0},{"$f":"'OB1 - stage K20 - timetable'!AJ20","v":0},{"$f":"'OB1 - stage K20 - timetable'!AK20","v":0},{"$f":"'OB1 - stage K20 - timetable'!AL20","v":0},{"$f":"'OB1 - stage K20 - timetable'!AM20","v":0},{"$f":"'OB1 - stage K20 - timetable'!AN20","v":0},{"$f":"'OB1 - stage K20 - timetable'!AO20","v":0},{"$f":"'OB1 - stage K20 - timetable'!AP20","v":0},{"$f":"'OB1 - stage K20 - timetable'!AQ20","v":0},{"$f":"'OB1 - stage K20 - timetable'!AR20","v":0},{"$f":"'OB1 - stage K20 - timetable'!AS20","v":0},{"$f":"'OB1 - stage K20 - timetable'!AT20","v":0},{"$f":"'OB1 - stage K20 - timetable'!AU20","v":0},{"$f":"'OB1 - stage K20 - timetable'!AV20","v":0},{"$f":"'OB1 - stage K20 - timetable'!AW20","v":0},{"$f":"'OB1 - stage K20 - timetable'!AX20","v":0},{"$f":"'OB1 - stage K20 - timetable'!AY20","v":0},{"$f":"'OB1 - stage K20 - timetable'!AZ20","v":0},{"$f":"'OB1 - stage K20 - timetable'!BA20","v":0},{"$f":"'OB1 - stage K20 - timetable'!BB20","v":0},{"$f":"'OB1 - stage K20 - timetable'!BC20","v":0},{"$f":"'OB1 - stage K20 - timetable'!BD20","v":0},{"$f":"'OB1 - stage K20 - timetable'!BE20","v":0},{"$f":"'OB1 - stage K20 - timetable'!BF20","v":0},{"$f":"'OB1 - stage K20 - timetable'!BG20","v":0},{"$f":"'OB1 - stage K20 - timetable'!BH20","v":0},{"$f":"'OB1 - stage K20 - timetable'!BI20","v":0},{"$f":"'OB1 - stage K20 - timetable'!BJ20","v":0},{"$f":"'OB1 - stage K20 - timetable'!BK20","v":0},{"$f":"'OB1 - stage K20 - timetable'!BL20","v":0}]
["SO 103 - Transport of wood chips","stage K20 - technological part (PS 103, PS 104, PS 106, PS 107, PS 108)","K20",{"$f":"'OB1 - stage K20 - timetable'!J22","v":0},{"$f":"'OB1 - stage K20 - timetable'!K22","v":0},{"$f":"'OB1 - stage K20 - timetable'!L22","v":0},{"$f":"'OB1 - stage K20 - timetable'!M22","v":0},{"$f":"'OB1 - stage K20 - timetable'!N22","v":0},{"$f":"'OB1 - stage K20 - timetable'!O22","v":0},{"$f":"'OB1 - stage K20 - timetable'!P22","v":0},{"$f":"'OB1 - stage K20 - timetable'!Q22","v":0},{"$f":"'OB1 - stage K20 - timetable'!R22","v":0},{"$f":"'OB1 - stage K20 - timetable'!S22","v":0},{"$f":"'OB1 - stage K20 - timetable'!T22","v":0},{"$f":"'OB1 - stage K20 - timetable'!U22","v":0},{"$f":"'OB1 - stage K20 - timetable'!V22","v":0},{"$f":"'OB1 - stage K20 - timetable'!W22","v":0},{"$f":"'OB1 - stage K20 - timetable'!X22","v":0},{"$f":"'OB1 - stage K20 - timetable'!Y22","v":0},{"$f":"'OB1 - stage K20 - timetable'!Z22","v":0},{"$f":"'OB1 - stage K20 - timetable'!AA22","v":0},{"$f":"'OB1 - stage K20 - timetable'!AB22","v":0},{"$f":"'OB1 - stage K20 - timetable'!AC22","v":0},{"$f":"'OB1 - stage K20 - timetable'!AD22","v":0},{"$f":"'OB1 - stage K20 - timetable'!AE22","v":0},{"$f":"'OB1 - stage K20 - timetable'!AF22","v":0},{"$f":"'OB1 - stage K20 - timetable'!AG22","v":0},{"$f":"'OB1 - stage K20 - timetable'!AH22","v":0},{"$f":"'OB1 - stage K20 - timetable'!AI22","v":0},{"$f":"'OB1 - stage K20 - timetable'!AJ22","v":0},{"$f":"'OB1 - stage K20 - timetable'!AK22","v":0},{"$f":"'OB1 - stage K20 - timetable'!AL22","v":0},{"$f":"'OB1 - stage K20 - timetable'!AM22","v":0},{"$f":"'OB1 - stage K20 - timetable'!AN22","v":0},{"$f":"'OB1 - stage K20 - timetable'!AO22","v":0},{"$f":"'OB1 - stage K20 - timetable'!AP22","v":0},{"$f":"'OB1 - stage K20 - timetable'!AQ22","v":0},{"$f":"'OB1 - stage K20 - timetable'!AR22","v":0},{"$f":"'OB1 - stage K20 - timetable'!AS22","v":0},{"$f":"'OB1 - stage K20 - timetable'!AT22","v":0},{"$f":"'OB1 - stage K20 - timetable'!AU22","v":0},{"$f":"'OB1 - stage K20 - timetable'!AV22","v":0},{"$f":"'OB1 - stage K20 - timetable'!AW22","v":0},{"$f":"'OB1 - stage K20 - timetable'!AX22","v":0},{"$f":"'OB1 - stage K20 - timetable'!AY22","v":0},{"$f":"'OB1 - stage K20 - timetable'!AZ22","v":0},{"$f":"'OB1 - stage K20 - timetable'!BA22","v":0},{"$f":"'OB1 - stage K20 - timetable'!BB22","v":0},{"$f":"'OB1 - stage K20 - timetable'!BC22","v":0},{"$f":"'OB1 - stage K20 - timetable'!BD22","v":0},{"$f":"'OB1 - stage K20 - timetable'!BE22","v":0},{"$f":"'OB1 - stage K20 - timetable'!BF22","v":0},{"$f":"'OB1 - stage K20 - timetable'!BG22","v":0},{"$f":"'OB1 - stage K20 - timetable'!BH22","v":0},{"$f":"'OB1 - stage K20 - timetable'!BI22","v":0},{"$f":"'OB1 - stage K20 - timetable'!BJ22","v":0},{"$f":"'OB1 - stage K20 - timetable'!BK22","v":0},{"$f":"'OB1 - stage K20 - timetable'!BL22","v":0}]
[null,"stage K20 - construction part (A4.4)","K20",{"$f":"'OB1 - stage K20 - timetable'!J24","v":0},{"$f":"'OB1 - stage K20 - timetable'!K24","v":0},{"$f":"'OB1 - stage K20 - timetable'!L24","v":0},{"$f":"'OB1 - stage K20 - timetable'!M24","v":0},{"$f":"'OB1 - stage K20 - timetable'!N24","v":0},{"$f":"'OB1 - stage K20 - timetable'!O24","v":0},{"$f":"'OB1 - stage K20 - timetable'!P24","v":0},{"$f":"'OB1 - stage K20 - timetable'!Q24","v":0},{"$f":"'OB1 - stage K20 - timetable'!R24","v":0},{"$f":"'OB1 - stage K20 - timetable'!S24","v":0},{"$f":"'OB1 - stage K20 - timetable'!T24","v":0},{"$f":"'OB1 - stage K20 - timetable'!U24","v":0},{"$f":"'OB1 - stage K20 - timetable'!V24","v":0},{"$f":"'OB1 - stage K20 - timetable'!W24","v":0},{"$f":"'OB1 - stage K20 - timetable'!X24","v":0},{"$f":"'OB1 - stage K20 - timetable'!Y24","v":0},{"$f":"'OB1 - stage K20 - timetable'!Z24","v":0},{"$f":"'OB1 - stage K20 - timetable'!AA24","v":0},{"$f":"'OB1 - stage K20 - timetable'!AB24","v":0},{"$f":"'OB1 - stage K20 - timetable'!AC24","v":0},{"$f":"'OB1 - stage K20 - timetable'!AD24","v":0},{"$f":"'OB1 - stage K20 - timetable'!AE24","v":0},{"$f":"'OB1 - stage K20 - timetable'!AF24","v":0},{"$f":"'OB1 - stage K20 - timetable'!AG24","v":0},{"$f":"'OB1 - stage K20 - timetable'!AH24","v":0},{"$f":"'OB1 - stage K20 - timetable'!AI24","v":0},{"$f":"'OB1 - stage K20 - timetable'!AJ24","v":0},{"$f":"'OB1 - stage K20 - timetable'!AK24","v":0},{"$f":"'OB1 - stage K20 - timetable'!AL24","v":0},{"$f":"'OB1 - stage K20 - timetable'!AM24","v":0},{"$f":"'OB1 - stage K20 - timetable'!AN24","v":0},{"$f":"'OB1 - stage K20 - timetable'!AO24","v":0},{"$f":"'OB1 - stage K20 - timetable'!AP24","v":0},{"$f":"'OB1 - stage K20 - timetable'!AQ24","v":0},{"$f":"'OB1 - stage K20 - timetable'!AR24","v":0},{"$f":"'OB1 - stage K20 - timetable'!AS24","v":0},{"$f":"'OB1 - stage K20 - timetable'!AT24","v":0},{"$f":"'OB1 - stage K20 - timetable'!AU24","v":0},{"$f":"'OB1 - stage K20 - timetable'!AV24","v":0},{"$f":"'OB1 - stage K20 - timetable'!AW24","v":0},{"$f":"'OB1 - stage K20 - timetable'!AX24","v":0},{"$f":"'OB1 - stage K20 - timetable'!AY24","v":0},{"$f":"'OB1 - stage K20 - timetable'!AZ24","v":0},{"$f":"'OB1 - stage K20 - timetable'!BA24","v":0},{"$f":"'OB1 - stage K20 - timetable'!BB24","v":0},{"$f":"'OB1 - stage K20 - timetable'!BC24","v":0},{"$f":"'OB1 - stage K20 - timetable'!BD24","v":0},{"$f":"'OB1 - stage K20 - timetable'!BE24","v":0},{"$f":"'OB1 - stage K20 - timetable'!BF24","v":0},{"$f":"'OB1 - stage K20 - timetable'!BG24","v":0},{"$f":"'OB1 - stage K20 - timetable'!BH24","v":0},{"$f":"'OB1 - stage K20 - timetable'!BI24","v":0},{"$f":"'OB1 - stage K20 - timetable'!BJ24","v":0},{"$f":"'OB1 - stage K20 - timetable'!BK24","v":0},{"$f":"'OB1 - stage K20 - timetable'!BL24","v":0}]
["SO 102 - Wood chip storage technology","stage K20 - technological part (PS 105, PS 106, PS 107, PS 108)","K20",{"$f":"'OB1 - stage K20 - timetable'!J26","v":0},{"$f":"'OB1 - stage K20 - timetable'!K26","v":0},{"$f":"'OB1 - stage K20 - timetable'!L26","v":0},{"$f":"'OB1 - stage K20 - timetable'!M26","v":0},{"$f":"'OB1 - stage K20 - timetable'!N26","v":0},{"$f":"'OB1 - stage K20 - timetable'!O26","v":0},{"$f":"'OB1 - stage K20 - timetable'!P26","v":0},{"$f":"'OB1 - stage K20 - timetable'!Q26","v":0},{"$f":"'OB1 - stage K20 - timetable'!R26","v":0},{"$f":"'OB1 - stage K20 - timetable'!S26","v":0},{"$f":"'OB1 - stage K20 - timetable'!T26","v":0},{"$f":"'OB1 - stage K20 - timetable'!U26","v":0},{"$f":"'OB1 - stage K20 - timetable'!V26","v":0},{"$f":"'OB1 - stage K20 - timetable'!W26","v":0},{"$f":"'OB1 - stage K20 - timetable'!X26","v":0},{"$f":"'OB1 - stage K20 - timetable'!Y26","v":0},{"$f":"'OB1 - stage K20 - timetable'!Z26","v":0},{"$f":"'OB1 - stage K20 - timetable'!AA26","v":0},{"$f":"'OB1 - stage K20 - timetable'!AB26","v":0},{"$f":"'OB1 - stage K20 - timetable'!AC26","v":0},{"$f":"'OB1 - stage K20 - timetable'!AD26","v":0},{"$f":"'OB1 - stage K20 - timetable'!AE26","v":0},{"$f":"'OB1 - stage K20 - timetable'!AF26","v":0},{"$f":"'OB1 - stage K20 - timetable'!AG26","v":0},{"$f":"'OB1 - stage K20 - timetable'!AH26","v":0},{"$f":"'OB1 - stage K20 - timetable'!AI26","v":0},{"$f":"'OB1 - stage K20 - timetable'!AJ26","v":0},{"$f":"'OB1 - stage K20 - timetable'!AK26","v":0},{"$f":"'OB1 - stage K20 - timetable'!AL26","v":0},{"$f":"'OB1 - stage K20 - timetable'!AM26","v":0},{"$f":"'OB1 - stage K20 - timetable'!AN26","v":0},{"$f":"'OB1 - stage K20 - timetable'!AO26","v":0},{"$f":"'OB1 - stage K20 - timetable'!AP26","v":0},{"$f":"'OB1 - stage K20 - timetable'!AQ26","v":0},{"$f":"'OB1 - stage K20 - timetable'!AR26","v":0},{"$f":"'OB1 - stage K20 - timetable'!AS26","v":0},{"$f":"'OB1 - stage K20 - timetable'!AT26","v":0},{"$f":"'OB1 - stage K20 - timetable'!AU26","v":0},{"$f":"'OB1 - stage K20 - timetable'!AV26","v":0},{"$f":"'OB1 - stage K20 - timetable'!AW26","v":0},{"$f":"'OB1 - stage K20 - timetable'!AX26","v":0},{"$f":"'OB1 - stage K20 - timetable'!AY26","v":0},{"$f":"'OB1 - stage K20 - timetable'!AZ26","v":0},{"$f":"'OB1 - stage K20 - timetable'!BA26","v":0},{"$f":"'OB1 - stage K20 - timetable'!BB26","v":0},{"$f":"'OB1 - stage K20 - timetable'!BC26","v":0},{"$f":"'OB1 - stage K20 - timetable'!BD26","v":0},{"$f":"'OB1 - stage K20 - timetable'!BE26","v":0},{"$f":"'OB1 - stage K20 - timetable'!BF26","v":0},{"$f":"'OB1 - stage K20 - timetable'!BG26","v":0},{"$f":"'OB1 - stage K20 - timetable'!BH26","v":0},{"$f":"'OB1 - stage K20 - timetable'!BI26","v":0},{"$f":"'OB1 - stage K20 - timetable'!BJ26","v":0},{"$f":"'OB1 - stage K20 - timetable'!BK26","v":0},{"$f":"'OB1 - stage K20 - timetable'!BL26","v":0}]
[null,"stage K20 - construction part (A4.4)","K20",{"$f":"'OB1 - stage K20 - timetable'!J28","v":0},{"$f":"'OB1 - stage K20 - timetable'!K28","v":0},{"$f":"'OB1 - stage K20 - timetable'!L28","v":0},{"$f":"'OB1 - stage K20 - timetable'!M28","v":0},{"$f":"'OB1 - stage K20 - timetable'!N28","v":0},{"$f":"'OB1 - stage K20 - timetable'!O28","v":0},{"$f":"'OB1 - stage K20 - timetable'!P28","v":0},{"$f":"'OB1 - stage K20 - timetable'!Q28","v":0},{"$f":"'OB1 - stage K20 - timetable'!R28","v":0},{"$f":"'OB1 - stage K20 - timetable'!S28","v":0},{"$f":"'OB1 - stage K20 - timetable'!T28","v":0},{"$f":"'OB1 - stage K20 - timetable'!U28","v":0},{"$f":"'OB1 - stage K20 - timetable'!V28","v":0},{"$f":"'OB1 - stage K20 - timetable'!W28","v":0},{"$f":"'OB1 - stage K20 - timetable'!X28","v":0},{"$f":"'OB1 - stage K20 - timetable'!Y28","v":0},{"$f":"'OB1 - stage K20 - timetable'!Z28","v":0},{"$f":"'OB1 - stage K20 - timetable'!AA28","v":0},{"$f":"'OB1 - stage K20 - timetable'!AB28","v":0},{"$f":"'OB1 - stage K20 - timetable'!AC28","v":0},{"$f":"'OB1 - stage K20 - timetable'!AD28","v":0},{"$f":"'OB1 - stage K20 - timetable'!AE28","v":0},{"$f":"'OB1 - stage K20 - timetable'!AF28","v":0},{"$f":"'OB1 - stage K20 - timetable'!AG28","v":0},{"$f":"'OB1 - stage K20 - timetable'!AH28","v":0},{"$f":"'OB1 - stage K20 - timetable'!AI28","v":0},{"$f":"'OB1 - stage K20 - timetable'!AJ28","v":0},{"$f":"'OB1 - stage K20 - timetable'!AK28","v":0},{"$f":"'OB1 - stage K20 - timetable'!AL28","v":0},{"$f":"'OB1 - stage K20 - timetable'!AM28","v":0},{"$f":"'OB1 - stage K20 - timetable'!AN28","v":0},{"$f":"'OB1 - stage K20 - timetable'!AO28","v":0},{"$f":"'OB1 - stage K20 - timetable'!AP28","v":0},{"$f":"'OB1 - stage K20 - timetable'!AQ28","v":0},{"$f":"'OB1 - stage K20 - timetable'!AR28","v":0},{"$f":"'OB1 - stage K20 - timetable'!AS28","v":0},{"$f":"'OB1 - stage K20 - timetable'!AT28","v":0},{"$f":"'OB1 - stage K20 - timetable'!AU28","v":0},{"$f":"'OB1 - stage K20 - timetable'!AV28","v":0},{"$f":"'OB1 - stage K20 - timetable'!AW28","v":0},{"$f":"'OB1 - stage K20 - timetable'!AX28","v":0},{"$f":"'OB1 - stage K20 - timetable'!AY28","v":0},{"$f":"'OB1 - stage K20 - timetable'!AZ28","v":0},{"$f":"'OB1 - stage K20 - timetable'!BA28","v":0},{"$f":"'OB1 - stage K20 - timetable'!BB28","v":0},{"$f":"'OB1 - stage K20 - timetable'!BC28","v":0},{"$f":"'OB1 - stage K20 - timetable'!BD28","v":0},{"$f":"'OB1 - stage K20 - timetable'!BE28","v":0},{"$f":"'OB1 - stage K20 - timetable'!BF28","v":0},{"$f":"'OB1 - stage K20 - timetable'!BG28","v":0},{"$f":"'OB1 - stage K20 - timetable'!BH28","v":0},{"$f":"'OB1 - stage K20 - timetable'!BI28","v":0},{"$f":"'OB1 - stage K20 - timetable'!BJ28","v":0},{"$f":"'OB1 - stage K20 - timetable'!BK28","v":0},{"$f":"'OB1 - stage K20 - timetable'!BL28","v":0}]
["SO 104 - Transport of wood chips to boiler room K20","stage K20 - technological part (PS 104, PS 106, PS 107, PS 108)","K20",{"$f":"'OB1 - stage K20 - timetable'!J30","v":0},{"$f":"'OB1 - stage K20 - timetable'!K30","v":0},{"$f":"'OB1 - stage K20 - timetable'!L30","v":0},{"$f":"'OB1 - stage K20 - timetable'!M30","v":0},{"$f":"'OB1 - stage K20 - timetable'!N30","v":0},{"$f":"'OB1 - stage K20 - timetable'!O30","v":0},{"$f":"'OB1 - stage K20 - timetable'!P30","v":0},{"$f":"'OB1 - stage K20 - timetable'!Q30","v":0},{"$f":"'OB1 - stage K20 - timetable'!R30","v":0},{"$f":"'OB1 - stage K20 - timetable'!S30","v":0},{"$f":"'OB1 - stage K20 - timetable'!T30","v":0},{"$f":"'OB1 - stage K20 - timetable'!U30","v":0},{"$f":"'OB1 - stage K20 - timetable'!V30","v":0},{"$f":"'OB1 - stage K20 - timetable'!W30","v":0},{"$f":"'OB1 - stage K20 - timetable'!X30","v":0},{"$f":"'OB1 - stage K20 - timetable'!Y30","v":0},{"$f":"'OB1 - stage K20 - timetable'!Z30","v":0},{"$f":"'OB1 - stage K20 - timetable'!AA30","v":0},{"$f":"'OB1 - stage K20 - timetable'!AB30","v":0},{"$f":"'OB1 - stage K20 - timetable'!AC30","v":0},{"$f":"'OB1 - stage K20 - timetable'!AD30","v":0},{"$f":"'OB1 - stage K20 - timetable'!AE30","v":0},{"$f":"'OB1 - stage K20 - timetable'!AF30","v":0},{"$f":"'OB1 - stage K20 - timetable'!AG30","v":0},{"$f":"'OB1 - stage K20 - timetable'!AH30","v":0},{"$f":"'OB1 - stage K20 - timetable'!AI30","v":0},{"$f":"'OB1 - stage K20 - timetable'!AJ30","v":0},{"$f":"'OB1 - stage K20 - timetable'!AK30","v":0},{"$f":"'OB1 - stage K20 - timetable'!AL30","v":0},{"$f":"'OB1 - stage K20 - timetable'!AM30","v":0},{"$f":"'OB1 - stage K20 - timetable'!AN30","v":0},{"$f":"'OB1 - stage K20 - timetable'!AO30","v":0},{"$f":"'OB1 - stage K20 - timetable'!AP30","v":0},{"$f":"'OB1 - stage K20 - timetable'!AQ30","v":0},{"$f":"'OB1 - stage K20 - timetable'!AR30","v":0},{"$f":"'OB1 - stage K20 - timetable'!AS30","v":0},{"$f":"'OB1 - stage K20 - timetable'!AT30","v":0},{"$f":"'OB1 - stage K20 - timetable'!AU30","v":0},{"$f":"'OB1 - stage K20 - timetable'!AV30","v":0},{"$f":"'OB1 - stage K20 - timetable'!AW30","v":0},{"$f":"'OB1 - stage K20 - timetable'!AX30","v":0},{"$f":"'OB1 - stage K20 - timetable'!AY30","v":0},{"$f":"'OB1 - stage K20 - timetable'!AZ30","v":0},{"$f":"'OB1 - stage K20 - timetable'!BA30","v":0},{"$f":"'OB1 - stage K20 - timetable'!BB30","v":0},{"$f":"'OB1 - stage K20 - timetable'!BC30","v":0},{"$f":"'OB1 - stage K20 - timetable'!BD30","v":0},{"$f":"'OB1 - stage K20 - timetable'!BE30","v":0},{"$f":"'OB1 - stage K20 - timetable'!BF30","v":0},{"$f":"'OB1 - stage K20 - timetable'!BG30","v":0},{"$f":"'OB1 - stage K20 - timetable'!BH30","v":0},{"$f":"'OB1 - stage K20 - timetable'!BI30","v":0},{"$f":"'OB1 - stage K20 - timetable'!BJ30","v":0},{"$f":"'OB1 - stage K20 - timetable'!BK30","v":0},{"$f":"'OB1 - stage K20 - timetable'!BL30","v":0}]
[null,"stage K20 - construction part (A4.4)","K20",{"$f":"'OB1 - stage K20 - timetable'!J32","v":0},{"$f":"'OB1 - stage K20 - timetable'!K32","v":0},{"$f":"'OB1 - stage K20 - timetable'!L32","v":0},{"$f":"'OB1 - stage K20 - timetable'!M32","v":0},{"$f":"'OB1 - stage K20 - timetable'!N32","v":0},{"$f":"'OB1 - stage K20 - timetable'!O32","v":0},{"$f":"'OB1 - stage K20 - timetable'!P32","v":0},{"$f":"'OB1 - stage K20 - timetable'!Q32","v":0},{"$f":"'OB1 - stage K20 - timetable'!R32","v":0},{"$f":"'OB1 - stage K20 - timetable'!S32","v":0},{"$f":"'OB1 - stage K20 - timetable'!T32","v":0},{"$f":"'OB1 - stage K20 - timetable'!U32","v":0},{"$f":"'OB1 - stage K20 - timetable'!V32","v":0},{"$f":"'OB1 - stage K20 - timetable'!W32","v":0},{"$f":"'OB1 - stage K20 - timetable'!X32","v":0},{"$f":"'OB1 - stage K20 - timetable'!Y32","v":0},{"$f":"'OB1 - stage K20 - timetable'!Z32","v":0},{"$f":"'OB1 - stage K20 - timetable'!AA32","v":0},{"$f":"'OB1 - stage K20 - timetable'!AB32","v":0},{"$f":"'OB1 - stage K20 - timetable'!AC32","v":0},{"$f":"'OB1 - stage K20 - timetable'!AD32","v":0},{"$f":"'OB1 - stage K20 - timetable'!AE32","v":0},{"$f":"'OB1 - stage K20 - timetable'!AF32","v":0},{"$f":"'OB1 - stage K20 - timetable'!AG32","v":0},{"$f":"'OB1 - stage K20 - timetable'!AH32","v":0},{"$f":"'OB1 - stage K20 - timetable'!AI32","v":0},{"$f":"'OB1 - stage K20 - timetable'!AJ32","v":0},{"$f":"'OB1 - stage K20 - timetable'!AK32","v":0},{"$f":"'OB1 - stage K20 - timetable'!AL32","v":0},{"$f":"'OB1 - stage K20 - timetable'!AM32","v":0},{"$f":"'OB1 - stage K20 - timetable'!AN32","v":0},{"$f":"'OB1 - stage K20 - timetable'!AO32","v":0},{"$f":"'OB1 - stage K20 - timetable'!AP32","v":0},{"$f":"'OB1 - stage K20 - timetable'!AQ32","v":0},{"$f":"'OB1 - stage K20 - timetable'!AR32","v":0},{"$f":"'OB1 - stage K20 - timetable'!AS32","v":0},{"$f":"'OB1 - stage K20 - timetable'!AT32","v":0},{"$f":"'OB1 - stage K20 - timetable'!AU32","v":0},{"$f":"'OB1 - stage K20 - timetable'!AV32","v":0},{"$f":"'OB1 - stage K20 - timetable'!AW32","v":0},{"$f":"'OB1 - stage K20 - timetable'!AX32","v":0},{"$f":"'OB1 - stage K20 - timetable'!AY32","v":0},{"$f":"'OB1 - stage K20 - timetable'!AZ32","v":0},{"$f":"'OB1 - stage K20 - timetable'!BA32","v":0},{"$f":"'OB1 - stage K20 - timetable'!BB32","v":0},{"$f":"'OB1 - stage K20 - timetable'!BC32","v":0},{"$f":"'OB1 - stage K20 - timetable'!BD32","v":0},{"$f":"'OB1 - stage K20 - timetable'!BE32","v":0},{"$f":"'OB1 - stage K20 - timetable'!BF32","v":0},{"$f":"'OB1 - stage K20 - timetable'!BG32","v":0},{"$f":"'OB1 - stage K20 - timetable'!BH32","v":0},{"$f":"'OB1 - stage K20 - timetable'!BI32","v":0},{"$f":"'OB1 - stage K20 - timetable'!BJ32","v":0},{"$f":"'OB1 - stage K20 - timetable'!BK32","v":0},{"$f":"'OB1 - stage K20 - timetable'!BL32","v":0}]
[null,"stage K20 - completion of construction works","K20",{"$f":"'OB1 - stage K20 - timetable'!J34","v":0},{"$f":"'OB1 - stage K20 - timetable'!K34","v":0},{"$f":"'OB1 - stage K20 - timetable'!L34","v":0},{"$f":"'OB1 - stage K20 - timetable'!M34","v":0},{"$f":"'OB1 - stage K20 - timetable'!N34","v":0},{"$f":"'OB1 - stage K20 - timetable'!O34","v":0},{"$f":"'OB1 - stage K20 - timetable'!P34","v":0},{"$f":"'OB1 - stage K20 - timetable'!Q34","v":0},{"$f":"'OB1 - stage K20 - timetable'!R34","v":0},{"$f":"'OB1 - stage K20 - timetable'!S34","v":0},{"$f":"'OB1 - stage K20 - timetable'!T34","v":0},{"$f":"'OB1 - stage K20 - timetable'!U34","v":0},{"$f":"'OB1 - stage K20 - timetable'!V34","v":0},{"$f":"'OB1 - stage K20 - timetable'!W34","v":0},{"$f":"'OB1 - stage K20 - timetable'!X34","v":0},{"$f":"'OB1 - stage K20 - timetable'!Y34","v":0},{"$f":"'OB1 - stage K20 - timetable'!Z34","v":0},{"$f":"'OB1 - stage K20 - timetable'!AA34","v":0},{"$f":"'OB1 - stage K20 - timetable'!AB34","v":0},{"$f":"'OB1 - stage K20 - timetable'!AC34","v":0},{"$f":"'OB1 - stage K20 - timetable'!AD34","v":0},{"$f":"'OB1 - stage K20 - timetable'!AE34","v":0},{"$f":"'OB1 - stage K20 - timetable'!AF34","v":0},{"$f":"'OB1 - stage K20 - timetable'!AG34","v":0},{"$f":"'OB1 - stage K20 - timetable'!AH34","v":0},{"$f":"'OB1 - stage K20 - timetable'!AI34","v":0},{"$f":"'OB1 - stage K20 - timetable'!AJ34","v":0},{"$f":"'OB1 - stage K20 - timetable'!AK34","v":0},{"$f":"'OB1 - stage K20 - timetable'!AL34","v":0},{"$f":"'OB1 - stage K20 - timetable'!AM34","v":0},{"$f":"'OB1 - stage K20 - timetable'!AN34","v":0},{"$f":"'OB1 - stage K20 - timetable'!AO34","v":0},{"$f":"'OB1 - stage K20 - timetable'!AP34","v":0},{"$f":"'OB1 - stage K20 - timetable'!AQ34","v":0},{"$f":"'OB1 - stage K20 - timetable'!AR34","v":0},{"$f":"'OB1 - stage K20 - timetable'!AS34","v":0},{"$f":"'OB1 - stage K20 - timetable'!AT34","v":0},{"$f":"'OB1 - stage K20 - timetable'!AU34","v":0},{"$f":"'OB1 - stage K20 - timetable'!AV34","v":0},{"$f":"'OB1 - stage K20 - timetable'!AW34","v":0},{"$f":"'OB1 - stage K20 - timetable'!AX34","v":0},{"$f":"'OB1 - stage K20 - timetable'!AY34","v":0},{"$f":"'OB1 - stage K20 - timetable'!AZ34","v":0},{"$f":"'OB1 - stage K20 - timetable'!BA34","v":0},{"$f":"'OB1 - stage K20 - timetable'!BB34","v":0},{"$f":"'OB1 - stage K20 - timetable'!BC34","v":0},{"$f":"'OB1 - stage K20 - timetable'!BD34","v":0},{"$f":"'OB1 - stage K20 - timetable'!BE34","v":0},{"$f":"'OB1 - stage K20 - timetable'!BF34","v":0},{"$f":"'OB1 - stage K20 - timetable'!BG34","v":0},{"$f":"'OB1 - stage K20 - timetable'!BH34","v":0},{"$f":"'OB1 - stage K20 - timetable'!BI34","v":0},{"$f":"'OB1 - stage K20 - timetable'!BJ34","v":0},{"$f":"'OB1 - stage K20 - timetable'!BK34","v":0},{"$f":"'OB1 - stage K20 - timetable'!BL34","v":0}]
[null,"stage K20 - completion of installation works","K20",{"$f":"'OB1 - stage K20 - timetable'!J35","v":0},{"$f":"'OB1 - stage K20 - timetable'!K35","v":0},{"$f":"'OB1 - stage K20 - timetable'!L35","v":0},{"$f":"'OB1 - stage K20 - timetable'!M35","v":0},{"$f":"'OB1 - stage K20 - timetable'!N35","v":0},{"$f":"'OB1 - stage K20 - timetable'!O35","v":0},{"$f":"'OB1 - stage K20 - timetable'!P35","v":0},{"$f":"'OB1 - stage K20 - timetable'!Q35","v":0},{"$f":"'OB1 - stage K20 - timetable'!R35","v":0},{"$f":"'OB1 - stage K20 - timetable'!S35","v":0},{"$f":"'OB1 - stage K20 - timetable'!T35","v":0},{"$f":"'OB1 - stage K20 - timetable'!U35","v":0},{"$f":"'OB1 - stage K20 - timetable'!V35","v":0},{"$f":"'OB1 - stage K20 - timetable'!W35","v":0},{"$f":"'OB1 - stage K20 - timetable'!X35","v":0},{"$f":"'OB1 - stage K20 - timetable'!Y35","v":0},{"$f":"'OB1 - stage K20 - timetable'!Z35","v":0},{"$f":"'OB1 - stage K20 - timetable'!AA35","v":0},{"$f":"'OB1 - stage K20 - timetable'!AB35","v":0},{"$f":"'OB1 - stage K20 - timetable'!AC35","v":0},{"$f":"'OB1 - stage K20 - timetable'!AD35","v":0},{"$f":"'OB1 - stage K20 - timetable'!AE35","v":0},{"$f":"'OB1 - stage K20 - timetable'!AF35","v":0},{"$f":"'OB1 - stage K20 - timetable'!AG35","v":0},{"$f":"'OB1 - stage K20 - timetable'!AH35","v":0},{"$f":"'OB1 - stage K20 - timetable'!AI35","v":0},{"$f":"'OB1 - stage K20 - timetable'!AJ35","v":0},{"$f":"'OB1 - stage K20 - timetable'!AK35","v":0},{"$f":"'OB1 - stage K20 - timetable'!AL35","v":0},{"$f":"'OB1 - stage K20 - timetable'!AM35","v":0},{"$f":"'OB1 - stage K20 - timetable'!AN35","v":0},{"$f":"'OB1 - stage K20 - timetable'!AO35","v":0},{"$f":"'OB1 - stage K20 - timetable'!AP35","v":0},{"$f":"'OB1 - stage K20 - timetable'!AQ35","v":0},{"$f":"'OB1 - stage K20 - timetable'!AR35","v":0},{"$f":"'OB1 - stage K20 - timetable'!AS35","v":0},{"$f":"'OB1 - stage K20 - timetable'!AT35","v":0},{"$f":"'OB1 - stage K20 - timetable'!AU35","v":0},{"$f":"'OB1 - stage K20 - timetable'!AV35","v":0},{"$f":"'OB1 - stage K20 - timetable'!AW35","v":0},{"$f":"'OB1 - stage K20 - timetable'!AX35","v":0},{"$f":"'OB1 - stage K20 - timetable'!AY35","v":0},{"$f":"'OB1 - stage K20 - timetable'!AZ35","v":0},{"$f":"'OB1 - stage K20 - timetable'!BA35","v":0},{"$f":"'OB1 - stage K20 - timetable'!BB35","v":0},{"$f":"'OB1 - stage K20 - timetable'!BC35","v":0},{"$f":"'OB1 - stage K20 - timetable'!BD35","v":0},{"$f":"'OB1 - stage K20 - timetable'!BE35","v":0},{"$f":"'OB1 - stage K20 - timetable'!BF35","v":0},{"$f":"'OB1 - stage K20 - timetable'!BG35","v":0},{"$f":"'OB1 - stage K20 - timetable'!BH35","v":0},{"$f":"'OB1 - stage K20 - timetable'!BI35","v":0},{"$f":"'OB1 - stage K20 - timetable'!BJ35","v":0},{"$f":"'OB1 - stage K20 - timetable'!BK35","v":0},{"$f":"'OB1 - stage K20 - timetable'!BL35","v":0}]
[null,"stage K20 - training of operation staff","K20",{"$f":"'OB1 - stage K20 - timetable'!J36","v":0},{"$f":"'OB1 - stage K20 - timetable'!K36","v":0},{"$f":"'OB1 - stage K20 - timetable'!L36","v":0},{"$f":"'OB1 - stage K20 - timetable'!M36","v":0},{"$f":"'OB1 - stage K20 - timetable'!N36","v":0},{"$f":"'OB1 - stage K20 - timetable'!O36","v":0},{"$f":"'OB1 - stage K20 - timetable'!P36","v":0},{"$f":"'OB1 - stage K20 - timetable'!Q36","v":0},{"$f":"'OB1 - stage K20 - timetable'!R36","v":0},{"$f":"'OB1 - stage K20 - timetable'!S36","v":0},{"$f":"'OB1 - stage K20 - timetable'!T36","v":0},{"$f":"'OB1 - stage K20 - timetable'!U36","v":0},{"$f":"'OB1 - stage K20 - timetable'!V36","v":0},{"$f":"'OB1 - stage K20 - timetable'!W36","v":0},{"$f":"'OB1 - stage K20 - timetable'!X36","v":0},{"$f":"'OB1 - stage K20 - timetable'!Y36","v":0},{"$f":"'OB1 - stage K20 - timetable'!Z36","v":0},{"$f":"'OB1 - stage K20 - timetable'!AA36","v":0},{"$f":"'OB1 - stage K20 - timetable'!AB36","v":0},{"$f":"'OB1 - stage K20 - timetable'!AC36","v":0},{"$f":"'OB1 - stage K20 - timetable'!AD36","v":0},{"$f":"'OB1 - stage K20 - timetable'!AE36","v":0},{"$f":"'OB1 - stage K20 - timetable'!AF36","v":0},{"$f":"'OB1 - stage K20 - timetable'!AG36","v":0},{"$f":"'OB1 - stage K20 - timetable'!AH36","v":0},{"$f":"'OB1 - stage K20 - timetable'!AI36","v":0},{"$f":"'OB1 - stage K20 - timetable'!AJ36","v":0},{"$f":"'OB1 - stage K20 - timetable'!AK36","v":0},{"$f":"'OB1 - stage K20 - timetable'!AL36","v":0},{"$f":"'OB1 - stage K20 - timetable'!AM36","v":0},{"$f":"'OB1 - stage K20 - timetable'!AN36","v":0},{"$f":"'OB1 - stage K20 - timetable'!AO36","v":0},{"$f":"'OB1 - stage K20 - timetable'!AP36","v":0},{"$f":"'OB1 - stage K20 - timetable'!AQ36","v":0},{"$f":"'OB1 - stage K20 - timetable'!AR36","v":0},{"$f":"'OB1 - stage K20 - timetable'!AS36","v":0},{"$f":"'OB1 - stage K20 - timetable'!AT36","v":0},{"$f":"'OB1 - stage K20 - timetable'!AU36","v":0},{"$f":"'OB1 - stage K20 - timetable'!AV36","v":0},{"$f":"'OB1 - stage K20 - timetable'!AW36","v":0},{"$f":"'OB1 - stage K20 - timetable'!AX36","v":0},{"$f":"'OB1 - stage K20 - timetable'!AY36","v":0},{"$f":"'OB1 - stage K20 - timetable'!AZ36","v":0},{"$f":"'OB1 - stage K20 - timetable'!BA36","v":0},{"$f":"'OB1 - stage K20 - timetable'!BB36","v":0},{"$f":"'OB1 - stage K20 - timetable'!BC36","v":0},{"$f":"'OB1 - stage K20 - timetable'!BD36","v":0},{"$f":"'OB1 - stage K20 - timetable'!BE36","v":0},{"$f":"'OB1 - stage K20 - timetable'!BF36","v":0},{"$f":"'OB1 - stage K20 - timetable'!BG36","v":0},{"$f":"'OB1 - stage K20 - timetable'!BH36","v":0},{"$f":"'OB1 - stage K20 - timetable'!BI36","v":0},{"$f":"'OB1 - stage K20 - timetable'!BJ36","v":0},{"$f":"'OB1 - stage K20 - timetable'!BK36","v":0},{"$f":"'OB1 - stage K20 - timetable'!BL36","v":0}]
[null,"stage K20 - comprehensive testing","K20",{"$f":"'OB1 - stage K20 - timetable'!J38","v":0},{"$f":"'OB1 - stage K20 - timetable'!K38","v":0},{"$f":"'OB1 - stage K20 - timetable'!L38","v":0},{"$f":"'OB1 - stage K20 - timetable'!M38","v":0},{"$f":"'OB1 - stage K20 - timetable'!N38","v":0},{"$f":"'OB1 - stage K20 - timetable'!O38","v":0},{"$f":"'OB1 - stage K20 - timetable'!P38","v":0},{"$f":"'OB1 - stage K20 - timetable'!Q38","v":0},{"$f":"'OB1 - stage K20 - timetable'!R38","v":0},{"$f":"'OB1 - stage K20 - timetable'!S38","v":0},{"$f":"'OB1 - stage K20 - timetable'!T38","v":0},{"$f":"'OB1 - stage K20 - timetable'!U38","v":0},{"$f":"'OB1 - stage K20 - timetable'!V38","v":0},{"$f":"'OB1 - stage K20 - timetable'!W38","v":0},{"$f":"'OB1 - stage K20 - timetable'!X38","v":0},{"$f":"'OB1 - stage K20 - timetable'!Y38","v":0},{"$f":"'OB1 - stage K20 - timetable'!Z38","v":0},{"$f":"'OB1 - stage K20 - timetable'!AA38","v":0},{"$f":"'OB1 - stage K20 - timetable'!AB38","v":0},{"$f":"'OB1 - stage K20 - timetable'!AC38","v":0},{"$f":"'OB1 - stage K20 - timetable'!AD38","v":0},{"$f":"'OB1 - stage K20 - timetable'!AE38","v":0},{"$f":"'OB1 - stage K20 - timetable'!AF38","v":0},{"$f":"'OB1 - stage K20 - timetable'!AG38","v":0},{"$f":"'OB1 - stage K20 - timetable'!AH38","v":0},{"$f":"'OB1 - stage K20 - timetable'!AI38","v":0},{"$f":"'OB1 - stage K20 - timetable'!AJ38","v":0},{"$f":"'OB1 - stage K20 - timetable'!AK38","v":0},{"$f":"'OB1 - stage K20 - timetable'!AL38","v":0},{"$f":"'OB1 - stage K20 - timetable'!AM38","v":0},{"$f":"'OB1 - stage K20 - timetable'!AN38","v":0},{"$f":"'OB1 - stage K20 - timetable'!AO38","v":0},{"$f":"'OB1 - stage K20 - timetable'!AP38","v":0},{"$f":"'OB1 - stage K20 - timetable'!AQ38","v":0},{"$f":"'OB1 - stage K20 - timetable'!AR38","v":0},{"$f":"'OB1 - stage K20 - timetable'!AS38","v":0},{"$f":"'OB1 - stage K20 - timetable'!AT38","v":0},{"$f":"'OB1 - stage K20 - timetable'!AU38","v":0},{"$f":"'OB1 - stage K20 - timetable'!AV38","v":0},{"$f":"'OB1 - stage K20 - timetable'!AW38","v":0},{"$f":"'OB1 - stage K20 - timetable'!AX38","v":0},{"$f":"'OB1 - stage K20 - timetable'!AY38","v":0},{"$f":"'OB1 - stage K20 - timetable'!AZ38","v":0},{"$f":"'OB1 - stage K20 - timetable'!BA38","v":0},{"$f":"'OB1 - stage K20 - timetable'!BB38","v":0},{"$f":"'OB1 - stage K20 - timetable'!BC38","v":0},{"$f":"'OB1 - stage K20 - timetable'!BD38","v":0},{"$f":"'OB1 - stage K20 - timetable'!BE38","v":0},{"$f":"'OB1 - stage K20 - timetable'!BF38","v":0},{"$f":"'OB1 - stage K20 - timetable'!BG38","v":0},{"$f":"'OB1 - stage K20 - timetable'!BH38","v":0},{"$f":"'OB1 - stage K20 - timetable'!BI38","v":0},{"$f":"'OB1 - stage K20 - timetable'!BJ38","v":0},{"$f":"'OB1 - stage K20 - timetable'!BK38","v":0},{"$f":"'OB1 - stage K20 - timetable'!BL38","v":0}]
[null,"stage K20 - test operation","K20",{"$f":"'OB1 - stage K20 - timetable'!J40","v":0},{"$f":"'OB1 - stage K20 - timetable'!K40","v":0},{"$f":"'OB1 - stage K20 - timetable'!L40","v":0},{"$f":"'OB1 - stage K20 - timetable'!M40","v":0},{"$f":"'OB1 - stage K20 - timetable'!N40","v":0},{"$f":"'OB1 - stage K20 - timetable'!O40","v":0},{"$f":"'OB1 - stage K20 - timetable'!P40","v":0},{"$f":"'OB1 - stage K20 - timetable'!Q40","v":0},{"$f":"'OB1 - stage K20 - timetable'!R40","v":0},{"$f":"'OB1 - stage K20 - timetable'!S40","v":0},{"$f":"'OB1 - stage K20 - timetable'!T40","v":0},{"$f":"'OB1 - stage K20 - timetable'!U40","v":0},{"$f":"'OB1 - stage K20 - timetable'!V40","v":0},{"$f":"'OB1 - stage K20 - timetable'!W40","v":0},{"$f":"'OB1 - stage K20 - timetable'!X40","v":0},{"$f":"'OB1 - stage K20 - timetable'!Y40","v":0},{"$f":"'OB1 - stage K20 - timetable'!Z40","v":0},{"$f":"'OB1 - stage K20 - timetable'!AA40","v":0},{"$f":"'OB1 - stage K20 - timetable'!AB40","v":0},{"$f":"'OB1 - stage K20 - timetable'!AC40","v":0},{"$f":"'OB1 - stage K20 - timetable'!AD40","v":0},{"$f":"'OB1 - stage K20 - timetable'!AE40","v":0},{"$f":"'OB1 - stage K20 - timetable'!AF40","v":0},{"$f":"'OB1 - stage K20 - timetable'!AG40","v":0},{"$f":"'OB1 - stage K20 - timetable'!AH40","v":0},{"$f":"'OB1 - stage K20 - timetable'!AI40","v":0},{"$f":"'OB1 - stage K20 - timetable'!AJ40","v":0},{"$f":"'OB1 - stage K20 - timetable'!AK40","v":0},{"$f":"'OB1 - stage K20 - timetable'!AL40","v":0},{"$f":"'OB1 - stage K20 - timetable'!AM40","v":0},{"$f":"'OB1 - stage K20 - timetable'!AN40","v":0},{"$f":"'OB1 - stage K20 - timetable'!AO40","v":0},{"$f":"'OB1 - stage K20 - timetable'!AP40","v":0},{"$f":"'OB1 - stage K20 - timetable'!AQ40","v":0},{"$f":"'OB1 - stage K20 - timetable'!AR40","v":0},{"$f":"'OB1 - stage K20 - timetable'!AS40","v":0},{"$f":"'OB1 - stage K20 - timetable'!AT40","v":0},{"$f":"'OB1 - stage K20 - timetable'!AU40","v":0},{"$f":"'OB1 - stage K20 - timetable'!AV40","v":0},{"$f":"'OB1 - stage K20 - timetable'!AW40","v":0},{"$f":"'OB1 - stage K20 - timetable'!AX40","v":0},{"$f":"'OB1 - stage K20 - timetable'!AY40","v":0},{"$f":"'OB1 - stage K20 - timetable'!AZ40","v":0},{"$f":"'OB1 - stage K20 - timetable'!BA40","v":0},{"$f":"'OB1 - stage K20 - timetable'!BB40","v":0},{"$f":"'OB1 - stage K20 - timetable'!BC40","v":0},{"$f":"'OB1 - stage K20 - timetable'!BD40","v":0},{"$f":"'OB1 - stage K20 - timetable'!BE40","v":0},{"$f":"'OB1 - stage K20 - timetable'!BF40","v":0},{"$f":"'OB1 - stage K20 - timetable'!BG40","v":0},{"$f":"'OB1 - stage K20 - timetable'!BH40","v":0},{"$f":"'OB1 - stage K20 - timetable'!BI40","v":0},{"$f":"'OB1 - stage K20 - timetable'!BJ40","v":0},{"$f":"'OB1 - stage K20 - timetable'!BK40","v":0},{"$f":"'OB1 - stage K20 - timetable'!BL40","v":0}]
[null,"stage K20 - warranty test A","K20",{"$f":"'OB1 - stage K20 - timetable'!J42","v":0},{"$f":"'OB1 - stage K20 - timetable'!K42","v":0},{"$f":"'OB1 - stage K20 - timetable'!L42","v":0},{"$f":"'OB1 - stage K20 - timetable'!M42","v":0},{"$f":"'OB1 - stage K20 - timetable'!N42","v":0},{"$f":"'OB1 - stage K20 - timetable'!O42","v":0},{"$f":"'OB1 - stage K20 - timetable'!P42","v":0},{"$f":"'OB1 - stage K20 - timetable'!Q42","v":0},{"$f":"'OB1 - stage K20 - timetable'!R42","v":0},{"$f":"'OB1 - stage K20 - timetable'!S42","v":0},{"$f":"'OB1 - stage K20 - timetable'!T42","v":0},{"$f":"'OB1 - stage K20 - timetable'!U42","v":0},{"$f":"'OB1 - stage K20 - timetable'!V42","v":0},{"$f":"'OB1 - stage K20 - timetable'!W42","v":0},{"$f":"'OB1 - stage K20 - timetable'!X42","v":0},{"$f":"'OB1 - stage K20 - timetable'!Y42","v":0},{"$f":"'OB1 - stage K20 - timetable'!Z42","v":0},{"$f":"'OB1 - stage K20 - timetable'!AA42","v":0},{"$f":"'OB1 - stage K20 - timetable'!AB42","v":0},{"$f":"'OB1 - stage K20 - timetable'!AC42","v":0},{"$f":"'OB1 - stage K20 - timetable'!AD42","v":0},{"$f":"'OB1 - stage K20 - timetable'!AE42","v":0},{"$f":"'OB1 - stage K20 - timetable'!AF42","v":0},{"$f":"'OB1 - stage K20 - timetable'!AG42","v":0},{"$f":"'OB1 - stage K20 - timetable'!AH42","v":0},{"$f":"'OB1 - stage K20 - timetable'!AI42","v":0},{"$f":"'OB1 - stage K20 - timetable'!AJ42","v":0},{"$f":"'OB1 - stage K20 - timetable'!AK42","v":0},{"$f":"'OB1 - stage K20 - timetable'!AL42","v":0},{"$f":"'OB1 - stage K20 - timetable'!AM42","v":0},{"$f":"'OB1 - stage K20 - timetable'!AN42","v":0},{"$f":"'OB1 - stage K20 - timetable'!AO42","v":0},{"$f":"'OB1 - stage K20 - timetable'!AP42","v":0},{"$f":"'OB1 - stage K20 - timetable'!AQ42","v":0},{"$f":"'OB1 - stage K20 - timetable'!AR42","v":0},{"$f":"'OB1 - stage K20 - timetable'!AS42","v":0},{"$f":"'OB1 - stage K20 - timetable'!AT42","v":0},{"$f":"'OB1 - stage K20 - timetable'!AU42","v":0},{"$f":"'OB1 - stage K20 - timetable'!AV42","v":0},{"$f":"'OB1 - stage K20 - timetable'!AW42","v":0},{"$f":"'OB1 - stage K20 - timetable'!AX42","v":0},{"$f":"'OB1 - stage K20 - timetable'!AY42","v":0},{"$f":"'OB1 - stage K20 - timetable'!AZ42","v":0},{"$f":"'OB1 - stage K20 - timetable'!BA42","v":0},{"$f":"'OB1 - stage K20 - timetable'!BB42","v":0},{"$f":"'OB1 - stage K20 - timetable'!BC42","v":0},{"$f":"'OB1 - stage K20 - timetable'!BD42","v":0},{"$f":"'OB1 - stage K20 - timetable'!BE42","v":0},{"$f":"'OB1 - stage K20 - timetable'!BF42","v":0},{"$f":"'OB1 - stage K20 - timetable'!BG42","v":0},{"$f":"'OB1 - stage K20 - timetable'!BH42","v":0},{"$f":"'OB1 - stage K20 - timetable'!BI42","v":0},{"$f":"'OB1 - stage K20 - timetable'!BJ42","v":0},{"$f":"'OB1 - stage K20 - timetable'!BK42","v":0},{"$f":"'OB1 - stage K20 - timetable'!BL42","v":0}]
[null,"stage K20 - preliminary acceptance of the PAC work","K20",{"$f":"'OB1 - stage K20 - timetable'!J44","v":0},{"$f":"'OB1 - stage K20 - timetable'!K44","v":0},{"$f":"'OB1 - stage K20 - timetable'!L44","v":0},{"$f":"'OB1 - stage K20 - timetable'!M44","v":0},{"$f":"'OB1 - stage K20 - timetable'!N44","v":0},{"$f":"'OB1 - stage K20 - timetable'!O44","v":0},{"$f":"'OB1 - stage K20 - timetable'!P44","v":0},{"$f":"'OB1 - stage K20 - timetable'!Q44","v":0},{"$f":"'OB1 - stage K20 - timetable'!R44","v":0},{"$f":"'OB1 - stage K20 - timetable'!S44","v":0},{"$f":"'OB1 - stage K20 - timetable'!T44","v":0},{"$f":"'OB1 - stage K20 - timetable'!U44","v":0},{"$f":"'OB1 - stage K20 - timetable'!V44","v":0},{"$f":"'OB1 - stage K20 - timetable'!W44","v":0},{"$f":"'OB1 - stage K20 - timetable'!X44","v":0},{"$f":"'OB1 - stage K20 - timetable'!Y44","v":0},{"$f":"'OB1 - stage K20 - timetable'!Z44","v":0},{"$f":"'OB1 - stage K20 - timetable'!AA44","v":0},{"$f":"'OB1 - stage K20 - timetable'!AB44","v":0},{"$f":"'OB1 - stage K20 - timetable'!AC44","v":0},{"$f":"'OB1 - stage K20 - timetable'!AD44","v":0},{"$f":"'OB1 - stage K20 - timetable'!AE44","v":0},{"$f":"'OB1 - stage K20 - timetable'!AF44","v":0},{"$f":"'OB1 - stage K20 - timetable'!AG44","v":0},{"$f":"'OB1 - stage K20 - timetable'!AH44","v":0},{"$f":"'OB1 - stage K20 - timetable'!AI44","v":0},{"$f":"'OB1 - stage K20 - timetable'!AJ44","v":0},{"$f":"'OB1 - stage K20 - timetable'!AK44","v":0},{"$f":"'OB1 - stage K20 - timetable'!AL44","v":0},{"$f":"'OB1 - stage K20 - timetable'!AM44","v":0},{"$f":"'OB1 - stage K20 - timetable'!AN44","v":0},{"$f":"'OB1 - stage K20 - timetable'!AO44","v":0},{"$f":"'OB1 - stage K20 - timetable'!AP44","v":0},{"$f":"'OB1 - stage K20 - timetable'!AQ44","v":0},{"$f":"'OB1 - stage K20 - timetable'!AR44","v":0},{"$f":"'OB1 - stage K20 - timetable'!AS44","v":0},{"$f":"'OB1 - stage K20 - timetable'!AT44","v":0},{"$f":"'OB1 - stage K20 - timetable'!AU44","v":0},{"$f":"'OB1 - stage K20 - timetable'!AV44","v":0},{"$f":"'OB1 - stage K20 - timetable'!AW44","v":0},{"$f":"'OB1 - stage K20 - timetable'!AX44","v":0},{"$f":"'OB1 - stage K20 - timetable'!AY44","v":0},{"$f":"'OB1 - stage K20 - timetable'!AZ44","v":0},{"$f":"'OB1 - stage K20 - timetable'!BA44","v":0},{"$f":"'OB1 - stage K20 - timetable'!BB44","v":0},{"$f":"'OB1 - stage K20 - timetable'!BC44","v":0},{"$f":"'OB1 - stage K20 - timetable'!BD44","v":0},{"$f":"'OB1 - stage K20 - timetable'!BE44","v":0},{"$f":"'OB1 - stage K20 - timetable'!BF44","v":0},{"$f":"'OB1 - stage K20 - timetable'!BG44","v":0},{"$f":"'OB1 - stage K20 - timetable'!BH44","v":0},{"$f":"'OB1 - stage K20 - timetable'!BI44","v":0},{"$f":"'OB1 - stage K20 - timetable'!BJ44","v":0},{"$f":"'OB1 - stage K20 - timetable'!BK44","v":0},{"$f":"'OB1 - stage K20 - timetable'!BL44","v":0}]
[null,"stage K20 - final acceptance of the work FAC","K20",{"$f":"'OB1 - stage K20 - timetable'!J46","v":0},{"$f":"'OB1 - stage K20 - timetable'!K46","v":0},{"$f":"'OB1 - stage K20 - timetable'!L46","v":0},{"$f":"'OB1 - stage K20 - timetable'!M46","v":0},{"$f":"'OB1 - stage K20 - timetable'!N46","v":0},{"$f":"'OB1 - stage K20 - timetable'!O46","v":0},{"$f":"'OB1 - stage K20 - timetable'!P46","v":0},{"$f":"'OB1 - stage K20 - timetable'!Q46","v":0},{"$f":"'OB1 - stage K20 - timetable'!R46","v":0},{"$f":"'OB1 - stage K20 - timetable'!S46","v":0},{"$f":"'OB1 - stage K20 - timetable'!T46","v":0},{"$f":"'OB1 - stage K20 - timetable'!U46","v":0},{"$f":"'OB1 - stage K20 - timetable'!V46","v":0},{"$f":"'OB1 - stage K20 - timetable'!W46","v":0},{"$f":"'OB1 - stage K20 - timetable'!X46","v":0},{"$f":"'OB1 - stage K20 - timetable'!Y46","v":0},{"$f":"'OB1 - stage K20 - timetable'!Z46","v":0},{"$f":"'OB1 - stage K20 - timetable'!AA46","v":0},{"$f":"'OB1 - stage K20 - timetable'!AB46","v":0},{"$f":"'OB1 - stage K20 - timetable'!AC46","v":0},{"$f":"'OB1 - stage K20 - timetable'!AD46","v":0},{"$f":"'OB1 - stage K20 - timetable'!AE46","v":0},{"$f":"'OB1 - stage K20 - timetable'!AF46","v":0},{"$f":"'OB1 - stage K20 - timetable'!AG46","v":0},{"$f":"'OB1 - stage K20 - timetable'!AH46","v":0},{"$f":"'OB1 - stage K20 - timetable'!AI46","v":0},{"$f":"'OB1 - stage K20 - timetable'!AJ46","v":0},{"$f":"'OB1 - stage K20 - timetable'!AK46","v":0},{"$f":"'OB1 - stage K20 - timetable'!AL46","v":0},{"$f":"'OB1 - stage K20 - timetable'!AM46","v":0},{"$f":"'OB1 - stage K20 - timetable'!AN46","v":0},{"$f":"'OB1 - stage K20 - timetable'!AO46","v":0},{"$f":"'OB1 - stage K20 - timetable'!AP46","v":0},{"$f":"'OB1 - stage K20 - timetable'!AQ46","v":0},{"$f":"'OB1 - stage K20 - timetable'!AR46","v":0},{"$f":"'OB1 - stage K20 - timetable'!AS46","v":0},{"$f":"'OB1 - stage K20 - timetable'!AT46","v":0},{"$f":"'OB1 - stage K20 - timetable'!AU46","v":0},{"$f":"'OB1 - stage K20 - timetable'!AV46","v":0},{"$f":"'OB1 - stage K20 - timetable'!AW46","v":0},{"$f":"'OB1 - stage K20 - timetable'!AX46","v":0},{"$f":"'OB1 - stage K20 - timetable'!AY46","v":0},{"$f":"'OB1 - stage K20 - timetable'!AZ46","v":0},{"$f":"'OB1 - stage K20 - timetable'!BA46","v":0},{"$f":"'OB1 - stage K20 - timetable'!BB46","v":0},{"$f":"'OB1 - stage K20 - timetable'!BC46","v":0},{"$f":"'OB1 - stage K20 - timetable'!BD46","v":0},{"$f":"'OB1 - stage K20 - timetable'!BE46","v":0},{"$f":"'OB1 - stage K20 - timetable'!BF46","v":0},{"$f":"'OB1 - stage K20 - timetable'!BG46","v":0},{"$f":"'OB1 - stage K20 - timetable'!BH46","v":0},{"$f":"'OB1 - stage K20 - timetable'!BI46","v":0},{"$f":"'OB1 - stage K20 - timetable'!BJ46","v":0},{"$f":"'OB1 - stage K20 - timetable'!BK46","v":0},{"$f":"'OB1 - stage K20 - timetable'!BL46","v":0}]
[null,"stage K80 - handover and acceptance of the construction site ","K80",{"$f":"'OB1 - stage K80 - timetable'!J7","v":0},{"$f":"'OB1 - stage K80 - timetable'!K7","v":0},{"$f":"'OB1 - stage K80 - timetable'!L7","v":0},{"$f":"'OB1 - stage K80 - timetable'!M7","v":0},{"$f":"'OB1 - stage K80 - timetable'!N7","v":0},{"$f":"'OB1 - stage K80 - timetable'!O7","v":0},{"$f":"'OB1 - stage K80 - timetable'!P7","v":0},{"$f":"'OB1 - stage K80 - timetable'!Q7","v":0},{"$f":"'OB1 - stage K80 - timetable'!R7","v":0},{"$f":"'OB1 - stage K80 - timetable'!S7","v":0},{"$f":"'OB1 - stage K80 - timetable'!T7","v":0},{"$f":"'OB1 - stage K80 - timetable'!U7","v":0},{"$f":"'OB1 - stage K80 - timetable'!V7","v":0},{"$f":"'OB1 - stage K80 - timetable'!W7","v":0},{"$f":"'OB1 - stage K80 - timetable'!X7","v":0},{"$f":"'OB1 - stage K80 - timetable'!Y7","v":0},{"$f":"'OB1 - stage K80 - timetable'!Z7","v":0},{"$f":"'OB1 - stage K80 - timetable'!AA7","v":0},{"$f":"'OB1 - stage K80 - timetable'!AB7","v":0},{"$f":"'OB1 - stage K80 - timetable'!AC7","v":0},{"$f":"'OB1 - stage K80 - timetable'!AD7","v":0},{"$f":"'OB1 - stage K80 - timetable'!AE7","v":0},{"$f":"'OB1 - stage K80 - timetable'!AF7","v":0},{"$f":"'OB1 - stage K80 - timetable'!AG7","v":0},{"$f":"'OB1 - stage K80 - timetable'!AH7","v":0},{"$f":"'OB1 - stage K80 - timetable'!AI7","v":0},{"$f":"'OB1 - stage K80 - timetable'!AJ7","v":0},{"$f":"'OB1 - stage K80 - timetable'!AK7","v":0},{"$f":"'OB1 - stage K80 - timetable'!AL7","v":0},{"$f":"'OB1 - stage K80 - timetable'!AM7","v":0},{"$f":"'OB1 - stage K80 - timetable'!AN7","v":0},{"$f":"'OB1 - stage K80 - timetable'!AO7","v":0},{"$f":"'OB1 - stage K80 - timetable'!AP7","v":0},{"$f":"'OB1 - stage K80 - timetable'!AQ7","v":0},{"$f":"'OB1 - stage K80 - timetable'!AR7","v":0},{"$f":"'OB1 - stage K80 - timetable'!AS7","v":0},{"$f":"'OB1 - stage K80 - timetable'!AT7","v":0},{"$f":"'OB1 - stage K80 - timetable'!AU7","v":0},{"$f":"'OB1 - stage K80 - timetable'!AV7","v":0},{"$f":"'OB1 - stage K80 - timetable'!AW7","v":0},{"$f":"'OB1 - stage K80 - timetable'!AX7","v":0},{"$f":"'OB1 - stage K80 - timetable'!AY7","v":0},{"$f":"'OB1 - stage K80 - timetable'!AZ7","v":0},{"$f":"'OB1 - stage K80 - timetable'!BA7","v":0},{"$f":"'OB1 - stage K80 - timetable'!BB7","v":0},{"$f":"'OB1 - stage K80 - timetable'!BC7","v":0},{"$f":"'OB1 - stage K80 - timetable'!BD7","v":0},{"$f":"'OB1 - stage K80 - timetable'!BE7","v":0},{"$f":"'OB1 - stage K80 - timetable'!BF7","v":0},{"$f":"'OB1 - stage K80 - timetable'!BG7","v":0},{"$f":"'OB1 - stage K80 - timetable'!BH7","v":0},{"$f":"'OB1 - stage K80 - timetable'!BI7","v":0},{"$f":"'OB1 - stage K80 - timetable'!BJ7","v":0},{"$f":"'OB1 - stage K80 - timetable'!BK7","v":0},{"$f":"'OB1 - stage K80 - timetable'!BL7","v":0}]
["SO 104 - Transport of wood chips to boiler room K80","stage K80 - technological part (PS 104, PS 106, PS 107, PS 108)","K80",{"$f":"'OB1 - stage K80 - timetable'!J8","v":0},{"$f":"'OB1 - stage K80 - timetable'!K8","v":0},{"$f":"'OB1 - stage K80 - timetable'!L8","v":0},{"$f":"'OB1 - stage K80 - timetable'!M8","v":0},{"$f":"'OB1 - stage K80 - timetable'!N8","v":0},{"$f":"'OB1 - stage K80 - timetable'!O8","v":0},{"$f":"'OB1 - stage K80 - timetable'!P8","v":0},{"$f":"'OB1 - stage K80 - timetable'!Q8","v":0},{"$f":"'OB1 - stage K80 - timetable'!R8","v":0},{"$f":"'OB1 - stage K80 - timetable'!S8","v":0},{"$f":"'OB1 - stage K80 - timetable'!T8","v":0},{"$f":"'OB1 - stage K80 - timetable'!U8","v":0},{"$f":"'OB1 - stage K80 - timetable'!V8","v":0},{"$f":"'OB1 - stage K80 - timetable'!W8","v":0},{"$f":"'OB1 - stage K80 - timetable'!X8","v":0},{"$f":"'OB1 - stage K80 - timetable'!Y8","v":0},{"$f":"'OB1 - stage K80 - timetable'!Z8","v":0},{"$f":"'OB1 - stage K80 - timetable'!AA8","v":0},{"$f":"'OB1 - stage K80 - timetable'!AB8","v":0},{"$f":"'OB1 - stage K80 - timetable'!AC8","v":0},{"$f":"'OB1 - stage K80 - timetable'!AD8","v":0},{"$f":"'OB1 - stage K80 - timetable'!AE8","v":0},{"$f":"'OB1 - stage K80 - timetable'!AF8","v":0},{"$f":"'OB1 - stage K80 - timetable'!AG8","v":0},{"$f":"'OB1 - stage K80 - timetable'!AH8","v":0},{"$f":"'OB1 - stage K80 - timetable'!AI8","v":0},{"$f":"'OB1 - stage K80 - timetable'!AJ8","v":0},{"$f":"'OB1 - stage K80 - timetable'!AK8","v":0},{"$f":"'OB1 - stage K80 - timetable'!AL8","v":0},{"$f":"'OB1 - stage K80 - timetable'!AM8","v":0},{"$f":"'OB1 - stage K80 - timetable'!AN8","v":0},{"$f":"'OB1 - stage K80 - timetable'!AO8","v":0},{"$f":"'OB1 - stage K80 - timetable'!AP8","v":0},{"$f":"'OB1 - stage K80 - timetable'!AQ8","v":0},{"$f":"'OB1 - stage K80 - timetable'!AR8","v":0},{"$f":"'OB1 - stage K80 - timetable'!AS8","v":0},{"$f":"'OB1 - stage K80 - timetable'!AT8","v":0},{"$f":"'OB1 - stage K80 - timetable'!AU8","v":0},{"$f":"'OB1 - stage K80 - timetable'!AV8","v":0},{"$f":"'OB1 - stage K80 - timetable'!AW8","v":0},{"$f":"'OB1 - stage K80 - timetable'!AX8","v":0},{"$f":"'OB1 - stage K80 - timetable'!AY8","v":0},{"$f":"'OB1 - stage K80 - timetable'!AZ8","v":0},{"$f":"'OB1 - stage K80 - timetable'!BA8","v":0},{"$f":"'OB1 - stage K80 - timetable'!BB8","v":0},{"$f":"'OB1 - stage K80 - timetable'!BC8","v":0},{"$f":"'OB1 - stage K80 - timetable'!BD8","v":0},{"$f":"'OB1 - stage K80 - timetable'!BE8","v":0},{"$f":"'OB1 - stage K80 - timetable'!BF8","v":0},{"$f":"'OB1 - stage K80 - timetable'!BG8","v":0},{"$f":"'OB1 - stage K80 - timetable'!BH8","v":0},{"$f":"'OB1 - stage K80 - timetable'!BI8","v":0},{"$f":"'OB1 - stage K80 - timetable'!BJ8","v":0},{"$f":"'OB1 - stage K80 - timetable'!BK8","v":0},{"$f":"'OB1 - stage K80 - timetable'!BL8","v":0}]
[null,"stage K80 - construction part (A4.4)","K80",{"$f":"'OB1 - stage K80 - timetable'!J10","v":0},{"$f":"'OB1 - stage K80 - timetable'!K10","v":0},{"$f":"'OB1 - stage K80 - timetable'!L10","v":0},{"$f":"'OB1 - stage K80 - timetable'!M10","v":0},{"$f":"'OB1 - stage K80 - timetable'!N10","v":0},{"$f":"'OB1 - stage K80 - timetable'!O10","v":0},{"$f":"'OB1 - stage K80 - timetable'!P10","v":0},{"$f":"'OB1 - stage K80 - timetable'!Q10","v":0},{"$f":"'OB1 - stage K80 - timetable'!R10","v":0},{"$f":"'OB1 - stage K80 - timetable'!S10","v":0},{"$f":"'OB1 - stage K80 - timetable'!T10","v":0},{"$f":"'OB1 - stage K80 - timetable'!U10","v":0},{"$f":"'OB1 - stage K80 - timetable'!V10","v":0},{"$f":"'OB1 - stage K80 - timetable'!W10","v":0},{"$f":"'OB1 - stage K80 - timetable'!X10","v":0},{"$f":"'OB1 - stage K80 - timetable'!Y10","v":0},{"$f":"'OB1 - stage K80 - timetable'!Z10","v":0},{"$f":"'OB1 - stage K80 - timetable'!AA10","v":0},{"$f":"'OB1 - stage K80 - timetable'!AB10","v":0},{"$f":"'OB1 - stage K80 - timetable'!AC10","v":0},{"$f":"'OB1 - stage K80 - timetable'!AD10","v":0},{"$f":"'OB1 - stage K80 - timetable'!AE10","v":0},{"$f":"'OB1 - stage K80 - timetable'!AF10","v":0},{"$f":"'OB1 - stage K80 - timetable'!AG10","v":0},{"$f":"'OB1 - stage K80 - timetable'!AH10","v":0},{"$f":"'OB1 - stage K80 - timetable'!AI10","v":0},{"$f":"'OB1 - stage K80 - timetable'!AJ10","v":0},{"$f":"'OB1 - stage K80 - timetable'!AK10","v":0},{"$f":"'OB1 - stage K80 - timetable'!AL10","v":0},{"$f":"'OB1 - stage K80 - timetable'!AM10","v":0},{"$f":"'OB1 - stage K80 - timetable'!AN10","v":0},{"$f":"'OB1 - stage K80 - timetable'!AO10","v":0},{"$f":"'OB1 - stage K80 - timetable'!AP10","v":0},{"$f":"'OB1 - stage K80 - timetable'!AQ10","v":0},{"$f":"'OB1 - stage K80 - timetable'!AR10","v":0},{"$f":"'OB1 - stage K80 - timetable'!AS10","v":0},{"$f":"'OB1 - stage K80 - timetable'!AT10","v":0},{"$f":"'OB1 - stage K80 - timetable'!AU10","v":0},{"$f":"'OB1 - stage K80 - timetable'!AV10","v":0},{"$f":"'OB1 - stage K80 - timetable'!AW10","v":0},{"$f":"'OB1 - stage K80 - timetable'!AX10","v":0},{"$f":"'OB1 - stage K80 - timetable'!AY10","v":0},{"$f":"'OB1 - stage K80 - timetable'!AZ10","v":0},{"$f":"'OB1 - stage K80 - timetable'!BA10","v":0},{"$f":"'OB1 - stage K80 - timetable'!BB10","v":0},{"$f":"'OB1 - stage K80 - timetable'!BC10","v":0},{"$f":"'OB1 - stage K80 - timetable'!BD10","v":0},{"$f":"'OB1 - stage K80 - timetable'!BE10","v":0},{"$f":"'OB1 - stage K80 - timetable'!BF10","v":0},{"$f":"'OB1 - stage K80 - timetable'!BG10","v":0},{"$f":"'OB1 - stage K80 - timetable'!BH10","v":0},{"$f":"'OB1 - stage K80 - timetable'!BI10","v":0},{"$f":"'OB1 - stage K80 - timetable'!BJ10","v":0},{"$f":"'OB1 - stage K80 - timetable'!BK10","v":0},{"$f":"'OB1 - stage K80 - timetable'!BL10","v":0}]
[null,"stage K80 - comprehensive testing","K80",{"$f":"'OB1 - stage K80 - timetable'!J12","v":0},{"$f":"'OB1 - stage K80 - timetable'!K12","v":0},{"$f":"'OB1 - stage K80 - timetable'!L12","v":0},{"$f":"'OB1 - stage K80 - timetable'!M12","v":0},{"$f":"'OB1 - stage K80 - timetable'!N12","v":0},{"$f":"'OB1 - stage K80 - timetable'!O12","v":0},{"$f":"'OB1 - stage K80 - timetable'!P12","v":0},{"$f":"'OB1 - stage K80 - timetable'!Q12","v":0},{"$f":"'OB1 - stage K80 - timetable'!R12","v":0},{"$f":"'OB1 - stage K80 - timetable'!S12","v":0},{"$f":"'OB1 - stage K80 - timetable'!T12","v":0},{"$f":"'OB1 - stage K80 - timetable'!U12","v":0},{"$f":"'OB1 - stage K80 - timetable'!V12","v":0},{"$f":"'OB1 - stage K80 - timetable'!W12","v":0},{"$f":"'OB1 - stage K80 - timetable'!X12","v":0},{"$f":"'OB1 - stage K80 - timetable'!Y12","v":0},{"$f":"'OB1 - stage K80 - timetable'!Z12","v":0},{"$f":"'OB1 - stage K80 - timetable'!AA12","v":0},{"$f":"'OB1 - stage K80 - timetable'!AB12","v":0},{"$f":"'OB1 - stage K80 - timetable'!AC12","v":0},{"$f":"'OB1 - stage K80 - timetable'!AD12","v":0},{"$f":"'OB1 - stage K80 - timetable'!AE12","v":0},{"$f":"'OB1 - stage K80 - timetable'!AF12","v":0},{"$f":"'OB1 - stage K80 - timetable'!AG12","v":0},{"$f":"'OB1 - stage K80 - timetable'!AH12","v":0},{"$f":"'OB1 - stage K80 - timetable'!AI12","v":0},{"$f":"'OB1 - stage K80 - timetable'!AJ12","v":0},{"$f":"'OB1 - stage K80 - timetable'!AK12","v":0},{"$f":"'OB1 - stage K80 - timetable'!AL12","v":0},{"$f":"'OB1 - stage K80 - timetable'!AM12","v":0},{"$f":"'OB1 - stage K80 - timetable'!AN12","v":0},{"$f":"'OB1 - stage K80 - timetable'!AO12","v":0},{"$f":"'OB1 - stage K80 - timetable'!AP12","v":0},{"$f":"'OB1 - stage K80 - timetable'!AQ12","v":0},{"$f":"'OB1 - stage K80 - timetable'!AR12","v":0},{"$f":"'OB1 - stage K80 - timetable'!AS12","v":0},{"$f":"'OB1 - stage K80 - timetable'!AT12","v":0},{"$f":"'OB1 - stage K80 - timetable'!AU12","v":0},{"$f":"'OB1 - stage K80 - timetable'!AV12","v":0},{"$f":"'OB1 - stage K80 - timetable'!AW12","v":0},{"$f":"'OB1 - stage K80 - timetable'!AX12","v":0},{"$f":"'OB1 - stage K80 - timetable'!AY12","v":0},{"$f":"'OB1 - stage K80 - timetable'!AZ12","v":0},{"$f":"'OB1 - stage K80 - timetable'!BA12","v":0},{"$f":"'OB1 - stage K80 - timetable'!BB12","v":0},{"$f":"'OB1 - stage K80 - timetable'!BC12","v":0},{"$f":"'OB1 - stage K80 - timetable'!BD12","v":0},{"$f":"'OB1 - stage K80 - timetable'!BE12","v":0},{"$f":"'OB1 - stage K80 - timetable'!BF12","v":0},{"$f":"'OB1 - stage K80 - timetable'!BG12","v":0},{"$f":"'OB1 - stage K80 - timetable'!BH12","v":0},{"$f":"'OB1 - stage K80 - timetable'!BI12","v":0},{"$f":"'OB1 - stage K80 - timetable'!BJ12","v":0},{"$f":"'OB1 - stage K80 - timetable'!BK12","v":0},{"$f":"'OB1 - stage K80 - timetable'!BL12","v":0}]
[null,"stage K80 - test operation","K80",{"$f":"'OB1 - stage K80 - timetable'!J14","v":0},{"$f":"'OB1 - stage K80 - timetable'!K14","v":0},{"$f":"'OB1 - stage K80 - timetable'!L14","v":0},{"$f":"'OB1 - stage K80 - timetable'!M14","v":0},{"$f":"'OB1 - stage K80 - timetable'!N14","v":0},{"$f":"'OB1 - stage K80 - timetable'!O14","v":0},{"$f":"'OB1 - stage K80 - timetable'!P14","v":0},{"$f":"'OB1 - stage K80 - timetable'!Q14","v":0},{"$f":"'OB1 - stage K80 - timetable'!R14","v":0},{"$f":"'OB1 - stage K80 - timetable'!S14","v":0},{"$f":"'OB1 - stage K80 - timetable'!T14","v":0},{"$f":"'OB1 - stage K80 - timetable'!U14","v":0},{"$f":"'OB1 - stage K80 - timetable'!V14","v":0},{"$f":"'OB1 - stage K80 - timetable'!W14","v":0},{"$f":"'OB1 - stage K80 - timetable'!X14","v":0},{"$f":"'OB1 - stage K80 - timetable'!Y14","v":0},{"$f":"'OB1 - stage K80 - timetable'!Z14","v":0},{"$f":"'OB1 - stage K80 - timetable'!AA14","v":0},{"$f":"'OB1 - stage K80 - timetable'!AB14","v":0},{"$f":"'OB1 - stage K80 - timetable'!AC14","v":0},{"$f":"'OB1 - stage K80 - timetable'!AD14","v":0},{"$f":"'OB1 - stage K80 - timetable'!AE14","v":0},{"$f":"'OB1 - stage K80 - timetable'!AF14","v":0},{"$f":"'OB1 - stage K80 - timetable'!AG14","v":0},{"$f":"'OB1 - stage K80 - timetable'!AH14","v":0},{"$f":"'OB1 - stage K80 - timetable'!AI14","v":0},{"$f":"'OB1 - stage K80 - timetable'!AJ14","v":0},{"$f":"'OB1 - stage K80 - timetable'!AK14","v":0},{"$f":"'OB1 - stage K80 - timetable'!AL14","v":0},{"$f":"'OB1 - stage K80 - timetable'!AM14","v":0},{"$f":"'OB1 - stage K80 - timetable'!AN14","v":0},{"$f":"'OB1 - stage K80 - timetable'!AO14","v":0},{"$f":"'OB1 - stage K80 - timetable'!AP14","v":0},{"$f":"'OB1 - stage K80 - timetable'!AQ14","v":0},{"$f":"'OB1 - stage K80 - timetable'!AR14","v":0},{"$f":"'OB1 - stage K80 - timetable'!AS14","v":0},{"$f":"'OB1 - stage K80 - timetable'!AT14","v":0},{"$f":"'OB1 - stage K80 - timetable'!AU14","v":0},{"$f":"'OB1 - stage K80 - timetable'!AV14","v":0},{"$f":"'OB1 - stage K80 - timetable'!AW14","v":0},{"$f":"'OB1 - stage K80 - timetable'!AX14","v":0},{"$f":"'OB1 - stage K80 - timetable'!AY14","v":0},{"$f":"'OB1 - stage K80 - timetable'!AZ14","v":0},{"$f":"'OB1 - stage K80 - timetable'!BA14","v":0},{"$f":"'OB1 - stage K80 - timetable'!BB14","v":0},{"$f":"'OB1 - stage K80 - timetable'!BC14","v":0},{"$f":"'OB1 - stage K80 - timetable'!BD14","v":0},{"$f":"'OB1 - stage K80 - timetable'!BE14","v":0},{"$f":"'OB1 - stage K80 - timetable'!BF14","v":0},{"$f":"'OB1 - stage K80 - timetable'!BG14","v":0},{"$f":"'OB1 - stage K80 - timetable'!BH14","v":0},{"$f":"'OB1 - stage K80 - timetable'!BI14","v":0},{"$f":"'OB1 - stage K80 - timetable'!BJ14","v":0},{"$f":"'OB1 - stage K80 - timetable'!BK14","v":0},{"$f":"'OB1 - stage K80 - timetable'!BL14","v":0}]
[null,"stage K80 - warranty test A","K80",{"$f":"'OB1 - stage K80 - timetable'!J16","v":0},{"$f":"'OB1 - stage K80 - timetable'!K16","v":0},{"$f":"'OB1 - stage K80 - timetable'!L16","v":0},{"$f":"'OB1 - stage K80 - timetable'!M16","v":0},{"$f":"'OB1 - stage K80 - timetable'!N16","v":0},{"$f":"'OB1 - stage K80 - timetable'!O16","v":0},{"$f":"'OB1 - stage K80 - timetable'!P16","v":0},{"$f":"'OB1 - stage K80 - timetable'!Q16","v":0},{"$f":"'OB1 - stage K80 - timetable'!R16","v":0},{"$f":"'OB1 - stage K80 - timetable'!S16","v":0},{"$f":"'OB1 - stage K80 - timetable'!T16","v":0},{"$f":"'OB1 - stage K80 - timetable'!U16","v":0},{"$f":"'OB1 - stage K80 - timetable'!V16","v":0},{"$f":"'OB1 - stage K80 - timetable'!W16","v":0},{"$f":"'OB1 - stage K80 - timetable'!X16","v":0},{"$f":"'OB1 - stage K80 - timetable'!Y16","v":0},{"$f":"'OB1 - stage K80 - timetable'!Z16","v":0},{"$f":"'OB1 - stage K80 - timetable'!AA16","v":0},{"$f":"'OB1 - stage K80 - timetable'!AB16","v":0},{"$f":"'OB1 - stage K80 - timetable'!AC16","v":0},{"$f":"'OB1 - stage K80 - timetable'!AD16","v":0},{"$f":"'OB1 - stage K80 - timetable'!AE16","v":0},{"$f":"'OB1 - stage K80 - timetable'!AF16","v":0},{"$f":"'OB1 - stage K80 - timetable'!AG16","v":0},{"$f":"'OB1 - stage K80 - timetable'!AH16","v":0},{"$f":"'OB1 - stage K80 - timetable'!AI16","v":0},{"$f":"'OB1 - stage K80 - timetable'!AJ16","v":0},{"$f":"'OB1 - stage K80 - timetable'!AK16","v":0},{"$f":"'OB1 - stage K80 - timetable'!AL16","v":0},{"$f":"'OB1 - stage K80 - timetable'!AM16","v":0},{"$f":"'OB1 - stage K80 - timetable'!AN16","v":0},{"$f":"'OB1 - stage K80 - timetable'!AO16","v":0},{"$f":"'OB1 - stage K80 - timetable'!AP16","v":0},{"$f":"'OB1 - stage K80 - timetable'!AQ16","v":0},{"$f":"'OB1 - stage K80 - timetable'!AR16","v":0},{"$f":"'OB1 - stage K80 - timetable'!AS16","v":0},{"$f":"'OB1 - stage K80 - timetable'!AT16","v":0},{"$f":"'OB1 - stage K80 - timetable'!AU16","v":0},{"$f":"'OB1 - stage K80 - timetable'!AV16","v":0},{"$f":"'OB1 - stage K80 - timetable'!AW16","v":0},{"$f":"'OB1 - stage K80 - timetable'!AX16","v":0},{"$f":"'OB1 - stage K80 - timetable'!AY16","v":0},{"$f":"'OB1 - stage K80 - timetable'!AZ16","v":0},{"$f":"'OB1 - stage K80 - timetable'!BA16","v":0},{"$f":"'OB1 - stage K80 - timetable'!BB16","v":0},{"$f":"'OB1 - stage K80 - timetable'!BC16","v":0},{"$f":"'OB1 - stage K80 - timetable'!BD16","v":0},{"$f":"'OB1 - stage K80 - timetable'!BE16","v":0},{"$f":"'OB1 - stage K80 - timetable'!BF16","v":0},{"$f":"'OB1 - stage K80 - timetable'!BG16","v":0},{"$f":"'OB1 - stage K80 - timetable'!BH16","v":0},{"$f":"'OB1 - stage K80 - timetable'!BI16","v":0},{"$f":"'OB1 - stage K80 - timetable'!BJ16","v":0},{"$f":"'OB1 - stage K80 - timetable'!BK16","v":0},{"$f":"'OB1 - stage K80 - timetable'!BL16","v":0}]
[null,"stage K80 - preliminary acceptance of the PAC work","K80",{"$f":"'OB1 - stage K80 - timetable'!J18","v":0},{"$f":"'OB1 - stage K80 - timetable'!K18","v":0},{"$f":"'OB1 - stage K80 - timetable'!L18","v":0},{"$f":"'OB1 - stage K80 - timetable'!M18","v":0},{"$f":"'OB1 - stage K80 - timetable'!N18","v":0},{"$f":"'OB1 - stage K80 - timetable'!O18","v":0},{"$f":"'OB1 - stage K80 - timetable'!P18","v":0},{"$f":"'OB1 - stage K80 - timetable'!Q18","v":0},{"$f":"'OB1 - stage K80 - timetable'!R18","v":0},{"$f":"'OB1 - stage K80 - timetable'!S18","v":0},{"$f":"'OB1 - stage K80 - timetable'!T18","v":0},{"$f":"'OB1 - stage K80 - timetable'!U18","v":0},{"$f":"'OB1 - stage K80 - timetable'!V18","v":0},{"$f":"'OB1 - stage K80 - timetable'!W18","v":0},{"$f":"'OB1 - stage K80 - timetable'!X18","v":0},{"$f":"'OB1 - stage K80 - timetable'!Y18","v":0},{"$f":"'OB1 - stage K80 - timetable'!Z18","v":0},{"$f":"'OB1 - stage K80 - timetable'!AA18","v":0},{"$f":"'OB1 - stage K80 - timetable'!AB18","v":0},{"$f":"'OB1 - stage K80 - timetable'!AC18","v":0},{"$f":"'OB1 - stage K80 - timetable'!AD18","v":0},{"$f":"'OB1 - stage K80 - timetable'!AE18","v":0},{"$f":"'OB1 - stage K80 - timetable'!AF18","v":0},{"$f":"'OB1 - stage K80 - timetable'!AG18","v":0},{"$f":"'OB1 - stage K80 - timetable'!AH18","v":0},{"$f":"'OB1 - stage K80 - timetable'!AI18","v":0},{"$f":"'OB1 - stage K80 - timetable'!AJ18","v":0},{"$f":"'OB1 - stage K80 - timetable'!AK18","v":0},{"$f":"'OB1 - stage K80 - timetable'!AL18","v":0},{"$f":"'OB1 - stage K80 - timetable'!AM18","v":0},{"$f":"'OB1 - stage K80 - timetable'!AN18","v":0},{"$f":"'OB1 - stage K80 - timetable'!AO18","v":0},{"$f":"'OB1 - stage K80 - timetable'!AP18","v":0},{"$f":"'OB1 - stage K80 - timetable'!AQ18","v":0},{"$f":"'OB1 - stage K80 - timetable'!AR18","v":0},{"$f":"'OB1 - stage K80 - timetable'!AS18","v":0},{"$f":"'OB1 - stage K80 - timetable'!AT18","v":0},{"$f":"'OB1 - stage K80 - timetable'!AU18","v":0},{"$f":"'OB1 - stage K80 - timetable'!AV18","v":0},{"$f":"'OB1 - stage K80 - timetable'!AW18","v":0},{"$f":"'OB1 - stage K80 - timetable'!AX18","v":0},{"$f":"'OB1 - stage K80 - timetable'!AY18","v":0},{"$f":"'OB1 - stage K80 - timetable'!AZ18","v":0},{"$f":"'OB1 - stage K80 - timetable'!BA18","v":0},{"$f":"'OB1 - stage K80 - timetable'!BB18","v":0},{"$f":"'OB1 - stage K80 - timetable'!BC18","v":0},{"$f":"'OB1 - stage K80 - timetable'!BD18","v":0},{"$f":"'OB1 - stage K80 - timetable'!BE18","v":0},{"$f":"'OB1 - stage K80 - timetable'!BF18","v":0},{"$f":"'OB1 - stage K80 - timetable'!BG18","v":0},{"$f":"'OB1 - stage K80 - timetable'!BH18","v":0},{"$f":"'OB1 - stage K80 - timetable'!BI18","v":0},{"$f":"'OB1 - stage K80 - timetable'!BJ18","v":0},{"$f":"'OB1 - stage K80 - timetable'!BK18","v":0},{"$f":"'OB1 - stage K80 - timetable'!BL18","v":0}]
[null,"stage K80 - final acceptance of the work FAC","K80",{"$f":"'OB1 - stage K80 - timetable'!J20","v":0},{"$f":"'OB1 - stage K80 - timetable'!K20","v":0},{"$f":"'OB1 - stage K80 - timetable'!L20","v":0},{"$f":"'OB1 - stage K80 - timetable'!M20","v":0},{"$f":"'OB1 - stage K80 - timetable'!N20","v":0},{"$f":"'OB1 - stage K80 - timetable'!O20","v":0},{"$f":"'OB1 - stage K80 - timetable'!P20","v":0},{"$f":"'OB1 - stage K80 - timetable'!Q20","v":0},{"$f":"'OB1 - stage K80 - timetable'!R20","v":0},{"$f":"'OB1 - stage K80 - timetable'!S20","v":0},{"$f":"'OB1 - stage K80 - timetable'!T20","v":0},{"$f":"'OB1 - stage K80 - timetable'!U20","v":0},{"$f":"'OB1 - stage K80 - timetable'!V20","v":0},{"$f":"'OB1 - stage K80 - timetable'!W20","v":0},{"$f":"'OB1 - stage K80 - timetable'!X20","v":0},{"$f":"'OB1 - stage K80 - timetable'!Y20","v":0},{"$f":"'OB1 - stage K80 - timetable'!Z20","v":0},{"$f":"'OB1 - stage K80 - timetable'!AA20","v":0},{"$f":"'OB1 - stage K80 - timetable'!AB20","v":0},{"$f":"'OB1 - stage K80 - timetable'!AC20","v":0},{"$f":"'OB1 - stage K80 - timetable'!AD20","v":0},{"$f":"'OB1 - stage K80 - timetable'!AE20","v":0},{"$f":"'OB1 - stage K80 - timetable'!AF20","v":0},{"$f":"'OB1 - stage K80 - timetable'!AG20","v":0},{"$f":"'OB1 - stage K80 - timetable'!AH20","v":0},{"$f":"'OB1 - stage K80 - timetable'!AI20","v":0},{"$f":"'OB1 - stage K80 - timetable'!AJ20","v":0},{"$f":"'OB1 - stage K80 - timetable'!AK20","v":0},{"$f":"'OB1 - stage K80 - timetable'!AL20","v":0},{"$f":"'OB1 - stage K80 - timetable'!AM20","v":0},{"$f":"'OB1 - stage K80 - timetable'!AN20","v":0},{"$f":"'OB1 - stage K80 - timetable'!AO20","v":0},{"$f":"'OB1 - stage K80 - timetable'!AP20","v":0},{"$f":"'OB1 - stage K80 - timetable'!AQ20","v":0},{"$f":"'OB1 - stage K80 - timetable'!AR20","v":0},{"$f":"'OB1 - stage K80 - timetable'!AS20","v":0},{"$f":"'OB1 - stage K80 - timetable'!AT20","v":0},{"$f":"'OB1 - stage K80 - timetable'!AU20","v":0},{"$f":"'OB1 - stage K80 - timetable'!AV20","v":0},{"$f":"'OB1 - stage K80 - timetable'!AW20","v":0},{"$f":"'OB1 - stage K80 - timetable'!AX20","v":0},{"$f":"'OB1 - stage K80 - timetable'!AY20","v":0},{"$f":"'OB1 - stage K80 - timetable'!AZ20","v":0},{"$f":"'OB1 - stage K80 - timetable'!BA20","v":0},{"$f":"'OB1 - stage K80 - timetable'!BB20","v":0},{"$f":"'OB1 - stage K80 - timetable'!BC20","v":0},{"$f":"'OB1 - stage K80 - timetable'!BD20","v":0},{"$f":"'OB1 - stage K80 - timetable'!BE20","v":0},{"$f":"'OB1 - stage K80 - timetable'!BF20","v":0},{"$f":"'OB1 - stage K80 - timetable'!BG20","v":0},{"$f":"'OB1 - stage K80 - timetable'!BH20","v":0},{"$f":"'OB1 - stage K80 - timetable'!BI20","v":0},{"$f":"'OB1 - stage K80 - timetable'!BJ20","v":0},{"$f":"'OB1 - stage K80 - timetable'!BK20","v":0},{"$f":"'OB1 - stage K80 - timetable'!BL20","v":0}]
[null,"stage K90 - handover and acceptance of the construction site ","K90",{"$f":"'OB1 - stage K90 - timetable'!J8","v":0},{"$f":"'OB1 - stage K90 - timetable'!K8","v":0},{"$f":"'OB1 - stage K90 - timetable'!L8","v":0},{"$f":"'OB1 - stage K90 - timetable'!M8","v":0},{"$f":"'OB1 - stage K90 - timetable'!N8","v":0},{"$f":"'OB1 - stage K90 - timetable'!O8","v":0},{"$f":"'OB1 - stage K90 - timetable'!P8","v":0},{"$f":"'OB1 - stage K90 - timetable'!Q8","v":0},{"$f":"'OB1 - stage K90 - timetable'!R8","v":0},{"$f":"'OB1 - stage K90 - timetable'!S8","v":0},{"$f":"'OB1 - stage K90 - timetable'!T8","v":0},{"$f":"'OB1 - stage K90 - timetable'!U8","v":0},{"$f":"'OB1 - stage K90 - timetable'!V8","v":0},{"$f":"'OB1 - stage K90 - timetable'!W8","v":0},{"$f":"'OB1 - stage K90 - timetable'!X8","v":0},{"$f":"'OB1 - stage K90 - timetable'!Y8","v":0},{"$f":"'OB1 - stage K90 - timetable'!Z8","v":0},{"$f":"'OB1 - stage K90 - timetable'!AA8","v":0},{"$f":"'OB1 - stage K90 - timetable'!AB8","v":0},{"$f":"'OB1 - stage K90 - timetable'!AC8","v":0},{"$f":"'OB1 - stage K90 - timetable'!AD8","v":0},{"$f":"'OB1 - stage K90 - timetable'!AE8","v":0},{"$f":"'OB1 - stage K90 - timetable'!AF8","v":0},{"$f":"'OB1 - stage K90 - timetable'!AG8","v":0},{"$f":"'OB1 - stage K90 - timetable'!AH8","v":0},{"$f":"'OB1 - stage K90 - timetable'!AI8","v":0},{"$f":"'OB1 - stage K90 - timetable'!AJ8","v":0},{"$f":"'OB1 - stage K90 - timetable'!AK8","v":0},{"$f":"'OB1 - stage K90 - timetable'!AL8","v":0},{"$f":"'OB1 - stage K90 - timetable'!AM8","v":0},{"$f":"'OB1 - stage K90 - timetable'!AN8","v":0},{"$f":"'OB1 - stage K90 - timetable'!AO8","v":0},{"$f":"'OB1 - stage K90 - timetable'!AP8","v":0},{"$f":"'OB1 - stage K90 - timetable'!AQ8","v":0},{"$f":"'OB1 - stage K90 - timetable'!AR8","v":0},{"$f":"'OB1 - stage K90 - timetable'!AS8","v":0},{"$f":"'OB1 - stage K90 - timetable'!AT8","v":0},{"$f":"'OB1 - stage K90 - timetable'!AU8","v":0},{"$f":"'OB1 - stage K90 - timetable'!AV8","v":0},{"$f":"'OB1 - stage K90 - timetable'!AW8","v":0},{"$f":"'OB1 - stage K90 - timetable'!AX8","v":0},{"$f":"'OB1 - stage K90 - timetable'!AY8","v":0},{"$f":"'OB1 - stage K90 - timetable'!AZ8","v":0},{"$f":"'OB1 - stage K90 - timetable'!BA8","v":0},{"$f":"'OB1 - stage K90 - timetable'!BB8","v":0},{"$f":"'OB1 - stage K90 - timetable'!BC8","v":0},{"$f":"'OB1 - stage K90 - timetable'!BD8","v":0},{"$f":"'OB1 - stage K90 - timetable'!BE8","v":0},{"$f":"'OB1 - stage K90 - timetable'!BF8","v":0},{"$f":"'OB1 - stage K90 - timetable'!BG8","v":0},{"$f":"'OB1 - stage K90 - timetable'!BH8","v":0},{"$f":"'OB1 - stage K90 - timetable'!BI8","v":0},{"$f":"'OB1 - stage K90 - timetable'!BJ8","v":0},{"$f":"'OB1 - stage K90 - timetable'!BK8","v":0},{"$f":"'OB1 - stage K90 - timetable'!BL8","v":0}]
["SO 104 - Transport of wood chips to boiler room K90","stage K90 - technological part (PS 104, PS 106, PS 107, PS 108)","K90",{"$f":"'OB1 - stage K90 - timetable'!J9","v":0},{"$f":"'OB1 - stage K90 - timetable'!K9","v":0},{"$f":"'OB1 - stage K90 - timetable'!L9","v":0},{"$f":"'OB1 - stage K90 - timetable'!M9","v":0},{"$f":"'OB1 - stage K90 - timetable'!N9","v":0},{"$f":"'OB1 - stage K90 - timetable'!O9","v":0},{"$f":"'OB1 - stage K90 - timetable'!P9","v":0},{"$f":"'OB1 - stage K90 - timetable'!Q9","v":0},{"$f":"'OB1 - stage K90 - timetable'!R9","v":0},{"$f":"'OB1 - stage K90 - timetable'!S9","v":0},{"$f":"'OB1 - stage K90 - timetable'!T9","v":0},{"$f":"'OB1 - stage K90 - timetable'!U9","v":0},{"$f":"'OB1 - stage K90 - timetable'!V9","v":0},{"$f":"'OB1 - stage K90 - timetable'!W9","v":0},{"$f":"'OB1 - stage K90 - timetable'!X9","v":0},{"$f":"'OB1 - stage K90 - timetable'!Y9","v":0},{"$f":"'OB1 - stage K90 - timetable'!Z9","v":0},{"$f":"'OB1 - stage K90 - timetable'!AA9","v":0},{"$f":"'OB1 - stage K90 - timetable'!AB9","v":0},{"$f":"'OB1 - stage K90 - timetable'!AC9","v":0},{"$f":"'OB1 - stage K90 - timetable'!AD9","v":0},{"$f":"'OB1 - stage K90 - timetable'!AE9","v":0},{"$f":"'OB1 - stage K90 - timetable'!AF9","v":0},{"$f":"'OB1 - stage K90 - timetable'!AG9","v":0},{"$f":"'OB1 - stage K90 - timetable'!AH9","v":0},{"$f":"'OB1 - stage K90 - timetable'!AI9","v":0},{"$f":"'OB1 - stage K90 - timetable'!AJ9","v":0},{"$f":"'OB1 - stage K90 - timetable'!AK9","v":0},{"$f":"'OB1 - stage K90 - timetable'!AL9","v":0},{"$f":"'OB1 - stage K90 - timetable'!AM9","v":0},{"$f":"'OB1 - stage K90 - timetable'!AN9","v":0},{"$f":"'OB1 - stage K90 - timetable'!AO9","v":0},{"$f":"'OB1 - stage K90 - timetable'!AP9","v":0},{"$f":"'OB1 - stage K90 - timetable'!AQ9","v":0},{"$f":"'OB1 - stage K90 - timetable'!AR9","v":0},{"$f":"'OB1 - stage K90 - timetable'!AS9","v":0},{"$f":"'OB1 - stage K90 - timetable'!AT9","v":0},{"$f":"'OB1 - stage K90 - timetable'!AU9","v":0},{"$f":"'OB1 - stage K90 - timetable'!AV9","v":0},{"$f":"'OB1 - stage K90 - timetable'!AW9","v":0},{"$f":"'OB1 - stage K90 - timetable'!AX9","v":0},{"$f":"'OB1 - stage K90 - timetable'!AY9","v":0},{"$f":"'OB1 - stage K90 - timetable'!AZ9","v":0},{"$f":"'OB1 - stage K90 - timetable'!BA9","v":0},{"$f":"'OB1 - stage K90 - timetable'!BB9","v":0},{"$f":"'OB1 - stage K90 - timetable'!BC9","v":0},{"$f":"'OB1 - stage K90 - timetable'!BD9","v":0},{"$f":"'OB1 - stage K90 - timetable'!BE9","v":0},{"$f":"'OB1 - stage K90 - timetable'!BF9","v":0},{"$f":"'OB1 - stage K90 - timetable'!BG9","v":0},{"$f":"'OB1 - stage K90 - timetable'!BH9","v":0},{"$f":"'OB1 - stage K90 - timetable'!BI9","v":0},{"$f":"'OB1 - stage K90 - timetable'!BJ9","v":0},{"$f":"'OB1 - stage K90 - timetable'!BK9","v":0},{"$f":"'OB1 - stage K90 - timetable'!BL9","v":0}]
[null,"stage K90 - construction part (A4.4)","K90",{"$f":"'OB1 - stage K90 - timetable'!J11","v":0},{"$f":"'OB1 - stage K90 - timetable'!K11","v":0},{"$f":"'OB1 - stage K90 - timetable'!L11","v":0},{"$f":"'OB1 - stage K90 - timetable'!M11","v":0},{"$f":"'OB1 - stage K90 - timetable'!N11","v":0},{"$f":"'OB1 - stage K90 - timetable'!O11","v":0},{"$f":"'OB1 - stage K90 - timetable'!P11","v":0},{"$f":"'OB1 - stage K90 - timetable'!Q11","v":0},{"$f":"'OB1 - stage K90 - timetable'!R11","v":0},{"$f":"'OB1 - stage K90 - timetable'!S11","v":0},{"$f":"'OB1 - stage K90 - timetable'!T11","v":0},{"$f":"'OB1 - stage K90 - timetable'!U11","v":0},{"$f":"'OB1 - stage K90 - timetable'!V11","v":0},{"$f":"'OB1 - stage K90 - timetable'!W11","v":0},{"$f":"'OB1 - stage K90 - timetable'!X11","v":0},{"$f":"'OB1 - stage K90 - timetable'!Y11","v":0},{"$f":"'OB1 - stage K90 - timetable'!Z11","v":0},{"$f":"'OB1 - stage K90 - timetable'!AA11","v":0},{"$f":"'OB1 - stage K90 - timetable'!AB11","v":0},{"$f":"'OB1 - stage K90 - timetable'!AC11","v":0},{"$f":"'OB1 - stage K90 - timetable'!AD11","v":0},{"$f":"'OB1 - stage K90 - timetable'!AE11","v":0},{"$f":"'OB1 - stage K90 - timetable'!AF11","v":0},{"$f":"'OB1 - stage K90 - timetable'!AG11","v":0},{"$f":"'OB1 - stage K90 - timetable'!AH11","v":0},{"$f":"'OB1 - stage K90 - timetable'!AI11","v":0},{"$f":"'OB1 - stage K90 - timetable'!AJ11","v":0},{"$f":"'OB1 - stage K90 - timetable'!AK11","v":0},{"$f":"'OB1 - stage K90 - timetable'!AL11","v":0},{"$f":"'OB1 - stage K90 - timetable'!AM11","v":0},{"$f":"'OB1 - stage K90 - timetable'!AN11","v":0},{"$f":"'OB1 - stage K90 - timetable'!AO11","v":0},{"$f":"'OB1 - stage K90 - timetable'!AP11","v":0},{"$f":"'OB1 - stage K90 - timetable'!AQ11","v":0},{"$f":"'OB1 - stage K90 - timetable'!AR11","v":0},{"$f":"'OB1 - stage K90 - timetable'!AS11","v":0},{"$f":"'OB1 - stage K90 - timetable'!AT11","v":0},{"$f":"'OB1 - stage K90 - timetable'!AU11","v":0},{"$f":"'OB1 - stage K90 - timetable'!AV11","v":0},{"$f":"'OB1 - stage K90 - timetable'!AW11","v":0},{"$f":"'OB1 - stage K90 - timetable'!AX11","v":0},{"$f":"'OB1 - stage K90 - timetable'!AY11","v":0},{"$f":"'OB1 - stage K90 - timetable'!AZ11","v":0},{"$f":"'OB1 - stage K90 - timetable'!BA11","v":0},{"$f":"'OB1 - stage K90 - timetable'!BB11","v":0},{"$f":"'OB1 - stage K90 - timetable'!BC11","v":0},{"$f":"'OB1 - stage K90 - timetable'!BD11","v":0},{"$f":"'OB1 - stage K90 - timetable'!BE11","v":0},{"$f":"'OB1 - stage K90 - timetable'!BF11","v":0},{"$f":"'OB1 - stage K90 - timetable'!BG11","v":0},{"$f":"'OB1 - stage K90 - timetable'!BH11","v":0},{"$f":"'OB1 - stage K90 - timetable'!BI11","v":0},{"$f":"'OB1 - stage K90 - timetable'!BJ11","v":0},{"$f":"'OB1 - stage K90 - timetable'!BK11","v":0},{"$f":"'OB1 - stage K90 - timetable'!BL11","v":0}]
[null,"stage K90 - comprehensive testing","K90",{"$f":"'OB1 - stage K90 - timetable'!J13","v":0},{"$f":"'OB1 - stage K90 - timetable'!K13","v":0},{"$f":"'OB1 - stage K90 - timetable'!L13","v":0},{"$f":"'OB1 - stage K90 - timetable'!M13","v":0},{"$f":"'OB1 - stage K90 - timetable'!N13","v":0},{"$f":"'OB1 - stage K90 - timetable'!O13","v":0},{"$f":"'OB1 - stage K90 - timetable'!P13","v":0},{"$f":"'OB1 - stage K90 - timetable'!Q13","v":0},{"$f":"'OB1 - stage K90 - timetable'!R13","v":0},{"$f":"'OB1 - stage K90 - timetable'!S13","v":0},{"$f":"'OB1 - stage K90 - timetable'!T13","v":0},{"$f":"'OB1 - stage K90 - timetable'!U13","v":0},{"$f":"'OB1 - stage K90 - timetable'!V13","v":0},{"$f":"'OB1 - stage K90 - timetable'!W13","v":0},{"$f":"'OB1 - stage K90 - timetable'!X13","v":0},{"$f":"'OB1 - stage K90 - timetable'!Y13","v":0},{"$f":"'OB1 - stage K90 - timetable'!Z13","v":0},{"$f":"'OB1 - stage K90 - timetable'!AA13","v":0},{"$f":"'OB1 - stage K90 - timetable'!AB13","v":0},{"$f":"'OB1 - stage K90 - timetable'!AC13","v":0},{"$f":"'OB1 - stage K90 - timetable'!AD13","v":0},{"$f":"'OB1 - stage K90 - timetable'!AE13","v":0},{"$f":"'OB1 - stage K90 - timetable'!AF13","v":0},{"$f":"'OB1 - stage K90 - timetable'!AG13","v":0},{"$f":"'OB1 - stage K90 - timetable'!AH13","v":0},{"$f":"'OB1 - stage K90 - timetable'!AI13","v":0},{"$f":"'OB1 - stage K90 - timetable'!AJ13","v":0},{"$f":"'OB1 - stage K90 - timetable'!AK13","v":0},{"$f":"'OB1 - stage K90 - timetable'!AL13","v":0},{"$f":"'OB1 - stage K90 - timetable'!AM13","v":0},{"$f":"'OB1 - stage K90 - timetable'!AN13","v":0},{"$f":"'OB1 - stage K90 - timetable'!AO13","v":0},{"$f":"'OB1 - stage K90 - timetable'!AP13","v":0},{"$f":"'OB1 - stage K90 - timetable'!AQ13","v":0},{"$f":"'OB1 - stage K90 - timetable'!AR13","v":0},{"$f":"'OB1 - stage K90 - timetable'!AS13","v":0},{"$f":"'OB1 - stage K90 - timetable'!AT13","v":0},{"$f":"'OB1 - stage K90 - timetable'!AU13","v":0},{"$f":"'OB1 - stage K90 - timetable'!AV13","v":0},{"$f":"'OB1 - stage K90 - timetable'!AW13","v":0},{"$f":"'OB1 - stage K90 - timetable'!AX13","v":0},{"$f":"'OB1 - stage K90 - timetable'!AY13","v":0},{"$f":"'OB1 - stage K90 - timetable'!AZ13","v":0},{"$f":"'OB1 - stage K90 - timetable'!BA13","v":0},{"$f":"'OB1 - stage K90 - timetable'!BB13","v":0},{"$f":"'OB1 - stage K90 - timetable'!BC13","v":0},{"$f":"'OB1 - stage K90 - timetable'!BD13","v":0},{"$f":"'OB1 - stage K90 - timetable'!BE13","v":0},{"$f":"'OB1 - stage K90 - timetable'!BF13","v":0},{"$f":"'OB1 - stage K90 - timetable'!BG13","v":0},{"$f":"'OB1 - stage K90 - timetable'!BH13","v":0},{"$f":"'OB1 - stage K90 - timetable'!BI13","v":0},{"$f":"'OB1 - stage K90 - timetable'!BJ13","v":0},{"$f":"'OB1 - stage K90 - timetable'!BK13","v":0},{"$f":"'OB1 - stage K90 - timetable'!BL13","v":0}]
[null,"stage K90 - test operation","K90",{"$f":"'OB1 - stage K90 - timetable'!J15","v":0},{"$f":"'OB1 - stage K90 - timetable'!K15","v":0},{"$f":"'OB1 - stage K90 - timetable'!L15","v":0},{"$f":"'OB1 - stage K90 - timetable'!M15","v":0},{"$f":"'OB1 - stage K90 - timetable'!N15","v":0},{"$f":"'OB1 - stage K90 - timetable'!O15","v":0},{"$f":"'OB1 - stage K90 - timetable'!P15","v":0},{"$f":"'OB1 - stage K90 - timetable'!Q15","v":0},{"$f":"'OB1 - stage K90 - timetable'!R15","v":0},{"$f":"'OB1 - stage K90 - timetable'!S15","v":0},{"$f":"'OB1 - stage K90 - timetable'!T15","v":0},{"$f":"'OB1 - stage K90 - timetable'!U15","v":0},{"$f":"'OB1 - stage K90 - timetable'!V15","v":0},{"$f":"'OB1 - stage K90 - timetable'!W15","v":0},{"$f":"'OB1 - stage K90 - timetable'!X15","v":0},{"$f":"'OB1 - stage K90 - timetable'!Y15","v":0},{"$f":"'OB1 - stage K90 - timetable'!Z15","v":0},{"$f":"'OB1 - stage K90 - timetable'!AA15","v":0},{"$f":"'OB1 - stage K90 - timetable'!AB15","v":0},{"$f":"'OB1 - stage K90 - timetable'!AC15","v":0},{"$f":"'OB1 - stage K90 - timetable'!AD15","v":0},{"$f":"'OB1 - stage K90 - timetable'!AE15","v":0},{"$f":"'OB1 - stage K90 - timetable'!AF15","v":0},{"$f":"'OB1 - stage K90 - timetable'!AG15","v":0},{"$f":"'OB1 - stage K90 - timetable'!AH15","v":0},{"$f":"'OB1 - stage K90 - timetable'!AI15","v":0},{"$f":"'OB1 - stage K90 - timetable'!AJ15","v":0},{"$f":"'OB1 - stage K90 - timetable'!AK15","v":0},{"$f":"'OB1 - stage K90 - timetable'!AL15","v":0},{"$f":"'OB1 - stage K90 - timetable'!AM15","v":0},{"$f":"'OB1 - stage K90 - timetable'!AN15","v":0},{"$f":"'OB1 - stage K90 - timetable'!AO15","v":0},{"$f":"'OB1 - stage K90 - timetable'!AP15","v":0},{"$f":"'OB1 - stage K90 - timetable'!AQ15","v":0},{"$f":"'OB1 - stage K90 - timetable'!AR15","v":0},{"$f":"'OB1 - stage K90 - timetable'!AS15","v":0},{"$f":"'OB1 - stage K90 - timetable'!AT15","v":0},{"$f":"'OB1 - stage K90 - timetable'!AU15","v":0},{"$f":"'OB1 - stage K90 - timetable'!AV15","v":0},{"$f":"'OB1 - stage K90 - timetable'!AW15","v":0},{"$f":"'OB1 - stage K90 - timetable'!AX15","v":0},{"$f":"'OB1 - stage K90 - timetable'!AY15","v":0},{"$f":"'OB1 - stage K90 - timetable'!AZ15","v":0},{"$f":"'OB1 - stage K90 - timetable'!BA15","v":0},{"$f":"'OB1 - stage K90 - timetable'!BB15","v":0},{"$f":"'OB1 - stage K90 - timetable'!BC15","v":0},{"$f":"'OB1 - stage K90 - timetable'!BD15","v":0},{"$f":"'OB1 - stage K90 - timetable'!BE15","v":0},{"$f":"'OB1 - stage K90 - timetable'!BF15","v":0},{"$f":"'OB1 - stage K90 - timetable'!BG15","v":0},{"$f":"'OB1 - stage K90 - timetable'!BH15","v":0},{"$f":"'OB1 - stage K90 - timetable'!BI15","v":0},{"$f":"'OB1 - stage K90 - timetable'!BJ15","v":0},{"$f":"'OB1 - stage K90 - timetable'!BK15","v":0},{"$f":"'OB1 - stage K90 - timetable'!BL15","v":0}]
[null,"stage K90 - warranty test A","K90",{"$f":"'OB1 - stage K90 - timetable'!J17","v":0},{"$f":"'OB1 - stage K90 - timetable'!K17","v":0},{"$f":"'OB1 - stage K90 - timetable'!L17","v":0},{"$f":"'OB1 - stage K90 - timetable'!M17","v":0},{"$f":"'OB1 - stage K90 - timetable'!N17","v":0},{"$f":"'OB1 - stage K90 - timetable'!O17","v":0},{"$f":"'OB1 - stage K90 - timetable'!P17","v":0},{"$f":"'OB1 - stage K90 - timetable'!Q17","v":0},{"$f":"'OB1 - stage K90 - timetable'!R17","v":0},{"$f":"'OB1 - stage K90 - timetable'!S17","v":0},{"$f":"'OB1 - stage K90 - timetable'!T17","v":0},{"$f":"'OB1 - stage K90 - timetable'!U17","v":0},{"$f":"'OB1 - stage K90 - timetable'!V17","v":0},{"$f":"'OB1 - stage K90 - timetable'!W17","v":0},{"$f":"'OB1 - stage K90 - timetable'!X17","v":0},{"$f":"'OB1 - stage K90 - timetable'!Y17","v":0},{"$f":"'OB1 - stage K90 - timetable'!Z17","v":0},{"$f":"'OB1 - stage K90 - timetable'!AA17","v":0},{"$f":"'OB1 - stage K90 - timetable'!AB17","v":0},{"$f":"'OB1 - stage K90 - timetable'!AC17","v":0},{"$f":"'OB1 - stage K90 - timetable'!AD17","v":0},{"$f":"'OB1 - stage K90 - timetable'!AE17","v":0},{"$f":"'OB1 - stage K90 - timetable'!AF17","v":0},{"$f":"'OB1 - stage K90 - timetable'!AG17","v":0},{"$f":"'OB1 - stage K90 - timetable'!AH17","v":0},{"$f":"'OB1 - stage K90 - timetable'!AI17","v":0},{"$f":"'OB1 - stage K90 - timetable'!AJ17","v":0},{"$f":"'OB1 - stage K90 - timetable'!AK17","v":0},{"$f":"'OB1 - stage K90 - timetable'!AL17","v":0},{"$f":"'OB1 - stage K90 - timetable'!AM17","v":0},{"$f":"'OB1 - stage K90 - timetable'!AN17","v":0},{"$f":"'OB1 - stage K90 - timetable'!AO17","v":0},{"$f":"'OB1 - stage K90 - timetable'!AP17","v":0},{"$f":"'OB1 - stage K90 - timetable'!AQ17","v":0},{"$f":"'OB1 - stage K90 - timetable'!AR17","v":0},{"$f":"'OB1 - stage K90 - timetable'!AS17","v":0},{"$f":"'OB1 - stage K90 - timetable'!AT17","v":0},{"$f":"'OB1 - stage K90 - timetable'!AU17","v":0},{"$f":"'OB1 - stage K90 - timetable'!AV17","v":0},{"$f":"'OB1 - stage K90 - timetable'!AW17","v":0},{"$f":"'OB1 - stage K90 - timetable'!AX17","v":0},{"$f":"'OB1 - stage K90 - timetable'!AY17","v":0},{"$f":"'OB1 - stage K90 - timetable'!AZ17","v":0},{"$f":"'OB1 - stage K90 - timetable'!BA17","v":0},{"$f":"'OB1 - stage K90 - timetable'!BB17","v":0},{"$f":"'OB1 - stage K90 - timetable'!BC17","v":0},{"$f":"'OB1 - stage K90 - timetable'!BD17","v":0},{"$f":"'OB1 - stage K90 - timetable'!BE17","v":0},{"$f":"'OB1 - stage K90 - timetable'!BF17","v":0},{"$f":"'OB1 - stage K90 - timetable'!BG17","v":0},{"$f":"'OB1 - stage K90 - timetable'!BH17","v":0},{"$f":"'OB1 - stage K90 - timetable'!BI17","v":0},{"$f":"'OB1 - stage K90 - timetable'!BJ17","v":0},{"$f":"'OB1 - stage K90 - timetable'!BK17","v":0},{"$f":"'OB1 - stage K90 - timetable'!BL17","v":0}]
[null,"stage K90 - preliminary acceptance of the PAC work","K90",{"$f":"'OB1 - stage K90 - timetable'!J19","v":0},{"$f":"'OB1 - stage K90 - timetable'!K19","v":0},{"$f":"'OB1 - stage K90 - timetable'!L19","v":0},{"$f":"'OB1 - stage K90 - timetable'!M19","v":0},{"$f":"'OB1 - stage K90 - timetable'!N19","v":0},{"$f":"'OB1 - stage K90 - timetable'!O19","v":0},{"$f":"'OB1 - stage K90 - timetable'!P19","v":0},{"$f":"'OB1 - stage K90 - timetable'!Q19","v":0},{"$f":"'OB1 - stage K90 - timetable'!R19","v":0},{"$f":"'OB1 - stage K90 - timetable'!S19","v":0},{"$f":"'OB1 - stage K90 - timetable'!T19","v":0},{"$f":"'OB1 - stage K90 - timetable'!U19","v":0},{"$f":"'OB1 - stage K90 - timetable'!V19","v":0},{"$f":"'OB1 - stage K90 - timetable'!W19","v":0},{"$f":"'OB1 - stage K90 - timetable'!X19","v":0},{"$f":"'OB1 - stage K90 - timetable'!Y19","v":0},{"$f":"'OB1 - stage K90 - timetable'!Z19","v":0},{"$f":"'OB1 - stage K90 - timetable'!AA19","v":0},{"$f":"'OB1 - stage K90 - timetable'!AB19","v":0},{"$f":"'OB1 - stage K90 - timetable'!AC19","v":0},{"$f":"'OB1 - stage K90 - timetable'!AD19","v":0},{"$f":"'OB1 - stage K90 - timetable'!AE19","v":0},{"$f":"'OB1 - stage K90 - timetable'!AF19","v":0},{"$f":"'OB1 - stage K90 - timetable'!AG19","v":0},{"$f":"'OB1 - stage K90 - timetable'!AH19","v":0},{"$f":"'OB1 - stage K90 - timetable'!AI19","v":0},{"$f":"'OB1 - stage K90 - timetable'!AJ19","v":0},{"$f":"'OB1 - stage K90 - timetable'!AK19","v":0},{"$f":"'OB1 - stage K90 - timetable'!AL19","v":0},{"$f":"'OB1 - stage K90 - timetable'!AM19","v":0},{"$f":"'OB1 - stage K90 - timetable'!AN19","v":0},{"$f":"'OB1 - stage K90 - timetable'!AO19","v":0},{"$f":"'OB1 - stage K90 - timetable'!AP19","v":0},{"$f":"'OB1 - stage K90 - timetable'!AQ19","v":0},{"$f":"'OB1 - stage K90 - timetable'!AR19","v":0},{"$f":"'OB1 - stage K90 - timetable'!AS19","v":0},{"$f":"'OB1 - stage K90 - timetable'!AT19","v":0},{"$f":"'OB1 - stage K90 - timetable'!AU19","v":0},{"$f":"'OB1 - stage K90 - timetable'!AV19","v":0},{"$f":"'OB1 - stage K90 - timetable'!AW19","v":0},{"$f":"'OB1 - stage K90 - timetable'!AX19","v":0},{"$f":"'OB1 - stage K90 - timetable'!AY19","v":0},{"$f":"'OB1 - stage K90 - timetable'!AZ19","v":0},{"$f":"'OB1 - stage K90 - timetable'!BA19","v":0},{"$f":"'OB1 - stage K90 - timetable'!BB19","v":0},{"$f":"'OB1 - stage K90 - timetable'!BC19","v":0},{"$f":"'OB1 - stage K90 - timetable'!BD19","v":0},{"$f":"'OB1 - stage K90 - timetable'!BE19","v":0},{"$f":"'OB1 - stage K90 - timetable'!BF19","v":0},{"$f":"'OB1 - stage K90 - timetable'!BG19","v":0},{"$f":"'OB1 - stage K90 - timetable'!BH19","v":0},{"$f":"'OB1 - stage K90 - timetable'!BI19","v":0},{"$f":"'OB1 - stage K90 - timetable'!BJ19","v":0},{"$f":"'OB1 - stage K90 - timetable'!BK19","v":0},{"$f":"'OB1 - stage K90 - timetable'!BL19","v":0}]
[null,"stage K90 - final acceptance of the work FAC","K90",{"$f":"'OB1 - stage K90 - timetable'!J21","v":0},{"$f":"'OB1 - stage K90 - timetable'!K21","v":0},{"$f":"'OB1 - stage K90 - timetable'!L21","v":0},{"$f":"'OB1 - stage K90 - timetable'!M21","v":0},{"$f":"'OB1 - stage K90 - timetable'!N21","v":0},{"$f":"'OB1 - stage K90 - timetable'!O21","v":0},{"$f":"'OB1 - stage K90 - timetable'!P21","v":0},{"$f":"'OB1 - stage K90 - timetable'!Q21","v":0},{"$f":"'OB1 - stage K90 - timetable'!R21","v":0},{"$f":"'OB1 - stage K90 - timetable'!S21","v":0},{"$f":"'OB1 - stage K90 - timetable'!T21","v":0},{"$f":"'OB1 - stage K90 - timetable'!U21","v":0},{"$f":"'OB1 - stage K90 - timetable'!V21","v":0},{"$f":"'OB1 - stage K90 - timetable'!W21","v":0},{"$f":"'OB1 - stage K90 - timetable'!X21","v":0},{"$f":"'OB1 - stage K90 - timetable'!Y21","v":0},{"$f":"'OB1 - stage K90 - timetable'!Z21","v":0},{"$f":"'OB1 - stage K90 - timetable'!AA21","v":0},{"$f":"'OB1 - stage K90 - timetable'!AB21","v":0},{"$f":"'OB1 - stage K90 - timetable'!AC21","v":0},{"$f":"'OB1 - stage K90 - timetable'!AD21","v":0},{"$f":"'OB1 - stage K90 - timetable'!AE21","v":0},{"$f":"'OB1 - stage K90 - timetable'!AF21","v":0},{"$f":"'OB1 - stage K90 - timetable'!AG21","v":0},{"$f":"'OB1 - stage K90 - timetable'!AH21","v":0},{"$f":"'OB1 - stage K90 - timetable'!AI21","v":0},{"$f":"'OB1 - stage K90 - timetable'!AJ21","v":0},{"$f":"'OB1 - stage K90 - timetable'!AK21","v":0},{"$f":"'OB1 - stage K90 - timetable'!AL21","v":0},{"$f":"'OB1 - stage K90 - timetable'!AM21","v":0},{"$f":"'OB1 - stage K90 - timetable'!AN21","v":0},{"$f":"'OB1 - stage K90 - timetable'!AO21","v":0},{"$f":"'OB1 - stage K90 - timetable'!AP21","v":0},{"$f":"'OB1 - stage K90 - timetable'!AQ21","v":0},{"$f":"'OB1 - stage K90 - timetable'!AR21","v":0},{"$f":"'OB1 - stage K90 - timetable'!AS21","v":0},{"$f":"'OB1 - stage K90 - timetable'!AT21","v":0},{"$f":"'OB1 - stage K90 - timetable'!AU21","v":0},{"$f":"'OB1 - stage K90 - timetable'!AV21","v":0},{"$f":"'OB1 - stage K90 - timetable'!AW21","v":0},{"$f":"'OB1 - stage K90 - timetable'!AX21","v":0},{"$f":"'OB1 - stage K90 - timetable'!AY21","v":0},{"$f":"'OB1 - stage K90 - timetable'!AZ21","v":0},{"$f":"'OB1 - stage K90 - timetable'!BA21","v":0},{"$f":"'OB1 - stage K90 - timetable'!BB21","v":0},{"$f":"'OB1 - stage K90 - timetable'!BC21","v":0},{"$f":"'OB1 - stage K90 - timetable'!BD21","v":0},{"$f":"'OB1 - stage K90 - timetable'!BE21","v":0},{"$f":"'OB1 - stage K90 - timetable'!BF21","v":0},{"$f":"'OB1 - stage K90 - timetable'!BG21","v":0},{"$f":"'OB1 - stage K90 - timetable'!BH21","v":0},{"$f":"'OB1 - stage K90 - timetable'!BI21","v":0},{"$f":"'OB1 - stage K90 - timetable'!BJ21","v":0},{"$f":"'OB1 - stage K90 - timetable'!BK21","v":0},{"$f":"'OB1 - stage K90 - timetable'!BL21","v":0}]
[null,"Závazné technické parametry pro OB 1 (Palivové hospodářství) "]
[null,"Note"]
[null,"The contractor shall not fill in any values on this sheet. Values are transferred to the table from the previous sheets."]
[null,"Předání a převzetí staveniště pro K20"]
[null,"neobsazeno"]
[null,"etapa K20 - vlastní kotel včetně všech komponentů"]
[null,"etapa K20 - provozní zásobníky paliva včetně dopravy štěpky do kotle"]
[null,"etapa K20 - ventilátory (vzduchové, spalinové, recirkulační) včetně vnitřních spalinovodů"]
[null,"etapa K20 - tkaninový filtr"]
[null,"etapa K20 - technologie DSI"]
[null,"etapa K20 - popelové hospodářství"]
[null,"etapa K20 - elektroinstalace"]
[null,"etapa K20 - ASŘ"]
[null,"etapa K20 - kompresorová stanice"]
[null,"etapa K20 - připojení médií"]
[null,"etapa K20 - venkovní rozvody spalinovodů včetně napojení na komín"]
[null,"etapa K20 - venkovní konstrukce potrubního mostu (připojení popelového hospodářství a SNCR)"]
[null,"etapa K20 - opláštění a zastřešení, dokončení všech stavebních činností"]
[null,"etapa K20 - další výše nevyjmenované položky"]
[null,"etapa K20 - dokončení stavebních prací"]
[null,"etapa K20 - ukončení montážních prací"]
[null,"etapa K20 - školení zaměstnanců provozu"]
[null,"etapa K20 - příprava ke kompexnímu vyzkoušení"]
[null,"etapa K20 - komplexní vyzkoušení"]
[null,"etapa K20 - zkušební provoz"]
[null,"etapa K20 - garanční test A"]
[null,"etapa K20 - předběžné převzetí díla PAC"]
[null,"etapa K20 - garanční test B"]
[null,"etapa K20 - finální převzetí díla FAC"]

{"sheet":"financ. performance - timetable","index":8,"n_rows":75,"n_cols":59,"rows_kept":75,"cut":false,"hidden":true,"merged":[[40,4,40,58],[40,1,40,3],[39,1,39,3],[10,0,11,0],[12,0,13,0],[14,0,15,0],[16,0,17,0],[31,0,32,0],[24,0,25,0],[3,4,3,58],[3,3,4,3],[3,2,4,2],[3,1,4,1],[3,0,4,0]]}
[]
[null,"Annex K to the tender documentation - price offer and timetable"]
[]
["Technological and construction units","Milestones","Stage","Price without VAT","Period"]
[null,null,null,null,"2024-06-01","2024-07-02","2024-08-02","2024-09-02","2024-10-03","2024-11-03","2024-12-04","2025-01-04","2025-02-04","2025-03-07","2025-04-07","2025-05-08","2025-06-08","2025-07-09","2025-08-09","2025-09-09","2025-10-10","2025-11-10","2025-12-11","2026-01-11","2026-02-11","2026-03-14","2026-04-14","2026-05-15","2026-06-15","2026-07-16","2026-08-16","2026-09-16","2026-10-17","2026-11-17","2026-12-18","2027-01-18","2027-02-18","2027-03-21","2027-04-21","2027-05-22","2027-06-22","2027-07-23","2027-08-23","2027-09-23","2027-10-24","2027-11-24","2027-12-25","2028-01-25","2028-02-25","2028-03-27","2028-04-27","2028-05-28","2028-06-28","2028-07-29","2028-08-29","2028-09-29","2028-10-30","2028-11-30","2028-12-31"]
[null,1,1,null,1,2,3,4,5,6,7,8,9,10,11,12,13,14,15,16,17,18,19,20,21,22,23,24,25,26,27,28,29,30,31,32,33,34,35,36,37,38,39,40,41,42,43,44,45,46,47,48,49,50,51,52,53,54,55]
[null,"stage K20 - binding technical parameters for OB 6 (Construction)","K20","EUR",{"$f":"'OB1 - stage K20 - timetable'!J10","v":0},{"$f":"'OB1 - stage K20 - timetable'!K10","v":0},{"$f":"'OB1 - stage K20 - timetable'!L10","v":0},{"$f":"'OB1 - stage K20 - timetable'!M10","v":0},{"$f":"'OB1 - stage K20 - timetable'!N10","v":0},{"$f":"'OB1 - stage K20 - timetable'!O10","v":0},{"$f":"'OB1 - stage K20 - timetable'!P10","v":0},{"$f":"'OB1 - stage K20 - timetable'!Q10","v":0},{"$f":"'OB1 - stage K20 - timetable'!R10","v":0},{"$f":"'OB1 - stage K20 - timetable'!S10","v":0},{"$f":"'OB1 - stage K20 - timetable'!T10","v":0},{"$f":"'OB1 - stage K20 - timetable'!U10","v":0},{"$f":"'OB1 - stage K20 - timetable'!V10","v":0},{"$f":"'OB1 - stage K20 - timetable'!W10","v":0},{"$f":"'OB1 - stage K20 - timetable'!X10","v":0},{"$f":"'OB1 - stage K20 - timetable'!Y10","v":0},{"$f":"'OB1 - stage K20 - timetable'!Z10","v":0},{"$f":"'OB1 - stage K20 - timetable'!AA10","v":0},{"$f":"'OB1 - stage K20 - timetable'!AB10","v":0},{"$f":"'OB1 - stage K20 - timetable'!AC10","v":0},{"$f":"'OB1 - stage K20 - timetable'!AD10","v":0},{"$f":"'OB1 - stage K20 - timetable'!AE10","v":0},{"$f":"'OB1 - stage K20 - timetable'!AF10","v":0},{"$f":"'OB1 - stage K20 - timetable'!AG10","v":0},{"$f":"'OB1 - stage K20 - timetable'!AH10","v":0},{"$f":"'OB1 - stage K20 - timetable'!AI10","v":0},{"$f":"'OB1 - stage K20 - timetable'!AJ10","v":0},{"$f":"'OB1 - stage K20 - timetable'!AK10","v":0},{"$f":"'OB1 - stage K20 - timetable'!AL10","v":0},{"$f":"'OB1 - stage K20 - timetable'!AM10","v":0},{"$f":"'OB1 - stage K20 - timetable'!AN10","v":0},{"$f":"'OB1 - stage K20 - timetable'!AO10","v":0},{"$f":"'OB1 - stage K20 - timetable'!AP10","v":0},{"$f":"'OB1 - stage K20 - timetable'!AQ10","v":0},{"$f":"'OB1 - stage K20 - timetable'!AR10","v":0},{"$f":"'OB1 - stage K20 - timetable'!AS10","v":0},{"$f":"'OB1 - stage K20 - timetable'!AT10","v":0},{"$f":"'OB1 - stage K20 - timetable'!AU10","v":0},{"$f":"'OB1 - stage K20 - timetable'!AV10","v":0},{"$f":"'OB1 - stage K20 - timetable'!AW10","v":0},{"$f":"'OB1 - stage K20 - timetable'!AX10","v":0},{"$f":"'OB1 - stage K20 - timetable'!AY10","v":0},{"$f":"'OB1 - stage K20 - timetable'!AZ10","v":0},{"$f":"'OB1 - stage K20 - timetable'!BA10","v":0},{"$f":"'OB1 - stage K20 - timetable'!BB10","v":0},{"$f":"'OB1 - stage K20 - timetable'!BC10","v":0},{"$f":"'OB1 - stage K20 - timetable'!BD10","v":0},{"$f":"'OB1 - stage K20 - timetable'!BE10","v":0},{"$f":"'OB1 - stage K20 - timetable'!BF10","v":0},{"$f":"'OB1 - stage K20 - timetable'!BG10","v":0},{"$f":"'OB1 - stage K20 - timetable'!BH10","v":0},{"$f":"'OB1 - stage K20 - timetable'!BI10","v":0},{"$f":"'OB1 - stage K20 - timetable'!BJ10","v":0},{"$f":"'OB1 - stage K20 - timetable'!BK10","v":0},{"$f":"'OB1 - stage K20 - timetable'!BL10","v":0}]
[null,"stage K20 - binding technical parameters for OB 2 (Boilers) ","K20","EUR",{"$f":"'OB1 - stage K20 - timetable'!J12","v":0},{"$f":"'OB1 - stage K20 - timetable'!K12","v":0},{"$f":"'OB1 - stage K20 - timetable'!L12","v":0},{"$f":"'OB1 - stage K20 - timetable'!M12","v":0},{"$f":"'OB1 - stage K20 - timetable'!N12","v":0},{"$f":"'OB1 - stage K20 - timetable'!O12","v":0},{"$f":"'OB1 - stage K20 - timetable'!P12","v":0},{"$f":"'OB1 - stage K20 - timetable'!Q12","v":0},{"$f":"'OB1 - stage K20 - timetable'!R12","v":0},{"$f":"'OB1 - stage K20 - timetable'!S12","v":0},{"$f":"'OB1 - stage K20 - timetable'!T12","v":0},{"$f":"'OB1 - stage K20 - timetable'!U12","v":0},{"$f":"'OB1 - stage K20 - timetable'!V12","v":0},{"$f":"'OB1 - stage K20 - timetable'!W12","v":0},{"$f":"'OB1 - stage K20 - timetable'!X12","v":0},{"$f":"'OB1 - stage K20 - timetable'!Y12","v":0},{"$f":"'OB1 - stage K20 - timetable'!Z12","v":0},{"$f":"'OB1 - stage K20 - timetable'!AA12","v":0},{"$f":"'OB1 - stage K20 - timetable'!AB12","v":0},{"$f":"'OB1 - stage K20 - timetable'!AC12","v":0},{"$f":"'OB1 - stage K20 - timetable'!AD12","v":0},{"$f":"'OB1 - stage K20 - timetable'!AE12","v":0},{"$f":"'OB1 - stage K20 - timetable'!AF12","v":0},{"$f":"'OB1 - stage K20 - timetable'!AG12","v":0},{"$f":"'OB1 - stage K20 - timetable'!AH12","v":0},{"$f":"'OB1 - stage K20 - timetable'!AI12","v":0},{"$f":"'OB1 - stage K20 - timetable'!AJ12","v":0},{"$f":"'OB1 - stage K20 - timetable'!AK12","v":0},{"$f":"'OB1 - stage K20 - timetable'!AL12","v":0},{"$f":"'OB1 - stage K20 - timetable'!AM12","v":0},{"$f":"'OB1 - stage K20 - timetable'!AN12","v":0},{"$f":"'OB1 - stage K20 - timetable'!AO12","v":0},{"$f":"'OB1 - stage K20 - timetable'!AP12","v":0},{"$f":"'OB1 - stage K20 - timetable'!AQ12","v":0},{"$f":"'OB1 - stage K20 - timetable'!AR12","v":0},{"$f":"'OB1 - stage K20 - timetable'!AS12","v":0},{"$f":"'OB1 - stage K20 - timetable'!AT12","v":0},{"$f":"'OB1 - stage K20 - timetable'!AU12","v":0},{"$f":"'OB1 - stage K20 - timetable'!AV12","v":0},{"$f":"'OB1 - stage K20 - timetable'!AW12","v":0},{"$f":"'OB1 - stage K20 - timetable'!AX12","v":0},{"$f":"'OB1 - stage K20 - timetable'!AY12","v":0},{"$f":"'OB1 - stage K20 - timetable'!AZ12","v":0},{"$f":"'OB1 - stage K20 - timetable'!BA12","v":0},{"$f":"'OB1 - stage K20 - timetable'!BB12","v":0},{"$f":"'OB1 - stage K20 - timetable'!BC12","v":0},{"$f":"'OB1 - stage K20 - timetable'!BD12","v":0},{"$f":"'OB1 - stage K20 - timetable'!BE12","v":0},{"$f":"'OB1 - stage K20 - timetable'!BF12","v":0},{"$f":"'OB1 - stage K20 - timetable'!BG12","v":0},{"$f":"'OB1 - stage K20 - timetable'!BH12","v":0},{"$f":"'OB1 - stage K20 - timetable'!BI12","v":0},{"$f":"'OB1 - stage K20 - timetable'!BJ12","v":0},{"$f":"'OB1 - stage K20 - timetable'!BK12","v":0},{"$f":"'OB1 - stage K20 - timetable'!BL12","v":0}]
[null,"stage K20 - binding technical parameters for other OB, for other suppliers of technological units","K20","EUR",{"$f":"'OB1 - stage K20 - timetable'!J14","v":0},{"$f":"'OB1 - stage K20 - timetable'!K14","v":0},{"$f":"'OB1 - stage K20 - timetable'!L14","v":0},{"$f":"'OB1 - stage K20 - timetable'!M14","v":0},{"$f":"'OB1 - stage K20 - timetable'!N14","v":0},{"$f":"'OB1 - stage K20 - timetable'!O14","v":0},{"$f":"'OB1 - stage K20 - timetable'!P14","v":0},{"$f":"'OB1 - stage K20 - timetable'!Q14","v":0},{"$f":"'OB1 - stage K20 - timetable'!R14","v":0},{"$f":"'OB1 - stage K20 - timetable'!S14","v":0},{"$f":"'OB1 - stage K20 - timetable'!T14","v":0},{"$f":"'OB1 - stage K20 - timetable'!U14","v":0},{"$f":"'OB1 - stage K20 - timetable'!V14","v":0},{"$f":"'OB1 - stage K20 - timetable'!W14","v":0},{"$f":"'OB1 - stage K20 - timetable'!X14","v":0},{"$f":"'OB1 - stage K20 - timetable'!Y14","v":0},{"$f":"'OB1 - stage K20 - timetable'!Z14","v":0},{"$f":"'OB1 - stage K20 - timetable'!AA14","v":0},{"$f":"'OB1 - stage K20 - timetable'!AB14","v":0},{"$f":"'OB1 - stage K20 - timetable'!AC14","v":0},{"$f":"'OB1 - stage K20 - timetable'!AD14","v":0},{"$f":"'OB1 - stage K20 - timetable'!AE14","v":0},{"$f":"'OB1 - stage K20 - timetable'!AF14","v":0},{"$f":"'OB1 - stage K20 - timetable'!AG14","v":0},{"$f":"'OB1 - stage K20 - timetable'!AH14","v":0},{"$f":"'OB1 - stage K20 - timetable'!AI14","v":0},{"$f":"'OB1 - stage K20 - timetable'!AJ14","v":0},{"$f":"'OB1 - stage K20 - timetable'!AK14","v":0},{"$f":"'OB1 - stage K20 - timetable'!AL14","v":0},{"$f":"'OB1 - stage K20 - timetable'!AM14","v":0},{"$f":"'OB1 - stage K20 - timetable'!AN14","v":0},{"$f":"'OB1 - stage K20 - timetable'!AO14","v":0},{"$f":"'OB1 - stage K20 - timetable'!AP14","v":0},{"$f":"'OB1 - stage K20 - timetable'!AQ14","v":0},{"$f":"'OB1 - stage K20 - timetable'!AR14","v":0},{"$f":"'OB1 - stage K20 - timetable'!AS14","v":0},{"$f":"'OB1 - stage K20 - timetable'!AT14","v":0},{"$f":"'OB1 - stage K20 - timetable'!AU14","v":0},{"$f":"'OB1 - stage K20 - timetable'!AV14","v":0},{"$f":"'OB1 - stage K20 - timetable'!AW14","v":0},{"$f":"'OB1 - stage K20 - timetable'!AX14","v":0},{"$f":"'OB1 - stage K20 - timetable'!AY14","v":0},{"$f":"'OB1 - stage K20 - timetable'!AZ14","v":0},{"$f":"'OB1 - stage K20 - timetable'!BA14","v":0},{"$f":"'OB1 - stage K20 - timetable'!BB14","v":0},{"$f":"'OB1 - stage K20 - timetable'!BC14","v":0},{"$f":"'OB1 - stage K20 - timetable'!BD14","v":0},{"$f":"'OB1 - stage K20 - timetable'!BE14","v":0},{"$f":"'OB1 - stage K20 - timetable'!BF14","v":0},{"$f":"'OB1 - stage K20 - timetable'!BG14","v":0},{"$f":"'OB1 - stage K20 - timetable'!BH14","v":0},{"$f":"'OB1 - stage K20 - timetable'!BI14","v":0},{"$f":"'OB1 - stage K20 - timetable'!BJ14","v":0},{"$f":"'OB1 - stage K20 - timetable'!BK14","v":0},{"$f":"'OB1 - stage K20 - timetable'!BL14","v":0}]
[null,"stage K20 - approved implementation documentation OB1","K20","EUR",{"$f":"'OB1 - stage K20 - timetable'!J16","v":0},{"$f":"'OB1 - stage K20 - timetable'!K16","v":0},{"$f":"'OB1 - stage K20 - timetable'!L16","v":0},{"$f":"'OB1 - stage K20 - timetable'!M16","v":0},{"$f":"'OB1 - stage K20 - timetable'!N16","v":0},{"$f":"'OB1 - stage K20 - timetable'!O16","v":0},{"$f":"'OB1 - stage K20 - timetable'!P16","v":0},{"$f":"'OB1 - stage K20 - timetable'!Q16","v":0},{"$f":"'OB1 - stage K20 - timetable'!R16","v":0},{"$f":"'OB1 - stage K20 - timetable'!S16","v":0},{"$f":"'OB1 - stage K20 - timetable'!T16","v":0},{"$f":"'OB1 - stage K20 - timetable'!U16","v":0},{"$f":"'OB1 - stage K20 - timetable'!V16","v":0},{"$f":"'OB1 - stage K20 - timetable'!W16","v":0},{"$f":"'OB1 - stage K20 - timetable'!X16","v":0},{"$f":"'OB1 - stage K20 - timetable'!Y16","v":0},{"$f":"'OB1 - stage K20 - timetable'!Z16","v":0},{"$f":"'OB1 - stage K20 - timetable'!AA16","v":0},{"$f":"'OB1 - stage K20 - timetable'!AB16","v":0},{"$f":"'OB1 - stage K20 - timetable'!AC16","v":0},{"$f":"'OB1 - stage K20 - timetable'!AD16","v":0},{"$f":"'OB1 - stage K20 - timetable'!AE16","v":0},{"$f":"'OB1 - stage K20 - timetable'!AF16","v":0},{"$f":"'OB1 - stage K20 - timetable'!AG16","v":0},{"$f":"'OB1 - stage K20 - timetable'!AH16","v":0},{"$f":"'OB1 - stage K20 - timetable'!AI16","v":0},{"$f":"'OB1 - stage K20 - timetable'!AJ16","v":0},{"$f":"'OB1 - stage K20 - timetable'!AK16","v":0},{"$f":"'OB1 - stage K20 - timetable'!AL16","v":0},{"$f":"'OB1 - stage K20 - timetable'!AM16","v":0},{"$f":"'OB1 - stage K20 - timetable'!AN16","v":0},{"$f":"'OB1 - stage K20 - timetable'!AO16","v":0},{"$f":"'OB1 - stage K20 - timetable'!AP16","v":0},{"$f":"'OB1 - stage K20 - timetable'!AQ16","v":0},{"$f":"'OB1 - stage K20 - timetable'!AR16","v":0},{"$f":"'OB1 - stage K20 - timetable'!AS16","v":0},{"$f":"'OB1 - stage K20 - timetable'!AT16","v":0},{"$f":"'OB1 - stage K20 - timetable'!AU16","v":0},{"$f":"'OB1 - stage K20 - timetable'!AV16","v":0},{"$f":"'OB1 - stage K20 - timetable'!AW16","v":0},{"$f":"'OB1 - stage K20 - timetable'!AX16","v":0},{"$f":"'OB1 - stage K20 - timetable'!AY16","v":0},{"$f":"'OB1 - stage K20 - timetable'!AZ16","v":0},{"$f":"'OB1 - stage K20 - timetable'!BA16","v":0},{"$f":"'OB1 - stage K20 - timetable'!BB16","v":0},{"$f":"'OB1 - stage K20 - timetable'!BC16","v":0},{"$f":"'OB1 - stage K20 - timetable'!BD16","v":0},{"$f":"'OB1 - stage K20 - timetable'!BE16","v":0},{"$f":"'OB1 - stage K20 - timetable'!BF16","v":0},{"$f":"'OB1 - stage K20 - timetable'!BG16","v":0},{"$f":"'OB1 - stage K20 - timetable'!BH16","v":0},{"$f":"'OB1 - stage K20 - timetable'!BI16","v":0},{"$f":"'OB1 - stage K20 - timetable'!BJ16","v":0},{"$f":"'OB1 - stage K20 - timetable'!BK16","v":0},{"$f":"'OB1 - stage K20 - timetable'!BL16","v":0}]
["SO 101, SO 106 - Building of sorting plant and substation","stage K20 - technological part (PS 101, PS 102, PS 103, PS 104, PS 106, PS 107, PS 108)","K20","EUR",{"$f":"'OB1 - stage K20 - timetable'!J19","v":0},{"$f":"'OB1 - stage K20 - timetable'!K19","v":0},{"$f":"'OB1 - stage K20 - timetable'!L19","v":0},{"$f":"'OB1 - stage K20 - timetable'!M19","v":0},{"$f":"'OB1 - stage K20 - timetable'!N19","v":0},{"$f":"'OB1 - stage K20 - timetable'!O19","v":0},{"$f":"'OB1 - stage K20 - timetable'!P19","v":0},{"$f":"'OB1 - stage K20 - timetable'!Q19","v":0},{"$f":"'OB1 - stage K20 - timetable'!R19","v":0},{"$f":"'OB1 - stage K20 - timetable'!S19","v":0},{"$f":"'OB1 - stage K20 - timetable'!T19","v":0},{"$f":"'OB1 - stage K20 - timetable'!U19","v":0},{"$f":"'OB1 - stage K20 - timetable'!V19","v":0},{"$f":"'OB1 - stage K20 - timetable'!W19","v":0},{"$f":"'OB1 - stage K20 - timetable'!X19","v":0},{"$f":"'OB1 - stage K20 - timetable'!Y19","v":0},{"$f":"'OB1 - stage K20 - timetable'!Z19","v":0},{"$f":"'OB1 - stage K20 - timetable'!AA19","v":0},{"$f":"'OB1 - stage K20 - timetable'!AB19","v":0},{"$f":"'OB1 - stage K20 - timetable'!AC19","v":0},{"$f":"'OB1 - stage K20 - timetable'!AD19","v":0},{"$f":"'OB1 - stage K20 - timetable'!AE19","v":0},{"$f":"'OB1 - stage K20 - timetable'!AF19","v":0},{"$f":"'OB1 - stage K20 - timetable'!AG19","v":0},{"$f":"'OB1 - stage K20 - timetable'!AH19","v":0},{"$f":"'OB1 - stage K20 - timetable'!AI19","v":0},{"$f":"'OB1 - stage K20 - timetable'!AJ19","v":0},{"$f":"'OB1 - stage K20 - timetable'!AK19","v":0},{"$f":"'OB1 - stage K20 - timetable'!AL19","v":0},{"$f":"'OB1 - stage K20 - timetable'!AM19","v":0},{"$f":"'OB1 - stage K20 - timetable'!AN19","v":0},{"$f":"'OB1 - stage K20 - timetable'!AO19","v":0},{"$f":"'OB1 - stage K20 - timetable'!AP19","v":0},{"$f":"'OB1 - stage K20 - timetable'!AQ19","v":0},{"$f":"'OB1 - stage K20 - timetable'!AR19","v":0},{"$f":"'OB1 - stage K20 - timetable'!AS19","v":0},{"$f":"'OB1 - stage K20 - timetable'!AT19","v":0},{"$f":"'OB1 - stage K20 - timetable'!AU19","v":0},{"$f":"'OB1 - stage K20 - timetable'!AV19","v":0},{"$f":"'OB1 - stage K20 - timetable'!AW19","v":0},{"$f":"'OB1 - stage K20 - timetable'!AX19","v":0},{"$f":"'OB1 - stage K20 - timetable'!AY19","v":0},{"$f":"'OB1 - stage K20 - timetable'!AZ19","v":0},{"$f":"'OB1 - stage K20 - timetable'!BA19","v":0},{"$f":"'OB1 - stage K20 - timetable'!BB19","v":0},{"$f":"'OB1 - stage K20 - timetable'!BC19","v":0},{"$f":"'OB1 - stage K20 - timetable'!BD19","v":0},{"$f":"'OB1 - stage K20 - timetable'!BE19","v":0},{"$f":"'OB1 - stage K20 - timetable'!BF19","v":0},{"$f":"'OB1 - stage K20 - timetable'!BG19","v":0},{"$f":"'OB1 - stage K20 - timetable'!BH19","v":0},{"$f":"'OB1 - stage K20 - timetable'!BI19","v":0},{"$f":"'OB1 - stage K20 - timetable'!BJ19","v":0},{"$f":"'OB1 - stage K20 - timetable'!BK19","v":0},{"$f":"'OB1 - stage K20 - timetable'!BL19","v":0}]
[null,"stage K20 - construction part (A4.4)","K20","EUR",{"$f":"'OB1 - stage K20 - timetable'!J21","v":0},{"$f":"'OB1 - stage K20 - timetable'!K21","v":0},{"$f":"'OB1 - stage K20 - timetable'!L21","v":0},{"$f":"'OB1 - stage K20 - timetable'!M21","v":0},{"$f":"'OB1 - stage K20 - timetable'!N21","v":0},{"$f":"'OB1 - stage K20 - timetable'!O21","v":0},{"$f":"'OB1 - stage K20 - timetable'!P21","v":0},{"$f":"'OB1 - stage K20 - timetable'!Q21","v":0},{"$f":"'OB1 - stage K20 - timetable'!R21","v":0},{"$f":"'OB1 - stage K20 - timetable'!S21","v":0},{"$f":"'OB1 - stage K20 - timetable'!T21","v":0},{"$f":"'OB1 - stage K20 - timetable'!U21","v":0},{"$f":"'OB1 - stage K20 - timetable'!V21","v":0},{"$f":"'OB1 - stage K20 - timetable'!W21","v":0},{"$f":"'OB1 - stage K20 - timetable'!X21","v":0},{"$f":"'OB1 - stage K20 - timetable'!Y21","v":0},{"$f":"'OB1 - stage K20 - timetable'!Z21","v":0},{"$f":"'OB1 - stage K20 - timetable'!AA21","v":0},{"$f":"'OB1 - stage K20 - timetable'!AB21","v":0},{"$f":"'OB1 - stage K20 - timetable'!AC21","v":0},{"$f":"'OB1 - stage K20 - timetable'!AD21","v":0},{"$f":"'OB1 - stage K20 - timetable'!AE21","v":0},{"$f":"'OB1 - stage K20 - timetable'!AF21","v":0},{"$f":"'OB1 - stage K20 - timetable'!AG21","v":0},{"$f":"'OB1 - stage K20 - timetable'!AH21","v":0},{"$f":"'OB1 - stage K20 - timetable'!AI21","v":0},{"$f":"'OB1 - stage K20 - timetable'!AJ21","v":0},{"$f":"'OB1 - stage K20 - timetable'!AK21","v":0},{"$f":"'OB1 - stage K20 - timetable'!AL21","v":0},{"$f":"'OB1 - stage K20 - timetable'!AM21","v":0},{"$f":"'OB1 - stage K20 - timetable'!AN21","v":0},{"$f":"'OB1 - stage K20 - timetable'!AO21","v":0},{"$f":"'OB1 - stage K20 - timetable'!AP21","v":0},{"$f":"'OB1 - stage K20 - timetable'!AQ21","v":0},{"$f":"'OB1 - stage K20 - timetable'!AR21","v":0},{"$f":"'OB1 - stage K20 - timetable'!AS21","v":0},{"$f":"'OB1 - stage K20 - timetable'!AT21","v":0},{"$f":"'OB1 - stage K20 - timetable'!AU21","v":0},{"$f":"'OB1 - stage K20 - timetable'!AV21","v":0},{"$f":"'OB1 - stage K20 - timetable'!AW21","v":0},{"$f":"'OB1 - stage K20 - timetable'!AX21","v":0},{"$f":"'OB1 - stage K20 - timetable'!AY21","v":0},{"$f":"'OB1 - stage K20 - timetable'!AZ21","v":0},{"$f":"'OB1 - stage K20 - timetable'!BA21","v":0},{"$f":"'OB1 - stage K20 - timetable'!BB21","v":0},{"$f":"'OB1 - stage K20 - timetable'!BC21","v":0},{"$f":"'OB1 - stage K20 - timetable'!BD21","v":0},{"$f":"'OB1 - stage K20 - timetable'!BE21","v":0},{"$f":"'OB1 - stage K20 - timetable'!BF21","v":0},{"$f":"'OB1 - stage K20 - timetable'!BG21","v":0},{"$f":"'OB1 - stage K20 - timetable'!BH21","v":0},{"$f":"'OB1 - stage K20 - timetable'!BI21","v":0},{"$f":"'OB1 - stage K20 - timetable'!BJ21","v":0},{"$f":"'OB1 - stage K20 - timetable'!BK21","v":0},{"$f":"'OB1 - stage K20 - timetable'!BL21","v":0}]
["SO 103 - Transport of wood chips","stage K20 - technological part (PS 103, PS 104, PS 106, PS 107, PS 108)","K20","EUR",{"$f":"'OB1 - stage K20 - timetable'!J23","v":0},{"$f":"'OB1 - stage K20 - timetable'!K23","v":0},{"$f":"'OB1 - stage K20 - timetable'!L23","v":0},{"$f":"'OB1 - stage K20 - timetable'!M23","v":0},{"$f":"'OB1 - stage K20 - timetable'!N23","v":0},{"$f":"'OB1 - stage K20 - timetable'!O23","v":0},{"$f":"'OB1 - stage K20 - timetable'!P23","v":0},{"$f":"'OB1 - stage K20 - timetable'!Q23","v":0},{"$f":"'OB1 - stage K20 - timetable'!R23","v":0},{"$f":"'OB1 - stage K20 - timetable'!S23","v":0},{"$f":"'OB1 - stage K20 - timetable'!T23","v":0},{"$f":"'OB1 - stage K20 - timetable'!U23","v":0},{"$f":"'OB1 - stage K20 - timetable'!V23","v":0},{"$f":"'OB1 - stage K20 - timetable'!W23","v":0},{"$f":"'OB1 - stage K20 - timetable'!X23","v":0},{"$f":"'OB1 - stage K20 - timetable'!Y23","v":0},{"$f":"'OB1 - stage K20 - timetable'!Z23","v":0},{"$f":"'OB1 - stage K20 - timetable'!AA23","v":0},{"$f":"'OB1 - stage K20 - timetable'!AB23","v":0},{"$f":"'OB1 - stage K20 - timetable'!AC23","v":0},{"$f":"'OB1 - stage K20 - timetable'!AD23","v":0},{"$f":"'OB1 - stage K20 - timetable'!AE23","v":0},{"$f":"'OB1 - stage K20 - timetable'!AF23","v":0},{"$f":"'OB1 - stage K20 - timetable'!AG23","v":0},{"$f":"'OB1 - stage K20 - timetable'!AH23","v":0},{"$f":"'OB1 - stage K20 - timetable'!AI23","v":0},{"$f":"'OB1 - stage K20 - timetable'!AJ23","v":0},{"$f":"'OB1 - stage K20 - timetable'!AK23","v":0},{"$f":"'OB1 - stage K20 - timetable'!AL23","v":0},{"$f":"'OB1 - stage K20 - timetable'!AM23","v":0},{"$f":"'OB1 - stage K20 - timetable'!AN23","v":0},{"$f":"'OB1 - stage K20 - timetable'!AO23","v":0},{"$f":"'OB1 - stage K20 - timetable'!AP23","v":0},{"$f":"'OB1 - stage K20 - timetable'!AQ23","v":0},{"$f":"'OB1 - stage K20 - timetable'!AR23","v":0},{"$f":"'OB1 - stage K20 - timetable'!AS23","v":0},{"$f":"'OB1 - stage K20 - timetable'!AT23","v":0},{"$f":"'OB1 - stage K20 - timetable'!AU23","v":0},{"$f":"'OB1 - stage K20 - timetable'!AV23","v":0},{"$f":"'OB1 - stage K20 - timetable'!AW23","v":0},{"$f":"'OB1 - stage K20 - timetable'!AX23","v":0},{"$f":"'OB1 - stage K20 - timetable'!AY23","v":0},{"$f":"'OB1 - stage K20 - timetable'!AZ23","v":0},{"$f":"'OB1 - stage K20 - timetable'!BA23","v":0},{"$f":"'OB1 - stage K20 - timetable'!BB23","v":0},{"$f":"'OB1 - stage K20 - timetable'!BC23","v":0},{"$f":"'OB1 - stage K20 - timetable'!BD23","v":0},{"$f":"'OB1 - stage K20 - timetable'!BE23","v":0},{"$f":"'OB1 - stage K20 - timetable'!BF23","v":0},{"$f":"'OB1 - stage K20 - timetable'!BG23","v":0},{"$f":"'OB1 - stage K20 - timetable'!BH23","v":0},{"$f":"'OB1 - stage K20 - timetable'!BI23","v":0},{"$f":"'OB1 - stage K20 - timetable'!BJ23","v":0},{"$f":"'OB1 - stage K20 - timetable'!BK23","v":0},{"$f":"'OB1 - stage K20 - timetable'!BL23","v":0}]
[null,"stage K20 - construction part (A4.4)","K20","EUR",{"$f":"'OB1 - stage K20 - timetable'!J25","v":0},{"$f":"'OB1 - stage K20 - timetable'!K25","v":0},{"$f":"'OB1 - stage K20 - timetable'!L25","v":0},{"$f":"'OB1 - stage K20 - timetable'!M25","v":0},{"$f":"'OB1 - stage K20 - timetable'!N25","v":0},{"$f":"'OB1 - stage K20 - timetable'!O25","v":0},{"$f":"'OB1 - stage K20 - timetable'!P25","v":0},{"$f":"'OB1 - stage K20 - timetable'!Q25","v":0},{"$f":"'OB1 - stage K20 - timetable'!R25","v":0},{"$f":"'OB1 - stage K20 - timetable'!S25","v":0},{"$f":"'OB1 - stage K20 - timetable'!T25","v":0},{"$f":"'OB1 - stage K20 - timetable'!U25","v":0},{"$f":"'OB1 - stage K20 - timetable'!V25","v":0},{"$f":"'OB1 - stage K20 - timetable'!W25","v":0},{"$f":"'OB1 - stage K20 - timetable'!X25","v":0},{"$f":"'OB1 - stage K20 - timetable'!Y25","v":0},{"$f":"'OB1 - stage K20 - timetable'!Z25","v":0},{"$f":"'OB1 - stage K20 - timetable'!AA25","v":0},{"$f":"'OB1 - stage K20 - timetable'!AB25","v":0},{"$f":"'OB1 - stage K20 - timetable'!AC25","v":0},{"$f":"'OB1 - stage K20 - timetable'!AD25","v":0},{"$f":"'OB1 - stage K20 - timetable'!AE25","v":0},{"$f":"'OB1 - stage K20 - timetable'!AF25","v":0},{"$f":"'OB1 - stage K20 - timetable'!AG25","v":0},{"$f":"'OB1 - stage K20 - timetable'!AH25","v":0},{"$f":"'OB1 - stage K20 - timetable'!AI25","v":0},{"$f":"'OB1 - stage K20 - timetable'!AJ25","v":0},{"$f":"'OB1 - stage K20 - timetable'!AK25","v":0},{"$f":"'OB1 - stage K20 - timetable'!AL25","v":0},{"$f":"'OB1 - stage K20 - timetable'!AM25","v":0},{"$f":"'OB1 - stage K20 - timetable'!AN25","v":0},{"$f":"'OB1 - stage K20 - timetable'!AO25","v":0},{"$f":"'OB1 - stage K20 - timetable'!AP25","v":0},{"$f":"'OB1 - stage K20 - timetable'!AQ25","v":0},{"$f":"'OB1 - stage K20 - timetable'!AR25","v":0},{"$f":"'OB1 - stage K20 - timetable'!AS25","v":0},{"$f":"'OB1 - stage K20 - timetable'!AT25","v":0},{"$f":"'OB1 - stage K20 - timetable'!AU25","v":0},{"$f":"'OB1 - stage K20 - timetable'!AV25","v":0},{"$f":"'OB1 - stage K20 - timetable'!AW25","v":0},{"$f":"'OB1 - stage K20 - timetable'!AX25","v":0},{"$f":"'OB1 - stage K20 - timetable'!AY25","v":0},{"$f":"'OB1 - stage K20 - timetable'!AZ25","v":0},{"$f":"'OB1 - stage K20 - timetable'!BA25","v":0},{"$f":"'OB1 - stage K20 - timetable'!BB25","v":0},{"$f":"'OB1 - stage K20 - timetable'!BC25","v":0},{"$f":"'OB1 - stage K20 - timetable'!BD25","v":0},{"$f":"'OB1 - stage K20 - timetable'!BE25","v":0},{"$f":"'OB1 - stage K20 - timetable'!BF25","v":0},{"$f":"'OB1 - stage K20 - timetable'!BG25","v":0},{"$f":"'OB1 - stage K20 - timetable'!BH25","v":0},{"$f":"'OB1 - stage K20 - timetable'!BI25","v":0},{"$f":"'OB1 - stage K20 - timetable'!BJ25","v":0},{"$f":"'OB1 - stage K20 - timetable'!BK25","v":0},{"$f":"'OB1 - stage K20 - timetable'!BL25","v":0}]
["SO 102 - Wood chip storage technology","stage K20 - technological part (PS 105, PS 106, PS 107, PS 108)","K20","EUR",{"$f":"'OB1 - stage K20 - timetable'!J27","v":0},{"$f":"'OB1 - stage K20 - timetable'!K27","v":0},{"$f":"'OB1 - stage K20 - timetable'!L27","v":0},{"$f":"'OB1 - stage K20 - timetable'!M27","v":0},{"$f":"'OB1 - stage K20 - timetable'!N27","v":0},{"$f":"'OB1 - stage K20 - timetable'!O27","v":0},{"$f":"'OB1 - stage K20 - timetable'!P27","v":0},{"$f":"'OB1 - stage K20 - timetable'!Q27","v":0},{"$f":"'OB1 - stage K20 - timetable'!R27","v":0},{"$f":"'OB1 - stage K20 - timetable'!S27","v":0},{"$f":"'OB1 - stage K20 - timetable'!T27","v":0},{"$f":"'OB1 - stage K20 - timetable'!U27","v":0},{"$f":"'OB1 - stage K20 - timetable'!V27","v":0},{"$f":"'OB1 - stage K20 - timetable'!W27","v":0},{"$f":"'OB1 - stage K20 - timetable'!X27","v":0},{"$f":"'OB1 - stage K20 - timetable'!Y27","v":0},{"$f":"'OB1 - stage K20 - timetable'!Z27","v":0},{"$f":"'OB1 - stage K20 - timetable'!AA27","v":0},{"$f":"'OB1 - stage K20 - timetable'!AB27","v":0},{"$f":"'OB1 - stage K20 - timetable'!AC27","v":0},{"$f":"'OB1 - stage K20 - timetable'!AD27","v":0},{"$f":"'OB1 - stage K20 - timetable'!AE27","v":0},{"$f":"'OB1 - stage K20 - timetable'!AF27","v":0},{"$f":"'OB1 - stage K20 - timetable'!AG27","v":0},{"$f":"'OB1 - stage K20 - timetable'!AH27","v":0},{"$f":"'OB1 - stage K20 - timetable'!AI27","v":0},{"$f":"'OB1 - stage K20 - timetable'!AJ27","v":0},{"$f":"'OB1 - stage K20 - timetable'!AK27","v":0},{"$f":"'OB1 - stage K20 - timetable'!AL27","v":0},{"$f":"'OB1 - stage K20 - timetable'!AM27","v":0},{"$f":"'OB1 - stage K20 - timetable'!AN27","v":0},{"$f":"'OB1 - stage K20 - timetable'!AO27","v":0},{"$f":"'OB1 - stage K20 - timetable'!AP27","v":0},{"$f":"'OB1 - stage K20 - timetable'!AQ27","v":0},{"$f":"'OB1 - stage K20 - timetable'!AR27","v":0},{"$f":"'OB1 - stage K20 - timetable'!AS27","v":0},{"$f":"'OB1 - stage K20 - timetable'!AT27","v":0},{"$f":"'OB1 - stage K20 - timetable'!AU27","v":0},{"$f":"'OB1 - stage K20 - timetable'!AV27","v":0},{"$f":"'OB1 - stage K20 - timetable'!AW27","v":0},{"$f":"'OB1 - stage K20 - timetable'!AX27","v":0},{"$f":"'OB1 - stage K20 - timetable'!AY27","v":0},{"$f":"'OB1 - stage K20 - timetable'!AZ27","v":0},{"$f":"'OB1 - stage K20 - timetable'!BA27","v":0},{"$f":"'OB1 - stage K20 - timetable'!BB27","v":0},{"$f":"'OB1 - stage K20 - timetable'!BC27","v":0},{"$f":"'OB1 - stage K20 - timetable'!BD27","v":0},{"$f":"'OB1 - stage K20 - timetable'!BE27","v":0},{"$f":"'OB1 - stage K20 - timetable'!BF27","v":0},{"$f":"'OB1 - stage K20 - timetable'!BG27","v":0},{"$f":"'OB1 - stage K20 - timetable'!BH27","v":0},{"$f":"'OB1 - stage K20 - timetable'!BI27","v":0},{"$f":"'OB1 - stage K20 - timetable'!BJ27","v":0},{"$f":"'OB1 - stage K20 - timetable'!BK27","v":0},{"$f":"'OB1 - stage K20 - timetable'!BL27","v":0}]
[null,"stage K20 - construction part (A4.4)","K20","EUR",{"$f":"'OB1 - stage K20 - timetable'!J29","v":0},{"$f":"'OB1 - stage K20 - timetable'!K29","v":0},{"$f":"'OB1 - stage K20 - timetable'!L29","v":0},{"$f":"'OB1 - stage K20 - timetable'!M29","v":0},{"$f":"'OB1 - stage K20 - timetable'!N29","v":0},{"$f":"'OB1 - stage K20 - timetable'!O29","v":0},{"$f":"'OB1 - stage K20 - timetable'!P29","v":0},{"$f":"'OB1 - stage K20 - timetable'!Q29","v":0},{"$f":"'OB1 - stage K20 - timetable'!R29","v":0},{"$f":"'OB1 - stage K20 - timetable'!S29","v":0},{"$f":"'OB1 - stage K20 - timetable'!T29","v":0},{"$f":"'OB1 - stage K20 - timetable'!U29","v":0},{"$f":"'OB1 - stage K20 - timetable'!V29","v":0},{"$f":"'OB1 - stage K20 - timetable'!W29","v":0},{"$f":"'OB1 - stage K20 - timetable'!X29","v":0},{"$f":"'OB1 - stage K20 - timetable'!Y29","v":0},{"$f":"'OB1 - stage K20 - timetable'!Z29","v":0},{"$f":"'OB1 - stage K20 - timetable'!AA29","v":0},{"$f":"'OB1 - stage K20 - timetable'!AB29","v":0},{"$f":"'OB1 - stage K20 - timetable'!AC29","v":0},{"$f":"'OB1 - stage K20 - timetable'!AD29","v":0},{"$f":"'OB1 - stage K20 - timetable'!AE29","v":0},{"$f":"'OB1 - stage K20 - timetable'!AF29","v":0},{"$f":"'OB1 - stage K20 - timetable'!AG29","v":0},{"$f":"'OB1 - stage K20 - timetable'!AH29","v":0},{"$f":"'OB1 - stage K20 - timetable'!AI29","v":0},{"$f":"'OB1 - stage K20 - timetable'!AJ29","v":0},{"$f":"'OB1 - stage K20 - timetable'!AK29","v":0},{"$f":"'OB1 - stage K20 - timetable'!AL29","v":0},{"$f":"'OB1 - stage K20 - timetable'!AM29","v":0},{"$f":"'OB1 - stage K20 - timetable'!AN29","v":0},{"$f":"'OB1 - stage K20 - timetable'!AO29","v":0},{"$f":"'OB1 - stage K20 - timetable'!AP29","v":0},{"$f":"'OB1 - stage K20 - timetable'!AQ29","v":0},{"$f":"'OB1 - stage K20 - timetable'!AR29","v":0},{"$f":"'OB1 - stage K20 - timetable'!AS29","v":0},{"$f":"'OB1 - stage K20 - timetable'!AT29","v":0},{"$f":"'OB1 - stage K20 - timetable'!AU29","v":0},{"$f":"'OB1 - stage K20 - timetable'!AV29","v":0},{"$f":"'OB1 - stage K20 - timetable'!AW29","v":0},{"$f":"'OB1 - stage K20 - timetable'!AX29","v":0},{"$f":"'OB1 - stage K20 - timetable'!AY29","v":0},{"$f":"'OB1 - stage K20 - timetable'!AZ29","v":0},{"$f":"'OB1 - stage K20 - timetable'!BA29","v":0},{"$f":"'OB1 - stage K20 - timetable'!BB29","v":0},{"$f":"'OB1 - stage K20 - timetable'!BC29","v":0},{"$f":"'OB1 - stage K20 - timetable'!BD29","v":0},{"$f":"'OB1 - stage K20 - timetable'!BE29","v":0},{"$f":"'OB1 - stage K20 - timetable'!BF29","v":0},{"$f":"'OB1 - stage K20 - timetable'!BG29","v":0},{"$f":"'OB1 - stage K20 - timetable'!BH29","v":0},{"$f":"'OB1 - stage K20 - timetable'!BI29","v":0},{"$f":"'OB1 - stage K20 - timetable'!BJ29","v":0},{"$f":"'OB1 - stage K20 - timetable'!BK29","v":0},{"$f":"'OB1 - stage K20 - timetable'!BL29","v":0}]
["SO 104 - Transport of wood chips to boiler room K20","stage K20 - technological part (PS 104, PS 106, PS 107, PS 108)","K20","EUR",{"$f":"'OB1 - stage K20 - timetable'!J31","v":0},{"$f":"'OB1 - stage K20 - timetable'!K31","v":0},{"$f":"'OB1 - stage K20 - timetable'!L31","v":0},{"$f":"'OB1 - stage K20 - timetable'!M31","v":0},{"$f":"'OB1 - stage K20 - timetable'!N31","v":0},{"$f":"'OB1 - stage K20 - timetable'!O31","v":0},{"$f":"'OB1 - stage K20 - timetable'!P31","v":0},{"$f":"'OB1 - stage K20 - timetable'!Q31","v":0},{"$f":"'OB1 - stage K20 - timetable'!R31","v":0},{"$f":"'OB1 - stage K20 - timetable'!S31","v":0},{"$f":"'OB1 - stage K20 - timetable'!T31","v":0},{"$f":"'OB1 - stage K20 - timetable'!U31","v":0},{"$f":"'OB1 - stage K20 - timetable'!V31","v":0},{"$f":"'OB1 - stage K20 - timetable'!W31","v":0},{"$f":"'OB1 - stage K20 - timetable'!X31","v":0},{"$f":"'OB1 - stage K20 - timetable'!Y31","v":0},{"$f":"'OB1 - stage K20 - timetable'!Z31","v":0},{"$f":"'OB1 - stage K20 - timetable'!AA31","v":0},{"$f":"'OB1 - stage K20 - timetable'!AB31","v":0},{"$f":"'OB1 - stage K20 - timetable'!AC31","v":0},{"$f":"'OB1 - stage K20 - timetable'!AD31","v":0},{"$f":"'OB1 - stage K20 - timetable'!AE31","v":0},{"$f":"'OB1 - stage K20 - timetable'!AF31","v":0},{"$f":"'OB1 - stage K20 - timetable'!AG31","v":0},{"$f":"'OB1 - stage K20 - timetable'!AH31","v":0},{"$f":"'OB1 - stage K20 - timetable'!AI31","v":0},{"$f":"'OB1 - stage K20 - timetable'!AJ31","v":0},{"$f":"'OB1 - stage K20 - timetable'!AK31","v":0},{"$f":"'OB1 - stage K20 - timetable'!AL31","v":0},{"$f":"'OB1 - stage K20 - timetable'!AM31","v":0},{"$f":"'OB1 - stage K20 - timetable'!AN31","v":0},{"$f":"'OB1 - stage K20 - timetable'!AO31","v":0},{"$f":"'OB1 - stage K20 - timetable'!AP31","v":0},{"$f":"'OB1 - stage K20 - timetable'!AQ31","v":0},{"$f":"'OB1 - stage K20 - timetable'!AR31","v":0},{"$f":"'OB1 - stage K20 - timetable'!AS31","v":0},{"$f":"'OB1 - stage K20 - timetable'!AT31","v":0},{"$f":"'OB1 - stage K20 - timetable'!AU31","v":0},{"$f":"'OB1 - stage K20 - timetable'!AV31","v":0},{"$f":"'OB1 - stage K20 - timetable'!AW31","v":0},{"$f":"'OB1 - stage K20 - timetable'!AX31","v":0},{"$f":"'OB1 - stage K20 - timetable'!AY31","v":0},{"$f":"'OB1 - stage K20 - timetable'!AZ31","v":0},{"$f":"'OB1 - stage K20 - timetable'!BA31","v":0},{"$f":"'OB1 - stage K20 - timetable'!BB31","v":0},{"$f":"'OB1 - stage K20 - timetable'!BC31","v":0},{"$f":"'OB1 - stage K20 - timetable'!BD31","v":0},{"$f":"'OB1 - stage K20 - timetable'!BE31","v":0},{"$f":"'OB1 - stage K20 - timetable'!BF31","v":0},{"$f":"'OB1 - stage K20 - timetable'!BG31","v":0},{"$f":"'OB1 - stage K20 - timetable'!BH31","v":0},{"$f":"'OB1 - stage K20 - timetable'!BI31","v":0},{"$f":"'OB1 - stage K20 - timetable'!BJ31","v":0},{"$f":"'OB1 - stage K20 - timetable'!BK31","v":0},{"$f":"'OB1 - stage K20 - timetable'!BL31","v":0}]
[null,"stage K20 - construction part (A4.4)","K20","EUR",{"$f":"'OB1 - stage K20 - timetable'!J33","v":0},{"$f":"'OB1 - stage K20 - timetable'!K33","v":0},{"$f":"'OB1 - stage K20 - timetable'!L33","v":0},{"$f":"'OB1 - stage K20 - timetable'!M33","v":0},{"$f":"'OB1 - stage K20 - timetable'!N33","v":0},{"$f":"'OB1 - stage K20 - timetable'!O33","v":0},{"$f":"'OB1 - stage K20 - timetable'!P33","v":0},{"$f":"'OB1 - stage K20 - timetable'!Q33","v":0},{"$f":"'OB1 - stage K20 - timetable'!R33","v":0},{"$f":"'OB1 - stage K20 - timetable'!S33","v":0},{"$f":"'OB1 - stage K20 - timetable'!T33","v":0},{"$f":"'OB1 - stage K20 - timetable'!U33","v":0},{"$f":"'OB1 - stage K20 - timetable'!V33","v":0},{"$f":"'OB1 - stage K20 - timetable'!W33","v":0},{"$f":"'OB1 - stage K20 - timetable'!X33","v":0},{"$f":"'OB1 - stage K20 - timetable'!Y33","v":0},{"$f":"'OB1 - stage K20 - timetable'!Z33","v":0},{"$f":"'OB1 - stage K20 - timetable'!AA33","v":0},{"$f":"'OB1 - stage K20 - timetable'!AB33","v":0},{"$f":"'OB1 - stage K20 - timetable'!AC33","v":0},{"$f":"'OB1 - stage K20 - timetable'!AD33","v":0},{"$f":"'OB1 - stage K20 - timetable'!AE33","v":0},{"$f":"'OB1 - stage K20 - timetable'!AF33","v":0},{"$f":"'OB1 - stage K20 - timetable'!AG33","v":0},{"$f":"'OB1 - stage K20 - timetable'!AH33","v":0},{"$f":"'OB1 - stage K20 - timetable'!AI33","v":0},{"$f":"'OB1 - stage K20 - timetable'!AJ33","v":0},{"$f":"'OB1 - stage K20 - timetable'!AK33","v":0},{"$f":"'OB1 - stage K20 - timetable'!AL33","v":0},{"$f":"'OB1 - stage K20 - timetable'!AM33","v":0},{"$f":"'OB1 - stage K20 - timetable'!AN33","v":0},{"$f":"'OB1 - stage K20 - timetable'!AO33","v":0},{"$f":"'OB1 - stage K20 - timetable'!AP33","v":0},{"$f":"'OB1 - stage K20 - timetable'!AQ33","v":0},{"$f":"'OB1 - stage K20 - timetable'!AR33","v":0},{"$f":"'OB1 - stage K20 - timetable'!AS33","v":0},{"$f":"'OB1 - stage K20 - timetable'!AT33","v":0},{"$f":"'OB1 - stage K20 - timetable'!AU33","v":0},{"$f":"'OB1 - stage K20 - timetable'!AV33","v":0},{"$f":"'OB1 - stage K20 - timetable'!AW33","v":0},{"$f":"'OB1 - stage K20 - timetable'!AX33","v":0},{"$f":"'OB1 - stage K20 - timetable'!AY33","v":0},{"$f":"'OB1 - stage K20 - timetable'!AZ33","v":0},{"$f":"'OB1 - stage K20 - timetable'!BA33","v":0},{"$f":"'OB1 - stage K20 - timetable'!BB33","v":0},{"$f":"'OB1 - stage K20 - timetable'!BC33","v":0},{"$f":"'OB1 - stage K20 - timetable'!BD33","v":0},{"$f":"'OB1 - stage K20 - timetable'!BE33","v":0},{"$f":"'OB1 - stage K20 - timetable'!BF33","v":0},{"$f":"'OB1 - stage K20 - timetable'!BG33","v":0},{"$f":"'OB1 - stage K20 - timetable'!BH33","v":0},{"$f":"'OB1 - stage K20 - timetable'!BI33","v":0},{"$f":"'OB1 - stage K20 - timetable'!BJ33","v":0},{"$f":"'OB1 - stage K20 - timetable'!BK33","v":0},{"$f":"'OB1 - stage K20 - timetable'!BL33","v":0}]
[null,"stage K20 - training of operation staff","K20","EUR",{"$f":"'OB1 - stage K20 - timetable'!J37","v":0},{"$f":"'OB1 - stage K20 - timetable'!K37","v":0},{"$f":"'OB1 - stage K20 - timetable'!L37","v":0},{"$f":"'OB1 - stage K20 - timetable'!M37","v":0},{"$f":"'OB1 - stage K20 - timetable'!N37","v":0},{"$f":"'OB1 - stage K20 - timetable'!O37","v":0},{"$f":"'OB1 - stage K20 - timetable'!P37","v":0},{"$f":"'OB1 - stage K20 - timetable'!Q37","v":0},{"$f":"'OB1 - stage K20 - timetable'!R37","v":0},{"$f":"'OB1 - stage K20 - timetable'!S37","v":0},{"$f":"'OB1 - stage K20 - timetable'!T37","v":0},{"$f":"'OB1 - stage K20 - timetable'!U37","v":0},{"$f":"'OB1 - stage K20 - timetable'!V37","v":0},{"$f":"'OB1 - stage K20 - timetable'!W37","v":0},{"$f":"'OB1 - stage K20 - timetable'!X37","v":0},{"$f":"'OB1 - stage K20 - timetable'!Y37","v":0},{"$f":"'OB1 - stage K20 - timetable'!Z37","v":0},{"$f":"'OB1 - stage K20 - timetable'!AA37","v":0},{"$f":"'OB1 - stage K20 - timetable'!AB37","v":0},{"$f":"'OB1 - stage K20 - timetable'!AC37","v":0},{"$f":"'OB1 - stage K20 - timetable'!AD37","v":0},{"$f":"'OB1 - stage K20 - timetable'!AE37","v":0},{"$f":"'OB1 - stage K20 - timetable'!AF37","v":0},{"$f":"'OB1 - stage K20 - timetable'!AG37","v":0},{"$f":"'OB1 - stage K20 - timetable'!AH37","v":0},{"$f":"'OB1 - stage K20 - timetable'!AI37","v":0},{"$f":"'OB1 - stage K20 - timetable'!AJ37","v":0},{"$f":"'OB1 - stage K20 - timetable'!AK37","v":0},{"$f":"'OB1 - stage K20 - timetable'!AL37","v":0},{"$f":"'OB1 - stage K20 - timetable'!AM37","v":0},{"$f":"'OB1 - stage K20 - timetable'!AN37","v":0},{"$f":"'OB1 - stage K20 - timetable'!AO37","v":0},{"$f":"'OB1 - stage K20 - timetable'!AP37","v":0},{"$f":"'OB1 - stage K20 - timetable'!AQ37","v":0},{"$f":"'OB1 - stage K20 - timetable'!AR37","v":0},{"$f":"'OB1 - stage K20 - timetable'!AS37","v":0},{"$f":"'OB1 - stage K20 - timetable'!AT37","v":0},{"$f":"'OB1 - stage K20 - timetable'!AU37","v":0},{"$f":"'OB1 - stage K20 - timetable'!AV37","v":0},{"$f":"'OB1 - stage K20 - timetable'!AW37","v":0},{"$f":"'OB1 - stage K20 - timetable'!AX37","v":0},{"$f":"'OB1 - stage K20 - timetable'!AY37","v":0},{"$f":"'OB1 - stage K20 - timetable'!AZ37","v":0},{"$f":"'OB1 - stage K20 - timetable'!BA37","v":0},{"$f":"'OB1 - stage K20 - timetable'!BB37","v":0},{"$f":"'OB1 - stage K20 - timetable'!BC37","v":0},{"$f":"'OB1 - stage K20 - timetable'!BD37","v":0},{"$f":"'OB1 - stage K20 - timetable'!BE37","v":0},{"$f":"'OB1 - stage K20 - timetable'!BF37","v":0},{"$f":"'OB1 - stage K20 - timetable'!BG37","v":0},{"$f":"'OB1 - stage K20 - timetable'!BH37","v":0},{"$f":"'OB1 - stage K20 - timetable'!BI37","v":0},{"$f":"'OB1 - stage K20 - timetable'!BJ37","v":0},{"$f":"'OB1 - stage K20 - timetable'!BK37","v":0},{"$f":"'OB1 - stage K20 - timetable'!BL37","v":0}]
[null,"stage K20 - comprehensive testing","K20","EUR",{"$f":"'OB1 - stage K20 - timetable'!J39","v":0},{"$f":"'OB1 - stage K20 - timetable'!K39","v":0},{"$f":"'OB1 - stage K20 - timetable'!L39","v":0},{"$f":"'OB1 - stage K20 - timetable'!M39","v":0},{"$f":"'OB1 - stage K20 - timetable'!N39","v":0},{"$f":"'OB1 - stage K20 - timetable'!O39","v":0},{"$f":"'OB1 - stage K20 - timetable'!P39","v":0},{"$f":"'OB1 - stage K20 - timetable'!Q39","v":0},{"$f":"'OB1 - stage K20 - timetable'!R39","v":0},{"$f":"'OB1 - stage K20 - timetable'!S39","v":0},{"$f":"'OB1 - stage K20 - timetable'!T39","v":0},{"$f":"'OB1 - stage K20 - timetable'!U39","v":0},{"$f":"'OB1 - stage K20 - timetable'!V39","v":0},{"$f":"'OB1 - stage K20 - timetable'!W39","v":0},{"$f":"'OB1 - stage K20 - timetable'!X39","v":0},{"$f":"'OB1 - stage K20 - timetable'!Y39","v":0},{"$f":"'OB1 - stage K20 - timetable'!Z39","v":0},{"$f":"'OB1 - stage K20 - timetable'!AA39","v":0},{"$f":"'OB1 - stage K20 - timetable'!AB39","v":0},{"$f":"'OB1 - stage K20 - timetable'!AC39","v":0},{"$f":"'OB1 - stage K20 - timetable'!AD39","v":0},{"$f":"'OB1 - stage K20 - timetable'!AE39","v":0},{"$f":"'OB1 - stage K20 - timetable'!AF39","v":0},{"$f":"'OB1 - stage K20 - timetable'!AG39","v":0},{"$f":"'OB1 - stage K20 - timetable'!AH39","v":0},{"$f":"'OB1 - stage K20 - timetable'!AI39","v":0},{"$f":"'OB1 - stage K20 - timetable'!AJ39","v":0},{"$f":"'OB1 - stage K20 - timetable'!AK39","v":0},{"$f":"'OB1 - stage K20 - timetable'!AL39","v":0},{"$f":"'OB1 - stage K20 - timetable'!AM39","v":0},{"$f":"'OB1 - stage K20 - timetable'!AN39","v":0},{"$f":"'OB1 - stage K20 - timetable'!AO39","v":0},{"$f":"'OB1 - stage K20 - timetable'!AP39","v":0},{"$f":"'OB1 - stage K20 - timetable'!AQ39","v":0},{"$f":"'OB1 - stage K20 - timetable'!AR39","v":0},{"$f":"'OB1 - stage K20 - timetable'!AS39","v":0},{"$f":"'OB1 - stage K20 - timetable'!AT39","v":0},{"$f":"'OB1 - stage K20 - timetable'!AU39","v":0},{"$f":"'OB1 - stage K20 - timetable'!AV39","v":0},{"$f":"'OB1 - stage K20 - timetable'!AW39","v":0},{"$f":"'OB1 - stage K20 - timetable'!AX39","v":0},{"$f":"'OB1 - stage K20 - timetable'!AY39","v":0},{"$f":"'OB1 - stage K20 - timetable'!AZ39","v":0},{"$f":"'OB1 - stage K20 - timetable'!BA39","v":0},{"$f":"'OB1 - stage K20 - timetable'!BB39","v":0},{"$f":"'OB1 - stage K20 - timetable'!BC39","v":0},{"$f":"'OB1 - stage K20 - timetable'!BD39","v":0},{"$f":"'OB1 - stage K20 - timetable'!BE39","v":0},{"$f":"'OB1 - stage K20 - timetable'!BF39","v":0},{"$f":"'OB1 - stage K20 - timetable'!BG39","v":0},{"$f":"'OB1 - stage K20 - timetable'!BH39","v":0},{"$f":"'OB1 - stage K20 - timetable'!BI39","v":0},{"$f":"'OB1 - stage K20 - timetable'!BJ39","v":0},{"$f":"'OB1 - stage K20 - timetable'!BK39","v":0},{"$f":"'OB1 - stage K20 - timetable'!BL39","v":0}]
[null,"stage K20 - test operation","K20","EUR",{"$f":"'OB1 - stage K20 - timetable'!J41","v":0},{"$f":"'OB1 - stage K20 - timetable'!K41","v":0},{"$f":"'OB1 - stage K20 - timetable'!L41","v":0},{"$f":"'OB1 - stage K20 - timetable'!M41","v":0},{"$f":"'OB1 - stage K20 - timetable'!N41","v":0},{"$f":"'OB1 - stage K20 - timetable'!O41","v":0},{"$f":"'OB1 - stage K20 - timetable'!P41","v":0},{"$f":"'OB1 - stage K20 - timetable'!Q41","v":0},{"$f":"'OB1 - stage K20 - timetable'!R41","v":0},{"$f":"'OB1 - stage K20 - timetable'!S41","v":0},{"$f":"'OB1 - stage K20 - timetable'!T41","v":0},{"$f":"'OB1 - stage K20 - timetable'!U41","v":0},{"$f":"'OB1 - stage K20 - timetable'!V41","v":0},{"$f":"'OB1 - stage K20 - timetable'!W41","v":0},{"$f":"'OB1 - stage K20 - timetable'!X41","v":0},{"$f":"'OB1 - stage K20 - timetable'!Y41","v":0},{"$f":"'OB1 - stage K20 - timetable'!Z41","v":0},{"$f":"'OB1 - stage K20 - timetable'!AA41","v":0},{"$f":"'OB1 - stage K20 - timetable'!AB41","v":0},{"$f":"'OB1 - stage K20 - timetable'!AC41","v":0},{"$f":"'OB1 - stage K20 - timetable'!AD41","v":0},{"$f":"'OB1 - stage K20 - timetable'!AE41","v":0},{"$f":"'OB1 - stage K20 - timetable'!AF41","v":0},{"$f":"'OB1 - stage K20 - timetable'!AG41","v":0},{"$f":"'OB1 - stage K20 - timetable'!AH41","v":0},{"$f":"'OB1 - stage K20 - timetable'!AI41","v":0},{"$f":"'OB1 - stage K20 - timetable'!AJ41","v":0},{"$f":"'OB1 - stage K20 - timetable'!AK41","v":0},{"$f":"'OB1 - stage K20 - timetable'!AL41","v":0},{"$f":"'OB1 - stage K20 - timetable'!AM41","v":0},{"$f":"'OB1 - stage K20 - timetable'!AN41","v":0},{"$f":"'OB1 - stage K20 - timetable'!AO41","v":0},{"$f":"'OB1 - stage K20 - timetable'!AP41","v":0},{"$f":"'OB1 - stage K20 - timetable'!AQ41","v":0},{"$f":"'OB1 - stage K20 - timetable'!AR41","v":0},{"$f":"'OB1 - stage K20 - timetable'!AS41","v":0},{"$f":"'OB1 - stage K20 - timetable'!AT41","v":0},{"$f":"'OB1 - stage K20 - timetable'!AU41","v":0},{"$f":"'OB1 - stage K20 - timetable'!AV41","v":0},{"$f":"'OB1 - stage K20 - timetable'!AW41","v":0},{"$f":"'OB1 - stage K20 - timetable'!AX41","v":0},{"$f":"'OB1 - stage K20 - timetable'!AY41","v":0},{"$f":"'OB1 - stage K20 - timetable'!AZ41","v":0},{"$f":"'OB1 - stage K20 - timetable'!BA41","v":0},{"$f":"'OB1 - stage K20 - timetable'!BB41","v":0},{"$f":"'OB1 - stage K20 - timetable'!BC41","v":0},{"$f":"'OB1 - stage K20 - timetable'!BD41","v":0},{"$f":"'OB1 - stage K20 - timetable'!BE41","v":0},{"$f":"'OB1 - stage K20 - timetable'!BF41","v":0},{"$f":"'OB1 - stage K20 - timetable'!BG41","v":0},{"$f":"'OB1 - stage K20 - timetable'!BH41","v":0},{"$f":"'OB1 - stage K20 - timetable'!BI41","v":0},{"$f":"'OB1 - stage K20 - timetable'!BJ41","v":0},{"$f":"'OB1 - stage K20 - timetable'!BK41","v":0},{"$f":"'OB1 - stage K20 - timetable'!BL41","v":0}]
[null,"stage K20 - warranty test A","K20","EUR",{"$f":"'OB1 - stage K20 - timetable'!J43","v":0},{"$f":"'OB1 - stage K20 - timetable'!K43","v":0},{"$f":"'OB1 - stage K20 - timetable'!L43","v":0},{"$f":"'OB1 - stage K20 - timetable'!M43","v":0},{"$f":"'OB1 - stage K20 - timetable'!N43","v":0},{"$f":"'OB1 - stage K20 - timetable'!O43","v":0},{"$f":"'OB1 - stage K20 - timetable'!P43","v":0},{"$f":"'OB1 - stage K20 - timetable'!Q43","v":0},{"$f":"'OB1 - stage K20 - timetable'!R43","v":0},{"$f":"'OB1 - stage K20 - timetable'!S43","v":0},{"$f":"'OB1 - stage K20 - timetable'!T43","v":0},{"$f":"'OB1 - stage K20 - timetable'!U43","v":0},{"$f":"'OB1 - stage K20 - timetable'!V43","v":0},{"$f":"'OB1 - stage K20 - timetable'!W43","v":0},{"$f":"'OB1 - stage K20 - timetable'!X43","v":0},{"$f":"'OB1 - stage K20 - timetable'!Y43","v":0},{"$f":"'OB1 - stage K20 - timetable'!Z43","v":0},{"$f":"'OB1 - stage K20 - timetable'!AA43","v":0},{"$f":"'OB1 - stage K20 - timetable'!AB43","v":0},{"$f":"'OB1 - stage K20 - timetable'!AC43","v":0},{"$f":"'OB1 - stage K20 - timetable'!AD43","v":0},{"$f":"'OB1 - stage K20 - timetable'!AE43","v":0},{"$f":"'OB1 - stage K20 - timetable'!AF43","v":0},{"$f":"'OB1 - stage K20 - timetable'!AG43","v":0},{"$f":"'OB1 - stage K20 - timetable'!AH43","v":0},{"$f":"'OB1 - stage K20 - timetable'!AI43","v":0},{"$f":"'OB1 - stage K20 - timetable'!AJ43","v":0},{"$f":"'OB1 - stage K20 - timetable'!AK43","v":0},{"$f":"'OB1 - stage K20 - timetable'!AL43","v":0},{"$f":"'OB1 - stage K20 - timetable'!AM43","v":0},{"$f":"'OB1 - stage K20 - timetable'!AN43","v":0},{"$f":"'OB1 - stage K20 - timetable'!AO43","v":0},{"$f":"'OB1 - stage K20 - timetable'!AP43","v":0},{"$f":"'OB1 - stage K20 - timetable'!AQ43","v":0},{"$f":"'OB1 - stage K20 - timetable'!AR43","v":0},{"$f":"'OB1 - stage K20 - timetable'!AS43","v":0},{"$f":"'OB1 - stage K20 - timetable'!AT43","v":0},{"$f":"'OB1 - stage K20 - timetable'!AU43","v":0},{"$f":"'OB1 - stage K20 - timetable'!AV43","v":0},{"$f":"'OB1 - stage K20 - timetable'!AW43","v":0},{"$f":"'OB1 - stage K20 - timetable'!AX43","v":0},{"$f":"'OB1 - stage K20 - timetable'!AY43","v":0},{"$f":"'OB1 - stage K20 - timetable'!AZ43","v":0},{"$f":"'OB1 - stage K20 - timetable'!BA43","v":0},{"$f":"'OB1 - stage K20 - timetable'!BB43","v":0},{"$f":"'OB1 - stage K20 - timetable'!BC43","v":0},{"$f":"'OB1 - stage K20 - timetable'!BD43","v":0},{"$f":"'OB1 - stage K20 - timetable'!BE43","v":0},{"$f":"'OB1 - stage K20 - timetable'!BF43","v":0},{"$f":"'OB1 - stage K20 - timetable'!BG43","v":0},{"$f":"'OB1 - stage K20 - timetable'!BH43","v":0},{"$f":"'OB1 - stage K20 - timetable'!BI43","v":0},{"$f":"'OB1 - stage K20 - timetable'!BJ43","v":0},{"$f":"'OB1 - stage K20 - timetable'!BK43","v":0},{"$f":"'OB1 - stage K20 - timetable'!BL43","v":0}]
[null,"stage K20 - preliminary acceptance of the PAC work","K20","EUR",{"$f":"'OB1 - stage K20 - timetable'!J45","v":0},{"$f":"'OB1 - stage K20 - timetable'!K45","v":0},{"$f":"'OB1 - stage K20 - timetable'!L45","v":0},{"$f":"'OB1 - stage K20 - timetable'!M45","v":0},{"$f":"'OB1 - stage K20 - timetable'!N45","v":0},{"$f":"'OB1 - stage K20 - timetable'!O45","v":0},{"$f":"'OB1 - stage K20 - timetable'!P45","v":0},{"$f":"'OB1 - stage K20 - timetable'!Q45","v":0},{"$f":"'OB1 - stage K20 - timetable'!R45","v":0},{"$f":"'OB1 - stage K20 - timetable'!S45","v":0},{"$f":"'OB1 - stage K20 - timetable'!T45","v":0},{"$f":"'OB1 - stage K20 - timetable'!U45","v":0},{"$f":"'OB1 - stage K20 - timetable'!V45","v":0},{"$f":"'OB1 - stage K20 - timetable'!W45","v":0},{"$f":"'OB1 - stage K20 - timetable'!X45","v":0},{"$f":"'OB1 - stage K20 - timetable'!Y45","v":0},{"$f":"'OB1 - stage K20 - timetable'!Z45","v":0},{"$f":"'OB1 - stage K20 - timetable'!AA45","v":0},{"$f":"'OB1 - stage K20 - timetable'!AB45","v":0},{"$f":"'OB1 - stage K20 - timetable'!AC45","v":0},{"$f":"'OB1 - stage K20 - timetable'!AD45","v":0},{"$f":"'OB1 - stage K20 - timetable'!AE45","v":0},{"$f":"'OB1 - stage K20 - timetable'!AF45","v":0},{"$f":"'OB1 - stage K20 - timetable'!AG45","v":0},{"$f":"'OB1 - stage K20 - timetable'!AH45","v":0},{"$f":"'OB1 - stage K20 - timetable'!AI45","v":0},{"$f":"'OB1 - stage K20 - timetable'!AJ45","v":0},{"$f":"'OB1 - stage K20 - timetable'!AK45","v":0},{"$f":"'OB1 - stage K20 - timetable'!AL45","v":0},{"$f":"'OB1 - stage K20 - timetable'!AM45","v":0},{"$f":"'OB1 - stage K20 - timetable'!AN45","v":0},{"$f":"'OB1 - stage K20 - timetable'!AO45","v":0},{"$f":"'OB1 - stage K20 - timetable'!AP45","v":0},{"$f":"'OB1 - stage K20 - timetable'!AQ45","v":0},{"$f":"'OB1 - stage K20 - timetable'!AR45","v":0},{"$f":"'OB1 - stage K20 - timetable'!AS45","v":0},{"$f":"'OB1 - stage K20 - timetable'!AT45","v":0},{"$f":"'OB1 - stage K20 - timetable'!AU45","v":0},{"$f":"'OB1 - stage K20 - timetable'!AV45","v":0},{"$f":"'OB1 - stage K20 - timetable'!AW45","v":0},{"$f":"'OB1 - stage K20 - timetable'!AX45","v":0},{"$f":"'OB1 - stage K20 - timetable'!AY45","v":0},{"$f":"'OB1 - stage K20 - timetable'!AZ45","v":0},{"$f":"'OB1 - stage K20 - timetable'!BA45","v":0},{"$f":"'OB1 - stage K20 - timetable'!BB45","v":0},{"$f":"'OB1 - stage K20 - timetable'!BC45","v":0},{"$f":"'OB1 - stage K20 - timetable'!BD45","v":0},{"$f":"'OB1 - stage K20 - timetable'!BE45","v":0},{"$f":"'OB1 - stage K20 - timetable'!BF45","v":0},{"$f":"'OB1 - stage K20 - timetable'!BG45","v":0},{"$f":"'OB1 - stage K20 - timetable'!BH45","v":0},{"$f":"'OB1 - stage K20 - timetable'!BI45","v":0},{"$f":"'OB1 - stage K20 - timetable'!BJ45","v":0},{"$f":"'OB1 - stage K20 - timetable'!BK45","v":0},{"$f":"'OB1 - stage K20 - timetable'!BL45","v":0}]
[null,"stage K20 - final acceptance of the work FAC","K20","EUR",{"$f":"'OB1 - stage K20 - timetable'!J47","v":0},{"$f":"'OB1 - stage K20 - timetable'!K47","v":0},{"$f":"'OB1 - stage K20 - timetable'!L47","v":0},{"$f":"'OB1 - stage K20 - timetable'!M47","v":0},{"$f":"'OB1 - stage K20 - timetable'!N47","v":0},{"$f":"'OB1 - stage K20 - timetable'!O47","v":0},{"$f":"'OB1 - stage K20 - timetable'!P47","v":0},{"$f":"'OB1 - stage K20 - timetable'!Q47","v":0},{"$f":"'OB1 - stage K20 - timetable'!R47","v":0},{"$f":"'OB1 - stage K20 - timetable'!S47","v":0},{"$f":"'OB1 - stage K20 - timetable'!T47","v":0},{"$f":"'OB1 - stage K20 - timetable'!U47","v":0},{"$f":"'OB1 - stage K20 - timetable'!V47","v":0},{"$f":"'OB1 - stage K20 - timetable'!W47","v":0},{"$f":"'OB1 - stage K20 - timetable'!X47","v":0},{"$f":"'OB1 - stage K20 - timetable'!Y47","v":0},{"$f":"'OB1 - stage K20 - timetable'!Z47","v":0},{"$f":"'OB1 - stage K20 - timetable'!AA47","v":0},{"$f":"'OB1 - stage K20 - timetable'!AB47","v":0},{"$f":"'OB1 - stage K20 - timetable'!AC47","v":0},{"$f":"'OB1 - stage K20 - timetable'!AD47","v":0},{"$f":"'OB1 - stage K20 - timetable'!AE47","v":0},{"$f":"'OB1 - stage K20 - timetable'!AF47","v":0},{"$f":"'OB1 - stage K20 - timetable'!AG47","v":0},{"$f":"'OB1 - stage K20 - timetable'!AH47","v":0},{"$f":"'OB1 - stage K20 - timetable'!AI47","v":0},{"$f":"'OB1 - stage K20 - timetable'!AJ47","v":0},{"$f":"'OB1 - stage K20 - timetable'!AK47","v":0},{"$f":"'OB1 - stage K20 - timetable'!AL47","v":0},{"$f":"'OB1 - stage K20 - timetable'!AM47","v":0},{"$f":"'OB1 - stage K20 - timetable'!AN47","v":0},{"$f":"'OB1 - stage K20 - timetable'!AO47","v":0},{"$f":"'OB1 - stage K20 - timetable'!AP47","v":0},{"$f":"'OB1 - stage K20 - timetable'!AQ47","v":0},{"$f":"'OB1 - stage K20 - timetable'!AR47","v":0},{"$f":"'OB1 - stage K20 - timetable'!AS47","v":0},{"$f":"'OB1 - stage K20 - timetable'!AT47","v":0},{"$f":"'OB1 - stage K20 - timetable'!AU47","v":0},{"$f":"'OB1 - stage K20 - timetable'!AV47","v":0},{"$f":"'OB1 - stage K20 - timetable'!AW47","v":0},{"$f":"'OB1 - stage K20 - timetable'!AX47","v":0},{"$f":"'OB1 - stage K20 - timetable'!AY47","v":0},{"$f":"'OB1 - stage K20 - timetable'!AZ47","v":0},{"$f":"'OB1 - stage K20 - timetable'!BA47","v":0},{"$f":"'OB1 - stage K20 - timetable'!BB47","v":0},{"$f":"'OB1 - stage K20 - timetable'!BC47","v":0},{"$f":"'OB1 - stage K20 - timetable'!BD47","v":0},{"$f":"'OB1 - stage K20 - timetable'!BE47","v":0},{"$f":"'OB1 - stage K20 - timetable'!BF47","v":0},{"$f":"'OB1 - stage K20 - timetable'!BG47","v":0},{"$f":"'OB1 - stage K20 - timetable'!BH47","v":0},{"$f":"'OB1 - stage K20 - timetable'!BI47","v":0},{"$f":"'OB1 - stage K20 - timetable'!BJ47","v":0},{"$f":"'OB1 - stage K20 - timetable'!BK47","v":0},{"$f":"'OB1 - stage K20 - timetable'!BL47","v":0}]
["SO 104 - Transport of wood chips to boiler room K80","stage K80 - technological part (PS 104, PS 106, PS 107, PS 108)","K80","EUR",{"$f":"'OB1 - stage K80 - timetable'!J9","v":0},{"$f":"'OB1 - stage K80 - timetable'!K9","v":0},{"$f":"'OB1 - stage K80 - timetable'!L9","v":0},{"$f":"'OB1 - stage K80 - timetable'!M9","v":0},{"$f":"'OB1 - stage K80 - timetable'!N9","v":0},{"$f":"'OB1 - stage K80 - timetable'!O9","v":0},{"$f":"'OB1 - stage K80 - timetable'!P9","v":0},{"$f":"'OB1 - stage K80 - timetable'!Q9","v":0},{"$f":"'OB1 - stage K80 - timetable'!R9","v":0},{"$f":"'OB1 - stage K80 - timetable'!S9","v":0},{"$f":"'OB1 - stage K80 - timetable'!T9","v":0},{"$f":"'OB1 - stage K80 - timetable'!U9","v":0},{"$f":"'OB1 - stage K80 - timetable'!V9","v":0},{"$f":"'OB1 - stage K80 - timetable'!W9","v":0},{"$f":"'OB1 - stage K80 - timetable'!X9","v":0},{"$f":"'OB1 - stage K80 - timetable'!Y9","v":0},{"$f":"'OB1 - stage K80 - timetable'!Z9","v":0},{"$f":"'OB1 - stage K80 - timetable'!AA9","v":0},{"$f":"'OB1 - stage K80 - timetable'!AB9","v":0},{"$f":"'OB1 - stage K80 - timetable'!AC9","v":0},{"$f":"'OB1 - stage K80 - timetable'!AD9","v":0},{"$f":"'OB1 - stage K80 - timetable'!AE9","v":0},{"$f":"'OB1 - stage K80 - timetable'!AF9","v":0},{"$f":"'OB1 - stage K80 - timetable'!AG9","v":0},{"$f":"'OB1 - stage K80 - timetable'!AH9","v":0},{"$f":"'OB1 - stage K80 - timetable'!AI9","v":0},{"$f":"'OB1 - stage K80 - timetable'!AJ9","v":0},{"$f":"'OB1 - stage K80 - timetable'!AK9","v":0},{"$f":"'OB1 - stage K80 - timetable'!AL9","v":0},{"$f":"'OB1 - stage K80 - timetable'!AM9","v":0},{"$f":"'OB1 - stage K80 - timetable'!AN9","v":0},{"$f":"'OB1 - stage K80 - timetable'!AO9","v":0},{"$f":"'OB1 - stage K80 - timetable'!AP9","v":0},{"$f":"'OB1 - stage K80 - timetable'!AQ9","v":0},{"$f":"'OB1 - stage K80 - timetable'!AR9","v":0},{"$f":"'OB1 - stage K80 - timetable'!AS9","v":0},{"$f":"'OB1 - stage K80 - timetable'!AT9","v":0},{"$f":"'OB1 - stage K80 - timetable'!AU9","v":0},{"$f":"'OB1 - stage K80 - timetable'!AV9","v":0},{"$f":"'OB1 - stage K80 - timetable'!AW9","v":0},{"$f":"'OB1 - stage K80 - timetable'!AX9","v":0},{"$f":"'OB1 - stage K80 - timetable'!AY9","v":0},{"$f":"'OB1 - stage K80 - timetable'!AZ9","v":0},{"$f":"'OB1 - stage K80 - timetable'!BA9","v":0},{"$f":"'OB1 - stage K80 - timetable'!BB9","v":0},{"$f":"'OB1 - stage K80 - timetable'!BC9","v":0},{"$f":"'OB1 - stage K80 - timetable'!BD9","v":0},{"$f":"'OB1 - stage K80 - timetable'!BE9","v":0},{"$f":"'OB1 - stage K80 - timetable'!BF9","v":0},{"$f":"'OB1 - stage K80 - timetable'!BG9","v":0},{"$f":"'OB1 - stage K80 - timetable'!BH9","v":0},{"$f":"'OB1 - stage K80 - timetable'!BI9","v":0},{"$f":"'OB1 - stage K80 - timetable'!BJ9","v":0},{"$f":"'OB1 - stage K80 - timetable'!BK9","v":0},{"$f":"'OB1 - stage K80 - timetable'!BL9","v":0}]
[null,"stage K80 - construction part (A4.4)","K80","EUR",{"$f":"'OB1 - stage K80 - timetable'!J11","v":0},{"$f":"'OB1 - stage K80 - timetable'!K11","v":0},{"$f":"'OB1 - stage K80 - timetable'!L11","v":0},{"$f":"'OB1 - stage K80 - timetable'!M11","v":0},{"$f":"'OB1 - stage K80 - timetable'!N11","v":0},{"$f":"'OB1 - stage K80 - timetable'!O11","v":0},{"$f":"'OB1 - stage K80 - timetable'!P11","v":0},{"$f":"'OB1 - stage K80 - timetable'!Q11","v":0},{"$f":"'OB1 - stage K80 - timetable'!R11","v":0},{"$f":"'OB1 - stage K80 - timetable'!S11","v":0},{"$f":"'OB1 - stage K80 - timetable'!T11","v":0},{"$f":"'OB1 - stage K80 - timetable'!U11","v":0},{"$f":"'OB1 - stage K80 - timetable'!V11","v":0},{"$f":"'OB1 - stage K80 - timetable'!W11","v":0},{"$f":"'OB1 - stage K80 - timetable'!X11","v":0},{"$f":"'OB1 - stage K80 - timetable'!Y11","v":0},{"$f":"'OB1 - stage K80 - timetable'!Z11","v":0},{"$f":"'OB1 - stage K80 - timetable'!AA11","v":0},{"$f":"'OB1 - stage K80 - timetable'!AB11","v":0},{"$f":"'OB1 - stage K80 - timetable'!AC11","v":0},{"$f":"'OB1 - stage K80 - timetable'!AD11","v":0},{"$f":"'OB1 - stage K80 - timetable'!AE11","v":0},{"$f":"'OB1 - stage K80 - timetable'!AF11","v":0},{"$f":"'OB1 - stage K80 - timetable'!AG11","v":0},{"$f":"'OB1 - stage K80 - timetable'!AH11","v":0},{"$f":"'OB1 - stage K80 - timetable'!AI11","v":0},{"$f":"'OB1 - stage K80 - timetable'!AJ11","v":0},{"$f":"'OB1 - stage K80 - timetable'!AK11","v":0},{"$f":"'OB1 - stage K80 - timetable'!AL11","v":0},{"$f":"'OB1 - stage K80 - timetable'!AM11","v":0},{"$f":"'OB1 - stage K80 - timetable'!AN11","v":0},{"$f":"'OB1 - stage K80 - timetable'!AO11","v":0},{"$f":"'OB1 - stage K80 - timetable'!AP11","v":0},{"$f":"'OB1 - stage K80 - timetable'!AQ11","v":0},{"$f":"'OB1 - stage K80 - timetable'!AR11","v":0},{"$f":"'OB1 - stage K80 - timetable'!AS11","v":0},{"$f":"'OB1 - stage K80 - timetable'!AT11","v":0},{"$f":"'OB1 - stage K80 - timetable'!AU11","v":0},{"$f":"'OB1 - stage K80 - timetable'!AV11","v":0},{"$f":"'OB1 - stage K80 - timetable'!AW11","v":0},{"$f":"'OB1 - stage K80 - timetable'!AX11","v":0},{"$f":"'OB1 - stage K80 - timetable'!AY11","v":0},{"$f":"'OB1 - stage K80 - timetable'!AZ11","v":0},{"$f":"'OB1 - stage K80 - timetable'!BA11","v":0},{"$f":"'OB1 - stage K80 - timetable'!BB11","v":0},{"$f":"'OB1 - stage K80 - timetable'!BC11","v":0},{"$f":"'OB1 - stage K80 - timetable'!BD11","v":0},{"$f":"'OB1 - stage K80 - timetable'!BE11","v":0},{"$f":"'OB1 - stage K80 - timetable'!BF11","v":0},{"$f":"'OB1 - stage K80 - timetable'!BG11","v":0},{"$f":"'OB1 - stage K80 - timetable'!BH11","v":0},{"$f":"'OB1 - stage K80 - timetable'!BI11","v":0},{"$f":"'OB1 - stage K80 - timetable'!BJ11","v":0},{"$f":"'OB1 - stage K80 - timetable'!BK11","v":0},{"$f":"'OB1 - stage K80 - timetable'!BL11","v":0}]
[null,"stage K80 - comprehensive testing","K80","EUR",{"$f":"'OB1 - stage K80 - timetable'!J13","v":0},{"$f":"'OB1 - stage K80 - timetable'!K13","v":0},{"$f":"'OB1 - stage K80 - timetable'!L13","v":0},{"$f":"'OB1 - stage K80 - timetable'!M13","v":0},{"$f":"'OB1 - stage K80 - timetable'!N13","v":0},{"$f":"'OB1 - stage K80 - timetable'!O13","v":0},{"$f":"'OB1 - stage K80 - timetable'!P13","v":0},{"$f":"'OB1 - stage K80 - timetable'!Q13","v":0},{"$f":"'OB1 - stage K80 - timetable'!R13","v":0},{"$f":"'OB1 - stage K80 - timetable'!S13","v":0},{"$f":"'OB1 - stage K80 - timetable'!T13","v":0},{"$f":"'OB1 - stage K80 - timetable'!U13","v":0},{"$f":"'OB1 - stage K80 - timetable'!V13","v":0},{"$f":"'OB1 - stage K80 - timetable'!W13","v":0},{"$f":"'OB1 - stage K80 - timetable'!X13","v":0},{"$f":"'OB1 - stage K80 - timetable'!Y13","v":0},{"$f":"'OB1 - stage K80 - timetable'!Z13","v":0},{"$f":"'OB1 - stage K80 - timetable'!AA13","v":0},{"$f":"'OB1 - stage K80 - timetable'!AB13","v":0},{"$f":"'OB1 - stage K80 - timetable'!AC13","v":0},{"$f":"'OB1 - stage K80 - timetable'!AD13","v":0},{"$f":"'OB1 - stage K80 - timetable'!AE13","v":0},{"$f":"'OB1 - stage K80 - timetable'!AF13","v":0},{"$f":"'OB1 - stage K80 - timetable'!AG13","v":0},{"$f":"'OB1 - stage K80 - timetable'!AH13","v":0},{"$f":"'OB1 - stage K80 - timetable'!AI13","v":0},{"$f":"'OB1 - stage K80 - timetable'!AJ13","v":0},{"$f":"'OB1 - stage K80 - timetable'!AK13","v":0},{"$f":"'OB1 - stage K80 - timetable'!AL13","v":0},{"$f":"'OB1 - stage K80 - timetable'!AM13","v":0},{"$f":"'OB1 - stage K80 - timetable'!AN13","v":0},{"$f":"'OB1 - stage K80 - timetable'!AO13","v":0},{"$f":"'OB1 - stage K80 - timetable'!AP13","v":0},{"$f":"'OB1 - stage K80 - timetable'!AQ13","v":0},{"$f":"'OB1 - stage K80 - timetable'!AR13","v":0},{"$f":"'OB1 - stage K80 - timetable'!AS13","v":0},{"$f":"'OB1 - stage K80 - timetable'!AT13","v":0},{"$f":"'OB1 - stage K80 - timetable'!AU13","v":0},{"$f":"'OB1 - stage K80 - timetable'!AV13","v":0},{"$f":"'OB1 - stage K80 - timetable'!AW13","v":0},{"$f":"'OB1 - stage K80 - timetable'!AX13","v":0},{"$f":"'OB1 - stage K80 - timetable'!AY13","v":0},{"$f":"'OB1 - stage K80 - timetable'!AZ13","v":0},{"$f":"'OB1 - stage K80 - timetable'!BA13","v":0},{"$f":"'OB1 - stage K80 - timetable'!BB13","v":0},{"$f":"'OB1 - stage K80 - timetable'!BC13","v":0},{"$f":"'OB1 - stage K80 - timetable'!BD13","v":0},{"$f":"'OB1 - stage K80 - timetable'!BE13","v":0},{"$f":"'OB1 - stage K80 - timetable'!BF13","v":0},{"$f":"'OB1 - stage K80 - timetable'!BG13","v":0},{"$f":"'OB1 - stage K80 - timetable'!BH13","v":0},{"$f":"'OB1 - stage K80 - timetable'!BI13","v":0},{"$f":"'OB1 - stage K80 - timetable'!BJ13","v":0},{"$f":"'OB1 - stage K80 - timetable'!BK13","v":0},{"$f":"'OB1 - stage K80 - timetable'!BL13","v":0}]
[null,"stage K80 - test operation","K80","EUR",{"$f":"'OB1 - stage K80 - timetable'!J15","v":0},{"$f":"'OB1 - stage K80 - timetable'!K15","v":0},{"$f":"'OB1 - stage K80 - timetable'!L15","v":0},{"$f":"'OB1 - stage K80 - timetable'!M15","v":0},{"$f":"'OB1 - stage K80 - timetable'!N15","v":0},{"$f":"'OB1 - stage K80 - timetable'!O15","v":0},{"$f":"'OB1 - stage K80 - timetable'!P15","v":0},{"$f":"'OB1 - stage K80 - timetable'!Q15","v":0},{"$f":"'OB1 - stage K80 - timetable'!R15","v":0},{"$f":"'OB1 - stage K80 - timetable'!S15","v":0},{"$f":"'OB1 - stage K80 - timetable'!T15","v":0},{"$f":"'OB1 - stage K80 - timetable'!U15","v":0},{"$f":"'OB1 - stage K80 - timetable'!V15","v":0},{"$f":"'OB1 - stage K80 - timetable'!W15","v":0},{"$f":"'OB1 - stage K80 - timetable'!X15","v":0},{"$f":"'OB1 - stage K80 - timetable'!Y15","v":0},{"$f":"'OB1 - stage K80 - timetable'!Z15","v":0},{"$f":"'OB1 - stage K80 - timetable'!AA15","v":0},{"$f":"'OB1 - stage K80 - timetable'!AB15","v":0},{"$f":"'OB1 - stage K80 - timetable'!AC15","v":0},{"$f":"'OB1 - stage K80 - timetable'!AD15","v":0},{"$f":"'OB1 - stage K80 - timetable'!AE15","v":0},{"$f":"'OB1 - stage K80 - timetable'!AF15","v":0},{"$f":"'OB1 - stage K80 - timetable'!AG15","v":0},{"$f":"'OB1 - stage K80 - timetable'!AH15","v":0},{"$f":"'OB1 - stage K80 - timetable'!AI15","v":0},{"$f":"'OB1 - stage K80 - timetable'!AJ15","v":0},{"$f":"'OB1 - stage K80 - timetable'!AK15","v":0},{"$f":"'OB1 - stage K80 - timetable'!AL15","v":0},{"$f":"'OB1 - stage K80 - timetable'!AM15","v":0},{"$f":"'OB1 - stage K80 - timetable'!AN15","v":0},{"$f":"'OB1 - stage K80 - timetable'!AO15","v":0},{"$f":"'OB1 - stage K80 - timetable'!AP15","v":0},{"$f":"'OB1 - stage K80 - timetable'!AQ15","v":0},{"$f":"'OB1 - stage K80 - timetable'!AR15","v":0},{"$f":"'OB1 - stage K80 - timetable'!AS15","v":0},{"$f":"'OB1 - stage K80 - timetable'!AT15","v":0},{"$f":"'OB1 - stage K80 - timetable'!AU15","v":0},{"$f":"'OB1 - stage K80 - timetable'!AV15","v":0},{"$f":"'OB1 - stage K80 - timetable'!AW15","v":0},{"$f":"'OB1 - stage K80 - timetable'!AX15","v":0},{"$f":"'OB1 - stage K80 - timetable'!AY15","v":0},{"$f":"'OB1 - stage K80 - timetable'!AZ15","v":0},{"$f":"'OB1 - stage K80 - timetable'!BA15","v":0},{"$f":"'OB1 - stage K80 - timetable'!BB15","v":0},{"$f":"'OB1 - stage K80 - timetable'!BC15","v":0},{"$f":"'OB1 - stage K80 - timetable'!BD15","v":0},{"$f":"'OB1 - stage K80 - timetable'!BE15","v":0},{"$f":"'OB1 - stage K80 - timetable'!BF15","v":0},{"$f":"'OB1 - stage K80 - timetable'!BG15","v":0},{"$f":"'OB1 - stage K80 - timetable'!BH15","v":0},{"$f":"'OB1 - stage K80 - timetable'!BI15","v":0},{"$f":"'OB1 - stage K80 - timetable'!BJ15","v":0},{"$f":"'OB1 - stage K80 - timetable'!BK15","v":0},{"$f":"'OB1 - stage K80 - timetable'!BL15","v":0}]
[null,"stage K80 - warranty test A","K80","EUR",{"$f":"'OB1 - stage K80 - timetable'!J17","v":0},{"$f":"'OB1 - stage K80 - timetable'!K17","v":0},{"$f":"'OB1 - stage K80 - timetable'!L17","v":0},{"$f":"'OB1 - stage K80 - timetable'!M17","v":0},{"$f":"'OB1 - stage K80 - timetable'!N17","v":0},{"$f":"'OB1 - stage K80 - timetable'!O17","v":0},{"$f":"'OB1 - stage K80 - timetable'!P17","v":0},{"$f":"'OB1 - stage K80 - timetable'!Q17","v":0},{"$f":"'OB1 - stage K80 - timetable'!R17","v":0},{"$f":"'OB1 - stage K80 - timetable'!S17","v":0},{"$f":"'OB1 - stage K80 - timetable'!T17","v":0},{"$f":"'OB1 - stage K80 - timetable'!U17","v":0},{"$f":"'OB1 - stage K80 - timetable'!V17","v":0},{"$f":"'OB1 - stage K80 - timetable'!W17","v":0},{"$f":"'OB1 - stage K80 - timetable'!X17","v":0},{"$f":"'OB1 - stage K80 - timetable'!Y17","v":0},{"$f":"'OB1 - stage K80 - timetable'!Z17","v":0},{"$f":"'OB1 - stage K80 - timetable'!AA17","v":0},{"$f":"'OB1 - stage K80 - timetable'!AB17","v":0},{"$f":"'OB1 - stage K80 - timetable'!AC17","v":0},{"$f":"'OB1 - stage K80 - timetable'!AD17","v":0},{"$f":"'OB1 - stage K80 - timetable'!AE17","v":0},{"$f":"'OB1 - stage K80 - timetable'!AF17","v":0},{"$f":"'OB1 - stage K80 - timetable'!AG17","v":0},{"$f":"'OB1 - stage K80 - timetable'!AH17","v":0},{"$f":"'OB1 - stage K80 - timetable'!AI17","v":0},{"$f":"'OB1 - stage K80 - timetable'!AJ17","v":0},{"$f":"'OB1 - stage K80 - timetable'!AK17","v":0},{"$f":"'OB1 - stage K80 - timetable'!AL17","v":0},{"$f":"'OB1 - stage K80 - timetable'!AM17","v":0},{"$f":"'OB1 - stage K80 - timetable'!AN17","v":0},{"$f":"'OB1 - stage K80 - timetable'!AO17","v":0},{"$f":"'OB1 - stage K80 - timetable'!AP17","v":0},{"$f":"'OB1 - stage K80 - timetable'!AQ17","v":0},{"$f":"'OB1 - stage K80 - timetable'!AR17","v":0},{"$f":"'OB1 - stage K80 - timetable'!AS17","v":0},{"$f":"'OB1 - stage K80 - timetable'!AT17","v":0},{"$f":"'OB1 - stage K80 - timetable'!AU17","v":0},{"$f":"'OB1 - stage K80 - timetable'!AV17","v":0},{"$f":"'OB1 - stage K80 - timetable'!AW17","v":0},{"$f":"'OB1 - stage K80 - timetable'!AX17","v":0},{"$f":"'OB1 - stage K80 - timetable'!AY17","v":0},{"$f":"'OB1 - stage K80 - timetable'!AZ17","v":0},{"$f":"'OB1 - stage K80 - timetable'!BA17","v":0},{"$f":"'OB1 - stage K80 - timetable'!BB17","v":0},{"$f":"'OB1 - stage K80 - timetable'!BC17","v":0},{"$f":"'OB1 - stage K80 - timetable'!BD17","v":0},{"$f":"'OB1 - stage K80 - timetable'!BE17","v":0},{"$f":"'OB1 - stage K80 - timetable'!BF17","v":0},{"$f":"'OB1 - stage K80 - timetable'!BG17","v":0},{"$f":"'OB1 - stage K80 - timetable'!BH17","v":0},{"$f":"'OB1 - stage K80 - timetable'!BI17","v":0},{"$f":"'OB1 - stage K80 - timetable'!BJ17","v":0},{"$f":"'OB1 - stage K80 - timetable'!BK17","v":0},{"$f":"'OB1 - stage K80 - timetable'!BL17","v":0}]
[null,"stage K80 - preliminary acceptance of the PAC work","K80","EUR",{"$f":"'OB1 - stage K80 - timetable'!J19","v":0},{"$f":"'OB1 - stage K80 - timetable'!K19","v":0},{"$f":"'OB1 - stage K80 - timetable'!L19","v":0},{"$f":"'OB1 - stage K80 - timetable'!M19","v":0},{"$f":"'OB1 - stage K80 - timetable'!N19","v":0},{"$f":"'OB1 - stage K80 - timetable'!O19","v":0},{"$f":"'OB1 - stage K80 - timetable'!P19","v":0},{"$f":"'OB1 - stage K80 - timetable'!Q19","v":0},{"$f":"'OB1 - stage K80 - timetable'!R19","v":0},{"$f":"'OB1 - stage K80 - timetable'!S19","v":0},{"$f":"'OB1 - stage K80 - timetable'!T19","v":0},{"$f":"'OB1 - stage K80 - timetable'!U19","v":0},{"$f":"'OB1 - stage K80 - timetable'!V19","v":0},{"$f":"'OB1 - stage K80 - timetable'!W19","v":0},{"$f":"'OB1 - stage K80 - timetable'!X19","v":0},{"$f":"'OB1 - stage K80 - timetable'!Y19","v":0},{"$f":"'OB1 - stage K80 - timetable'!Z19","v":0},{"$f":"'OB1 - stage K80 - timetable'!AA19","v":0},{"$f":"'OB1 - stage K80 - timetable'!AB19","v":0},{"$f":"'OB1 - stage K80 - timetable'!AC19","v":0},{"$f":"'OB1 - stage K80 - timetable'!AD19","v":0},{"$f":"'OB1 - stage K80 - timetable'!AE19","v":0},{"$f":"'OB1 - stage K80 - timetable'!AF19","v":0},{"$f":"'OB1 - stage K80 - timetable'!AG19","v":0},{"$f":"'OB1 - stage K80 - timetable'!AH19","v":0},{"$f":"'OB1 - stage K80 - timetable'!AI19","v":0},{"$f":"'OB1 - stage K80 - timetable'!AJ19","v":0},{"$f":"'OB1 - stage K80 - timetable'!AK19","v":0},{"$f":"'OB1 - stage K80 - timetable'!AL19","v":0},{"$f":"'OB1 - stage K80 - timetable'!AM19","v":0},{"$f":"'OB1 - stage K80 - timetable'!AN19","v":0},{"$f":"'OB1 - stage K80 - timetable'!AO19","v":0},{"$f":"'OB1 - stage K80 - timetable'!AP19","v":0},{"$f":"'OB1 - stage K80 - timetable'!AQ19","v":0},{"$f":"'OB1 - stage K80 - timetable'!AR19","v":0},{"$f":"'OB1 - stage K80 - timetable'!AS19","v":0},{"$f":"'OB1 - stage K80 - timetable'!AT19","v":0},{"$f":"'OB1 - stage K80 - timetable'!AU19","v":0},{"$f":"'OB1 - stage K80 - timetable'!AV19","v":0},{"$f":"'OB1 - stage K80 - timetable'!AW19","v":0},{"$f":"'OB1 - stage K80 - timetable'!AX19","v":0},{"$f":"'OB1 - stage K80 - timetable'!AY19","v":0},{"$f":"'OB1 - stage K80 - timetable'!AZ19","v":0},{"$f":"'OB1 - stage K80 - timetable'!BA19","v":0},{"$f":"'OB1 - stage K80 - timetable'!BB19","v":0},{"$f":"'OB1 - stage K80 - timetable'!BC19","v":0},{"$f":"'OB1 - stage K80 - timetable'!BD19","v":0},{"$f":"'OB1 - stage K80 - timetable'!BE19","v":0},{"$f":"'OB1 - stage K80 - timetable'!BF19","v":0},{"$f":"'OB1 - stage K80 - timetable'!BG19","v":0},{"$f":"'OB1 - stage K80 - timetable'!BH19","v":0},{"$f":"'OB1 - stage K80 - timetable'!BI19","v":0},{"$f":"'OB1 - stage K80 - timetable'!BJ19","v":0},{"$f":"'OB1 - stage K80 - timetable'!BK19","v":0},{"$f":"'OB1 - stage K80 - timetable'!BL19","v":0}]
[null,"stage K80 - final acceptance of the work FAC","K80","EUR",{"$f":"'OB1 - stage K80 - timetable'!J21","v":0},{"$f":"'OB1 - stage K80 - timetable'!K21","v":0},{"$f":"'OB1 - stage K80 - timetable'!L21","v":0},{"$f":"'OB1 - stage K80 - timetable'!M21","v":0},{"$f":"'OB1 - stage K80 - timetable'!N21","v":0},{"$f":"'OB1 - stage K80 - timetable'!O21","v":0},{"$f":"'OB1 - stage K80 - timetable'!P21","v":0},{"$f":"'OB1 - stage K80 - timetable'!Q21","v":0},{"$f":"'OB1 - stage K80 - timetable'!R21","v":0},{"$f":"'OB1 - stage K80 - timetable'!S21","v":0},{"$f":"'OB1 - stage K80 - timetable'!T21","v":0},{"$f":"'OB1 - stage K80 - timetable'!U21","v":0},{"$f":"'OB1 - stage K80 - timetable'!V21","v":0},{"$f":"'OB1 - stage K80 - timetable'!W21","v":0},{"$f":"'OB1 - stage K80 - timetable'!X21","v":0},{"$f":"'OB1 - stage K80 - timetable'!Y21","v":0},{"$f":"'OB1 - stage K80 - timetable'!Z21","v":0},{"$f":"'OB1 - stage K80 - timetable'!AA21","v":0},{"$f":"'OB1 - stage K80 - timetable'!AB21","v":0},{"$f":"'OB1 - stage K80 - timetable'!AC21","v":0},{"$f":"'OB1 - stage K80 - timetable'!AD21","v":0},{"$f":"'OB1 - stage K80 - timetable'!AE21","v":0},{"$f":"'OB1 - stage K80 - timetable'!AF21","v":0},{"$f":"'OB1 - stage K80 - timetable'!AG21","v":0},{"$f":"'OB1 - stage K80 - timetable'!AH21","v":0},{"$f":"'OB1 - stage K80 - timetable'!AI21","v":0},{"$f":"'OB1 - stage K80 - timetable'!AJ21","v":0},{"$f":"'OB1 - stage K80 - timetable'!AK21","v":0},{"$f":"'OB1 - stage K80 - timetable'!AL21","v":0},{"$f":"'OB1 - stage K80 - timetable'!AM21","v":0},{"$f":"'OB1 - stage K80 - timetable'!AN21","v":0},{"$f":"'OB1 - stage K80 - timetable'!AO21","v":0},{"$f":"'OB1 - stage K80 - timetable'!AP21","v":0},{"$f":"'OB1 - stage K80 - timetable'!AQ21","v":0},{"$f":"'OB1 - stage K80 - timetable'!AR21","v":0},{"$f":"'OB1 - stage K80 - timetable'!AS21","v":0},{"$f":"'OB1 - stage K80 - timetable'!AT21","v":0},{"$f":"'OB1 - stage K80 - timetable'!AU21","v":0},{"$f":"'OB1 - stage K80 - timetable'!AV21","v":0},{"$f":"'OB1 - stage K80 - timetable'!AW21","v":0},{"$f":"'OB1 - stage K80 - timetable'!AX21","v":0},{"$f":"'OB1 - stage K80 - timetable'!AY21","v":0},{"$f":"'OB1 - stage K80 - timetable'!AZ21","v":0},{"$f":"'OB1 - stage K80 - timetable'!BA21","v":0},{"$f":"'OB1 - stage K80 - timetable'!BB21","v":0},{"$f":"'OB1 - stage K80 - timetable'!BC21","v":0},{"$f":"'OB1 - stage K80 - timetable'!BD21","v":0},{"$f":"'OB1 - stage K80 - timetable'!BE21","v":0},{"$f":"'OB1 - stage K80 - timetable'!BF21","v":0},{"$f":"'OB1 - stage K80 - timetable'!BG21","v":0},{"$f":"'OB1 - stage K80 - timetable'!BH21","v":0},{"$f":"'OB1 - stage K80 - timetable'!BI21","v":0},{"$f":"'OB1 - stage K80 - timetable'!BJ21","v":0},{"$f":"'OB1 - stage K80 - timetable'!BK21","v":0},{"$f":"'OB1 - stage K80 - timetable'!BL21","v":0}]
["SO 104 - Transport of wood chips to boiler room K90","stage K90 - technological part  (PS 104, PS 106, PS 107, PS 108)","K90","EUR",{"$f":"'OB1 - stage K90 - timetable'!J10","v":0},{"$f":"'OB1 - stage K90 - timetable'!K10","v":0},{"$f":"'OB1 - stage K90 - timetable'!L10","v":0},{"$f":"'OB1 - stage K90 - timetable'!M10","v":0},{"$f":"'OB1 - stage K90 - timetable'!N10","v":0},{"$f":"'OB1 - stage K90 - timetable'!O10","v":0},{"$f":"'OB1 - stage K90 - timetable'!P10","v":0},{"$f":"'OB1 - stage K90 - timetable'!Q10","v":0},{"$f":"'OB1 - stage K90 - timetable'!R10","v":0},{"$f":"'OB1 - stage K90 - timetable'!S10","v":0},{"$f":"'OB1 - stage K90 - timetable'!T10","v":0},{"$f":"'OB1 - stage K90 - timetable'!U10","v":0},{"$f":"'OB1 - stage K90 - timetable'!V10","v":0},{"$f":"'OB1 - stage K90 - timetable'!W10","v":0},{"$f":"'OB1 - stage K90 - timetable'!X10","v":0},{"$f":"'OB1 - stage K90 - timetable'!Y10","v":0},{"$f":"'OB1 - stage K90 - timetable'!Z10","v":0},{"$f":"'OB1 - stage K90 - timetable'!AA10","v":0},{"$f":"'OB1 - stage K90 - timetable'!AB10","v":0},{"$f":"'OB1 - stage K90 - timetable'!AC10","v":0},{"$f":"'OB1 - stage K90 - timetable'!AD10","v":0},{"$f":"'OB1 - stage K90 - timetable'!AE10","v":0},{"$f":"'OB1 - stage K90 - timetable'!AF10","v":0},{"$f":"'OB1 - stage K90 - timetable'!AG10","v":0},{"$f":"'OB1 - stage K90 - timetable'!AH10","v":0},{"$f":"'OB1 - stage K90 - timetable'!AI10","v":0},{"$f":"'OB1 - stage K90 - timetable'!AJ10","v":0},{"$f":"'OB1 - stage K90 - timetable'!AK10","v":0},{"$f":"'OB1 - stage K90 - timetable'!AL10","v":0},{"$f":"'OB1 - stage K90 - timetable'!AM10","v":0},{"$f":"'OB1 - stage K90 - timetable'!AN10","v":0},{"$f":"'OB1 - stage K90 - timetable'!AO10","v":0},{"$f":"'OB1 - stage K90 - timetable'!AP10","v":0},{"$f":"'OB1 - stage K90 - timetable'!AQ10","v":0},{"$f":"'OB1 - stage K90 - timetable'!AR10","v":0},{"$f":"'OB1 - stage K90 - timetable'!AS10","v":0},{"$f":"'OB1 - stage K90 - timetable'!AT10","v":0},{"$f":"'OB1 - stage K90 - timetable'!AU10","v":0},{"$f":"'OB1 - stage K90 - timetable'!AV10","v":0},{"$f":"'OB1 - stage K90 - timetable'!AW10","v":0},{"$f":"'OB1 - stage K90 - timetable'!AX10","v":0},{"$f":"'OB1 - stage K90 - timetable'!AY10","v":0},{"$f":"'OB1 - stage K90 - timetable'!AZ10","v":0},{"$f":"'OB1 - stage K90 - timetable'!BA10","v":0},{"$f":"'OB1 - stage K90 - timetable'!BB10","v":0},{"$f":"'OB1 - stage K90 - timetable'!BC10","v":0},{"$f":"'OB1 - stage K90 - timetable'!BD10","v":0},{"$f":"'OB1 - stage K90 - timetable'!BE10","v":0},{"$f":"'OB1 - stage K90 - timetable'!BF10","v":0},{"$f":"'OB1 - stage K90 - timetable'!BG10","v":0},{"$f":"'OB1 - stage K90 - timetable'!BH10","v":0},{"$f":"'OB1 - stage K90 - timetable'!BI10","v":0},{"$f":"'OB1 - stage K90 - timetable'!BJ10","v":0},{"$f":"'OB1 - stage K90 - timetable'!BK10","v":0},{"$f":"'OB1 - stage K90 - timetable'!BL10","v":0}]
[null,"stage K90 - construction part (A4.4)","K90","EUR",{"$f":"'OB1 - stage K90 - timetable'!J12","v":0},{"$f":"'OB1 - stage K90 - timetable'!K12","v":0},{"$f":"'OB1 - stage K90 - timetable'!L12","v":0},{"$f":"'OB1 - stage K90 - timetable'!M12","v":0},{"$f":"'OB1 - stage K90 - timetable'!N12","v":0},{"$f":"'OB1 - stage K90 - timetable'!O12","v":0},{"$f":"'OB1 - stage K90 - timetable'!P12","v":0},{"$f":"'OB1 - stage K90 - timetable'!Q12","v":0},{"$f":"'OB1 - stage K90 - timetable'!R12","v":0},{"$f":"'OB1 - stage K90 - timetable'!S12","v":0},{"$f":"'OB1 - stage K90 - timetable'!T12","v":0},{"$f":"'OB1 - stage K90 - timetable'!U12","v":0},{"$f":"'OB1 - stage K90 - timetable'!V12","v":0},{"$f":"'OB1 - stage K90 - timetable'!W12","v":0},{"$f":"'OB1 - stage K90 - timetable'!X12","v":0},{"$f":"'OB1 - stage K90 - timetable'!Y12","v":0},{"$f":"'OB1 - stage K90 - timetable'!Z12","v":0},{"$f":"'OB1 - stage K90 - timetable'!AA12","v":0},{"$f":"'OB1 - stage K90 - timetable'!AB12","v":0},{"$f":"'OB1 - stage K90 - timetable'!AC12","v":0},{"$f":"'OB1 - stage K90 - timetable'!AD12","v":0},{"$f":"'OB1 - stage K90 - timetable'!AE12","v":0},{"$f":"'OB1 - stage K90 - timetable'!AF12","v":0},{"$f":"'OB1 - stage K90 - timetable'!AG12","v":0},{"$f":"'OB1 - stage K90 - timetable'!AH12","v":0},{"$f":"'OB1 - stage K90 - timetable'!AI12","v":0},{"$f":"'OB1 - stage K90 - timetable'!AJ12","v":0},{"$f":"'OB1 - stage K90 - timetable'!AK12","v":0},{"$f":"'OB1 - stage K90 - timetable'!AL12","v":0},{"$f":"'OB1 - stage K90 - timetable'!AM12","v":0},{"$f":"'OB1 - stage K90 - timetable'!AN12","v":0},{"$f":"'OB1 - stage K90 - timetable'!AO12","v":0},{"$f":"'OB1 - stage K90 - timetable'!AP12","v":0},{"$f":"'OB1 - stage K90 - timetable'!AQ12","v":0},{"$f":"'OB1 - stage K90 - timetable'!AR12","v":0},{"$f":"'OB1 - stage K90 - timetable'!AS12","v":0},{"$f":"'OB1 - stage K90 - timetable'!AT12","v":0},{"$f":"'OB1 - stage K90 - timetable'!AU12","v":0},{"$f":"'OB1 - stage K90 - timetable'!AV12","v":0},{"$f":"'OB1 - stage K90 - timetable'!AW12","v":0},{"$f":"'OB1 - stage K90 - timetable'!AX12","v":0},{"$f":"'OB1 - stage K90 - timetable'!AY12","v":0},{"$f":"'OB1 - stage K90 - timetable'!AZ12","v":0},{"$f":"'OB1 - stage K90 - timetable'!BA12","v":0},{"$f":"'OB1 - stage K90 - timetable'!BB12","v":0},{"$f":"'OB1 - stage K90 - timetable'!BC12","v":0},{"$f":"'OB1 - stage K90 - timetable'!BD12","v":0},{"$f":"'OB1 - stage K90 - timetable'!BE12","v":0},{"$f":"'OB1 - stage K90 - timetable'!BF12","v":0},{"$f":"'OB1 - stage K90 - timetable'!BG12","v":0},{"$f":"'OB1 - stage K90 - timetable'!BH12","v":0},{"$f":"'OB1 - stage K90 - timetable'!BI12","v":0},{"$f":"'OB1 - stage K90 - timetable'!BJ12","v":0},{"$f":"'OB1 - stage K90 - timetable'!BK12","v":0},{"$f":"'OB1 - stage K90 - timetable'!BL12","v":0}]
[null,"stage K90 - comprehensive testing","K90","EUR",{"$f":"'OB1 - stage K90 - timetable'!J14","v":0},{"$f":"'OB1 - stage K90 - timetable'!K15","v":0},{"$f":"'OB1 - stage K90 - timetable'!L15","v":0},{"$f":"'OB1 - stage K90 - timetable'!M15","v":0},{"$f":"'OB1 - stage K90 - timetable'!N15","v":0},{"$f":"'OB1 - stage K90 - timetable'!O15","v":0},{"$f":"'OB1 - stage K90 - timetable'!P15","v":0},{"$f":"'OB1 - stage K90 - timetable'!Q15","v":0},{"$f":"'OB1 - stage K90 - timetable'!R15","v":0},{"$f":"'OB1 - stage K90 - timetable'!S15","v":0},{"$f":"'OB1 - stage K90 - timetable'!T15","v":0},{"$f":"'OB1 - stage K90 - timetable'!U15","v":0},{"$f":"'OB1 - stage K90 - timetable'!V15","v":0},{"$f":"'OB1 - stage K90 - timetable'!W15","v":0},{"$f":"'OB1 - stage K90 - timetable'!X15","v":0},{"$f":"'OB1 - stage K90 - timetable'!Y15","v":0},{"$f":"'OB1 - stage K90 - timetable'!Z15","v":0},{"$f":"'OB1 - stage K90 - timetable'!AA15","v":0},{"$f":"'OB1 - stage K90 - timetable'!AB15","v":0},{"$f":"'OB1 - stage K90 - timetable'!AC15","v":0},{"$f":"'OB1 - stage K90 - timetable'!AD15","v":0},{"$f":"'OB1 - stage K90 - timetable'!AE15","v":0},{"$f":"'OB1 - stage K90 - timetable'!AF15","v":0},{"$f":"'OB1 - stage K90 - timetable'!AG15","v":0},{"$f":"'OB1 - stage K90 - timetable'!AH15","v":0},{"$f":"'OB1 - stage K90 - timetable'!AI15","v":0},{"$f":"'OB1 - stage K90 - timetable'!AJ15","v":0},{"$f":"'OB1 - stage K90 - timetable'!AK15","v":0},{"$f":"'OB1 - stage K90 - timetable'!AL15","v":0},{"$f":"'OB1 - stage K90 - timetable'!AM15","v":0},{"$f":"'OB1 - stage K90 - timetable'!AN15","v":0},{"$f":"'OB1 - stage K90 - timetable'!AO15","v":0},{"$f":"'OB1 - stage K90 - timetable'!AP15","v":0},{"$f":"'OB1 - stage K90 - timetable'!AQ15","v":0},{"$f":"'OB1 - stage K90 - timetable'!AR15","v":0},{"$f":"'OB1 - stage K90 - timetable'!AS15","v":0},{"$f":"'OB1 - stage K90 - timetable'!AT15","v":0},{"$f":"'OB1 - stage K90 - timetable'!AU15","v":0},{"$f":"'OB1 - stage K90 - timetable'!AV15","v":0},{"$f":"'OB1 - stage K90 - timetable'!AW15","v":0},{"$f":"'OB1 - stage K90 - timetable'!AX15","v":0},{"$f":"'OB1 - stage K90 - timetable'!AY15","v":0},{"$f":"'OB1 - stage K90 - timetable'!AZ15","v":0},{"$f":"'OB1 - stage K90 - timetable'!BA15","v":0},{"$f":"'OB1 - stage K90 - timetable'!BB15","v":0},{"$f":"'OB1 - stage K90 - timetable'!BC15","v":0},{"$f":"'OB1 - stage K90 - timetable'!BD15","v":0},{"$f":"'OB1 - stage K90 - timetable'!BE15","v":0},{"$f":"'OB1 - stage K90 - timetable'!BF15","v":0},{"$f":"'OB1 - stage K90 - timetable'!BG15","v":0},{"$f":"'OB1 - stage K90 - timetable'!BH15","v":0},{"$f":"'OB1 - stage K90 - timetable'!BI15","v":0},{"$f":"'OB1 - stage K90 - timetable'!BJ15","v":0},{"$f":"'OB1 - stage K90 - timetable'!BK15","v":0},{"$f":"'OB1 - stage K90 - timetable'!BL15","v":0}]
[null,"stage K90 - test operation","K90","EUR",{"$f":"'OB1 - stage K90 - timetable'!J16","v":0},{"$f":"'OB1 - stage K90 - timetable'!K16","v":0},{"$f":"'OB1 - stage K90 - timetable'!L16","v":0},{"$f":"'OB1 - stage K90 - timetable'!M16","v":0},{"$f":"'OB1 - stage K90 - timetable'!N16","v":0},{"$f":"'OB1 - stage K90 - timetable'!O16","v":0},{"$f":"'OB1 - stage K90 - timetable'!P16","v":0},{"$f":"'OB1 - stage K90 - timetable'!Q16","v":0},{"$f":"'OB1 - stage K90 - timetable'!R16","v":0},{"$f":"'OB1 - stage K90 - timetable'!S16","v":0},{"$f":"'OB1 - stage K90 - timetable'!T16","v":0},{"$f":"'OB1 - stage K90 - timetable'!U16","v":0},{"$f":"'OB1 - stage K90 - timetable'!V16","v":0},{"$f":"'OB1 - stage K90 - timetable'!W16","v":0},{"$f":"'OB1 - stage K90 - timetable'!X16","v":0},{"$f":"'OB1 - stage K90 - timetable'!Y16","v":0},{"$f":"'OB1 - stage K90 - timetable'!Z16","v":0},{"$f":"'OB1 - stage K90 - timetable'!AA16","v":0},{"$f":"'OB1 - stage K90 - timetable'!AB16","v":0},{"$f":"'OB1 - stage K90 - timetable'!AC16","v":0},{"$f":"'OB1 - stage K90 - timetable'!AD16","v":0},{"$f":"'OB1 - stage K90 - timetable'!AE16","v":0},{"$f":"'OB1 - stage K90 - timetable'!AF16","v":0},{"$f":"'OB1 - stage K90 - timetable'!AG16","v":0},{"$f":"'OB1 - stage K90 - timetable'!AH16","v":0},{"$f":"'OB1 - stage K90 - timetable'!AI16","v":0},{"$f":"'OB1 - stage K90 - timetable'!AJ16","v":0},{"$f":"'OB1 - stage K90 - timetable'!AK16","v":0},{"$f":"'OB1 - stage K90 - timetable'!AL16","v":0},{"$f":"'OB1 - stage K90 - timetable'!AM16","v":0},{"$f":"'OB1 - stage K90 - timetable'!AN16","v":0},{"$f":"'OB1 - stage K90 - timetable'!AO16","v":0},{"$f":"'OB1 - stage K90 - timetable'!AP16","v":0},{"$f":"'OB1 - stage K90 - timetable'!AQ16","v":0},{"$f":"'OB1 - stage K90 - timetable'!AR16","v":0},{"$f":"'OB1 - stage K90 - timetable'!AS16","v":0},{"$f":"'OB1 - stage K90 - timetable'!AT16","v":0},{"$f":"'OB1 - stage K90 - timetable'!AU16","v":0},{"$f":"'OB1 - stage K90 - timetable'!AV16","v":0},{"$f":"'OB1 - stage K90 - timetable'!AW16","v":0},{"$f":"'OB1 - stage K90 - timetable'!AX16","v":0},{"$f":"'OB1 - stage K90 - timetable'!AY16","v":0},{"$f":"'OB1 - stage K90 - timetable'!AZ16","v":0},{"$f":"'OB1 - stage K90 - timetable'!BA16","v":0},{"$f":"'OB1 - stage K90 - timetable'!BB16","v":0},{"$f":"'OB1 - stage K90 - timetable'!BC16","v":0},{"$f":"'OB1 - stage K90 - timetable'!BD16","v":0},{"$f":"'OB1 - stage K90 - timetable'!BE16","v":0},{"$f":"'OB1 - stage K90 - timetable'!BF16","v":0},{"$f":"'OB1 - stage K90 - timetable'!BG16","v":0},{"$f":"'OB1 - stage K90 - timetable'!BH16","v":0},{"$f":"'OB1 - stage K90 - timetable'!BI16","v":0},{"$f":"'OB1 - stage K90 - timetable'!BJ16","v":0},{"$f":"'OB1 - stage K90 - timetable'!BK16","v":0},{"$f":"'OB1 - stage K90 - timetable'!BL16","v":0}]
[null,"stage K90 - warranty test A","K90","EUR",{"$f":"'OB1 - stage K90 - timetable'!J18","v":0},{"$f":"'OB1 - stage K90 - timetable'!K18","v":0},{"$f":"'OB1 - stage K90 - timetable'!L18","v":0},{"$f":"'OB1 - stage K90 - timetable'!M18","v":0},{"$f":"'OB1 - stage K90 - timetable'!N18","v":0},{"$f":"'OB1 - stage K90 - timetable'!O18","v":0},{"$f":"'OB1 - stage K90 - timetable'!P18","v":0},{"$f":"'OB1 - stage K90 - timetable'!Q18","v":0},{"$f":"'OB1 - stage K90 - timetable'!R18","v":0},{"$f":"'OB1 - stage K90 - timetable'!S18","v":0},{"$f":"'OB1 - stage K90 - timetable'!T18","v":0},{"$f":"'OB1 - stage K90 - timetable'!U18","v":0},{"$f":"'OB1 - stage K90 - timetable'!V18","v":0},{"$f":"'OB1 - stage K90 - timetable'!W18","v":0},{"$f":"'OB1 - stage K90 - timetable'!X18","v":0},{"$f":"'OB1 - stage K90 - timetable'!Y18","v":0},{"$f":"'OB1 - stage K90 - timetable'!Z18","v":0},{"$f":"'OB1 - stage K90 - timetable'!AA18","v":0},{"$f":"'OB1 - stage K90 - timetable'!AB18","v":0},{"$f":"'OB1 - stage K90 - timetable'!AC18","v":0},{"$f":"'OB1 - stage K90 - timetable'!AD18","v":0},{"$f":"'OB1 - stage K90 - timetable'!AE18","v":0},{"$f":"'OB1 - stage K90 - timetable'!AF18","v":0},{"$f":"'OB1 - stage K90 - timetable'!AG18","v":0},{"$f":"'OB1 - stage K90 - timetable'!AH18","v":0},{"$f":"'OB1 - stage K90 - timetable'!AI18","v":0},{"$f":"'OB1 - stage K90 - timetable'!AJ18","v":0},{"$f":"'OB1 - stage K90 - timetable'!AK18","v":0},{"$f":"'OB1 - stage K90 - timetable'!AL18","v":0},{"$f":"'OB1 - stage K90 - timetable'!AM18","v":0},{"$f":"'OB1 - stage K90 - timetable'!AN18","v":0},{"$f":"'OB1 - stage K90 - timetable'!AO18","v":0},{"$f":"'OB1 - stage K90 - timetable'!AP18","v":0},{"$f":"'OB1 - stage K90 - timetable'!AQ18","v":0},{"$f":"'OB1 - stage K90 - timetable'!AR18","v":0},{"$f":"'OB1 - stage K90 - timetable'!AS18","v":0},{"$f":"'OB1 - stage K90 - timetable'!AT18","v":0},{"$f":"'OB1 - stage K90 - timetable'!AU18","v":0},{"$f":"'OB1 - stage K90 - timetable'!AV18","v":0},{"$f":"'OB1 - stage K90 - timetable'!AW18","v":0},{"$f":"'OB1 - stage K90 - timetable'!AX18","v":0},{"$f":"'OB1 - stage K90 - timetable'!AY18","v":0},{"$f":"'OB1 - stage K90 - timetable'!AZ18","v":0},{"$f":"'OB1 - stage K90 - timetable'!BA18","v":0},{"$f":"'OB1 - stage K90 - timetable'!BB18","v":0},{"$f":"'OB1 - stage K90 - timetable'!BC18","v":0},{"$f":"'OB1 - stage K90 - timetable'!BD18","v":0},{"$f":"'OB1 - stage K90 - timetable'!BE18","v":0},{"$f":"'OB1 - stage K90 - timetable'!BF18","v":0},{"$f":"'OB1 - stage K90 - timetable'!BG18","v":0},{"$f":"'OB1 - stage K90 - timetable'!BH18","v":0},{"$f":"'OB1 - stage K90 - timetable'!BI18","v":0},{"$f":"'OB1 - stage K90 - timetable'!BJ18","v":0},{"$f":"'OB1 - stage K90 - timetable'!BK18","v":0},{"$f":"'OB1 - stage K90 - timetable'!BL18","v":0}]
[null,"stage K90 - preliminary acceptance of the PAC work","K90","EUR",{"$f":"'OB1 - stage K90 - timetable'!J20","v":0},{"$f":"'OB1 - stage K90 - timetable'!K20","v":0},{"$f":"'OB1 - stage K90 - timetable'!L20","v":0},{"$f":"'OB1 - stage K90 - timetable'!M20","v":0},{"$f":"'OB1 - stage K90 - timetable'!N20","v":0},{"$f":"'OB1 - stage K90 - timetable'!O20","v":0},{"$f":"'OB1 - stage K90 - timetable'!P20","v":0},{"$f":"'OB1 - stage K90 - timetable'!Q20","v":0},{"$f":"'OB1 - stage K90 - timetable'!R20","v":0},{"$f":"'OB1 - stage K90 - timetable'!S20","v":0},{"$f":"'OB1 - stage K90 - timetable'!T20","v":0},{"$f":"'OB1 - stage K90 - timetable'!U20","v":0},{"$f":"'OB1 - stage K90 - timetable'!V20","v":0},{"$f":"'OB1 - stage K90 - timetable'!W20","v":0},{"$f":"'OB1 - stage K90 - timetable'!X20","v":0},{"$f":"'OB1 - stage K90 - timetable'!Y20","v":0},{"$f":"'OB1 - stage K90 - timetable'!Z20","v":0},{"$f":"'OB1 - stage K90 - timetable'!AA20","v":0},{"$f":"'OB1 - stage K90 - timetable'!AB20","v":0},{"$f":"'OB1 - stage K90 - timetable'!AC20","v":0},{"$f":"'OB1 - stage K90 - timetable'!AD20","v":0},{"$f":"'OB1 - stage K90 - timetable'!AE20","v":0},{"$f":"'OB1 - stage K90 - timetable'!AF20","v":0},{"$f":"'OB1 - stage K90 - timetable'!AG20","v":0},{"$f":"'OB1 - stage K90 - timetable'!AH20","v":0},{"$f":"'OB1 - stage K90 - timetable'!AI20","v":0},{"$f":"'OB1 - stage K90 - timetable'!AJ20","v":0},{"$f":"'OB1 - stage K90 - timetable'!AK20","v":0},{"$f":"'OB1 - stage K90 - timetable'!AL20","v":0},{"$f":"'OB1 - stage K90 - timetable'!AM20","v":0},{"$f":"'OB1 - stage K90 - timetable'!AN20","v":0},{"$f":"'OB1 - stage K90 - timetable'!AO20","v":0},{"$f":"'OB1 - stage K90 - timetable'!AP20","v":0},{"$f":"'OB1 - stage K90 - timetable'!AQ20","v":0},{"$f":"'OB1 - stage K90 - timetable'!AR20","v":0},{"$f":"'OB1 - stage K90 - timetable'!AS20","v":0},{"$f":"'OB1 - stage K90 - timetable'!AT20","v":0},{"$f":"'OB1 - stage K90 - timetable'!AU20","v":0},{"$f":"'OB1 - stage K90 - timetable'!AV20","v":0},{"$f":"'OB1 - stage K90 - timetable'!AW20","v":0},{"$f":"'OB1 - stage K90 - timetable'!AX20","v":0},{"$f":"'OB1 - stage K90 - timetable'!AY20","v":0},{"$f":"'OB1 - stage K90 - timetable'!AZ20","v":0},{"$f":"'OB1 - stage K90 - timetable'!BA20","v":0},{"$f":"'OB1 - stage K90 - timetable'!BB20","v":0},{"$f":"'OB1 - stage K90 - timetable'!BC20","v":0},{"$f":"'OB1 - stage K90 - timetable'!BD20","v":0},{"$f":"'OB1 - stage K90 - timetable'!BE20","v":0},{"$f":"'OB1 - stage K90 - timetable'!BF20","v":0},{"$f":"'OB1 - stage K90 - timetable'!BG20","v":0},{"$f":"'OB1 - stage K90 - timetable'!BH20","v":0},{"$f":"'OB1 - stage K90 - timetable'!BI20","v":0},{"$f":"'OB1 - stage K90 - timetable'!BJ20","v":0},{"$f":"'OB1 - stage K90 - timetable'!BK20","v":0},{"$f":"'OB1 - stage K90 - timetable'!BL20","v":0}]
[null,"stage K90 - final acceptance of the work FAC","K90","EUR",{"$f":"'OB1 - stage K90 - timetable'!J22","v":0},{"$f":"'OB1 - stage K90 - timetable'!K22","v":0},{"$f":"'OB1 - stage K90 - timetable'!L22","v":0},{"$f":"'OB1 - stage K90 - timetable'!M22","v":0},{"$f":"'OB1 - stage K90 - timetable'!N22","v":0},{"$f":"'OB1 - stage K90 - timetable'!O22","v":0},{"$f":"'OB1 - stage K90 - timetable'!P22","v":0},{"$f":"'OB1 - stage K90 - timetable'!Q22","v":0},{"$f":"'OB1 - stage K90 - timetable'!R22","v":0},{"$f":"'OB1 - stage K90 - timetable'!S22","v":0},{"$f":"'OB1 - stage K90 - timetable'!T22","v":0},{"$f":"'OB1 - stage K90 - timetable'!U22","v":0},{"$f":"'OB1 - stage K90 - timetable'!V22","v":0},{"$f":"'OB1 - stage K90 - timetable'!W22","v":0},{"$f":"'OB1 - stage K90 - timetable'!X22","v":0},{"$f":"'OB1 - stage K90 - timetable'!Y22","v":0},{"$f":"'OB1 - stage K90 - timetable'!Z22","v":0},{"$f":"'OB1 - stage K90 - timetable'!AA22","v":0},{"$f":"'OB1 - stage K90 - timetable'!AB22","v":0},{"$f":"'OB1 - stage K90 - timetable'!AC22","v":0},{"$f":"'OB1 - stage K90 - timetable'!AD22","v":0},{"$f":"'OB1 - stage K90 - timetable'!AE22","v":0},{"$f":"'OB1 - stage K90 - timetable'!AF22","v":0},{"$f":"'OB1 - stage K90 - timetable'!AG22","v":0},{"$f":"'OB1 - stage K90 - timetable'!AH22","v":0},{"$f":"'OB1 - stage K90 - timetable'!AI22","v":0},{"$f":"'OB1 - stage K90 - timetable'!AJ22","v":0},{"$f":"'OB1 - stage K90 - timetable'!AK22","v":0},{"$f":"'OB1 - stage K90 - timetable'!AL22","v":0},{"$f":"'OB1 - stage K90 - timetable'!AM22","v":0},{"$f":"'OB1 - stage K90 - timetable'!AN22","v":0},{"$f":"'OB1 - stage K90 - timetable'!AO22","v":0},{"$f":"'OB1 - stage K90 - timetable'!AP22","v":0},{"$f":"'OB1 - stage K90 - timetable'!AQ22","v":0},{"$f":"'OB1 - stage K90 - timetable'!AR22","v":0},{"$f":"'OB1 - stage K90 - timetable'!AS22","v":0},{"$f":"'OB1 - stage K90 - timetable'!AT22","v":0},{"$f":"'OB1 - stage K90 - timetable'!AU22","v":0},{"$f":"'OB1 - stage K90 - timetable'!AV22","v":0},{"$f":"'OB1 - stage K90 - timetable'!AW22","v":0},{"$f":"'OB1 - stage K90 - timetable'!AX22","v":0},{"$f":"'OB1 - stage K90 - timetable'!AY22","v":0},{"$f":"'OB1 - stage K90 - timetable'!AZ22","v":0},{"$f":"'OB1 - stage K90 - timetable'!BA22","v":0},{"$f":"'OB1 - stage K90 - timetable'!BB22","v":0},{"$f":"'OB1 - stage K90 - timetable'!BC22","v":0},{"$f":"'OB1 - stage K90 - timetable'!BD22","v":0},{"$f":"'OB1 - stage K90 - timetable'!BE22","v":0},{"$f":"'OB1 - stage K90 - timetable'!BF22","v":0},{"$f":"'OB1 - stage K90 - timetable'!BG22","v":0},{"$f":"'OB1 - stage K90 - timetable'!BH22","v":0},{"$f":"'OB1 - stage K90 - timetable'!BI22","v":0},{"$f":"'OB1 - stage K90 - timetable'!BJ22","v":0},{"$f":"'OB1 - stage K90 - timetable'!BK22","v":0},{"$f":"'OB1 - stage K90 - timetable'!BL22","v":0}]
[]
[null,"partial prices by month",null,null,{"$f":"SUM(E7:E38)","v":0},0,0,0,0,0,0,0,0,0,0,0,0,0,0,0,0,0,0,0,0,0,0,0,0,0,0,0,0,0,0,0,0,0,0,0,0,0,0,0,0,0,0,0,0,0,0,0,0,0,0,0,0,0,0]
[null,"total price",null,null,{"$f":"SUM(E40:BG40)","v":0}]
[]
[null,"Note"]
[null,"The contractor shall not fill in any values on this sheet. Values are transferred to the table from the previous sheets."]
[null,"Vstupní technická jednání "]
[null,"Závazné technické parametry pro OB 6 (Stavba) "]
[null,"Závazné technické parametry pro OB 1 (Palivové hospodářství) "]
["e","Závazné technické parametry pro ostatní OB, pro ostatní dodavatele technologických celků"]
[null,"Odsouhlasená prováděcí dokumentace pro nový kotel K20"]
[null,"Předání a převzetí staveniště pro K20"]
[null,"neobsazeno"]
[null,"Kotelna K20 - vlastní kotel včetně všech komponentů"]
[null,"Kotelna K20 - provozní zásobníky paliva včetně dopravy štěpky do kotle"]
[null,"Kotelna K20 - ventilátory (vzduchové, spalinové, recirkulační) včetně vnitřních spalinovodů"]
[null,"Kotelna K20 - tkaninový filtr"]
[null,"Kotelna K20 - technologie DSI"]
[null,"Kotelna K20 - popelové hospodářství"]
[null,"Kotelna K20 - elektroinstalace"]
[null,"Kotelna K20 - ASŘ"]
[null,"Kotelna K20 - kompresorová stanice"]
[null,"Kotelna K20 - připojení médií"]
[null,"Kotelna K20 - venkovní rozvody spalinovodů včetně napojení na komín"]
[null,"Kotelna K20 - venkovní konstrukce potrubního mostu (připojení popelového hospodářství a SNCR)"]
[null,"Kotelna K20 - opláštění a zastřešení, dokončení všech stavebních činností"]
[null,"Kotelna K20 - další výše nevyjmenované položky"]
[null,"Kotelna K20 - dokončení stavebních prací"]
[null,"Kotelna K20 - ukončení montážních prací"]
[null,"Kotelna K20 - školení zaměstnanců provozu"]
[null,"Kotelna K20 - příprava ke kompexnímu vyzkoušení"]
[null,"Kotelna K20 - komplexní vyzkoušení"]
[null,"Kotelna K20 - zkušební provoz"]
[null,"Kotelna K20 - garanční test A"]
[null,"Kotelna K20 - předběžné převzetí díla PAC"]
[null,"Kotelna K20 - garanční test B"]
[null,"Kotelna K20 - finální převzetí díla FAC"]